BEGIN:VCALENDAR
VERSION:2.0
PRODID:-//Tyholmen Frivilligsentral - ECPv6.15.18//NONSGML v1.0//EN
CALSCALE:GREGORIAN
METHOD:PUBLISH
X-WR-CALNAME:Tyholmen Frivilligsentral
X-ORIGINAL-URL:https://tyholmenfrivilligsentral.no
X-WR-CALDESC:Arrangement for Tyholmen Frivilligsentral
REFRESH-INTERVAL;VALUE=DURATION:PT1H
X-Robots-Tag:noindex
X-PUBLISHED-TTL:PT1H
BEGIN:VTIMEZONE
TZID:Europe/Oslo
BEGIN:DAYLIGHT
TZOFFSETFROM:+0100
TZOFFSETTO:+0200
TZNAME:CEST
DTSTART:20240331T010000
END:DAYLIGHT
BEGIN:STANDARD
TZOFFSETFROM:+0200
TZOFFSETTO:+0100
TZNAME:CET
DTSTART:20241027T010000
END:STANDARD
BEGIN:DAYLIGHT
TZOFFSETFROM:+0100
TZOFFSETTO:+0200
TZNAME:CEST
DTSTART:20250330T010000
END:DAYLIGHT
BEGIN:STANDARD
TZOFFSETFROM:+0200
TZOFFSETTO:+0100
TZNAME:CET
DTSTART:20251026T010000
END:STANDARD
BEGIN:DAYLIGHT
TZOFFSETFROM:+0100
TZOFFSETTO:+0200
TZNAME:CEST
DTSTART:20260329T010000
END:DAYLIGHT
BEGIN:STANDARD
TZOFFSETFROM:+0200
TZOFFSETTO:+0100
TZNAME:CET
DTSTART:20261025T010000
END:STANDARD
END:VTIMEZONE
BEGIN:VEVENT
DTSTART;TZID=Europe/Oslo:20250331T120000
DTEND;TZID=Europe/Oslo:20250331T140000
DTSTAMP:20260423T002541
CREATED:20250319T212438Z
LAST-MODIFIED:20250319T212438Z
UID:10002195-1743422400-1743429600@tyholmenfrivilligsentral.no
SUMMARY:🎳 Seniorbowling – Moro\, bevegelse og godt selskap! 🤩
DESCRIPTION:Bli med på Seniorbowling – en morsom og sosial aktivitet for eldre og pensjonister! Her kombinerer vi lett fysisk aktivitet med hyggelig samvær. 🎉 \n📅 Når: Hver mandag kl. 12:00📍 Hvor: Bowlinghallen v/kinoen – bare møt opp! \nBowling er en flott treningsform for eldre! 🎳 Det gir bedre balanse\, styrker musklene\, forbedrer koordinasjonen og holder deg aktiv på en skånsom måte. I tillegg er det en sosial aktivitet hvor vi ler\, heier på hverandre og nyter en hyggelig stund sammen. \nIngen forkunnskaper trengs – alle kan være med! Kom alene eller ta med en venn\, og opplev gleden ved et godt treff! 💛 Velkommen! 🎳😊
URL:https://tyholmenfrivilligsentral.no/aktivitet/%f0%9f%8e%b3-seniorbowling-moro-bevegelse-og-godt-selskap-%f0%9f%a4%a9/2025-03-31/
LOCATION:Arendal Bowling\, Friergangen 4\, Arendal\, Agder\, 4836
CATEGORIES:2025
ATTACH;FMTTYPE=image/jpeg:https://tyholmenfrivilligsentral.no/wp-content/uploads/2025/03/lag-tegning-av-seniorbowling.jpg
END:VEVENT
BEGIN:VEVENT
DTSTART;TZID=Europe/Oslo:20250324T120000
DTEND;TZID=Europe/Oslo:20250324T140000
DTSTAMP:20260423T002541
CREATED:20250319T212438Z
LAST-MODIFIED:20250319T212438Z
UID:10002194-1742817600-1742824800@tyholmenfrivilligsentral.no
SUMMARY:🎳 Seniorbowling – Moro\, bevegelse og godt selskap! 🤩
DESCRIPTION:Bli med på Seniorbowling – en morsom og sosial aktivitet for eldre og pensjonister! Her kombinerer vi lett fysisk aktivitet med hyggelig samvær. 🎉 \n📅 Når: Hver mandag kl. 12:00📍 Hvor: Bowlinghallen v/kinoen – bare møt opp! \nBowling er en flott treningsform for eldre! 🎳 Det gir bedre balanse\, styrker musklene\, forbedrer koordinasjonen og holder deg aktiv på en skånsom måte. I tillegg er det en sosial aktivitet hvor vi ler\, heier på hverandre og nyter en hyggelig stund sammen. \nIngen forkunnskaper trengs – alle kan være med! Kom alene eller ta med en venn\, og opplev gleden ved et godt treff! 💛 Velkommen! 🎳😊
URL:https://tyholmenfrivilligsentral.no/aktivitet/%f0%9f%8e%b3-seniorbowling-moro-bevegelse-og-godt-selskap-%f0%9f%a4%a9/2025-03-24/
LOCATION:Arendal Bowling\, Friergangen 4\, Arendal\, Agder\, 4836
CATEGORIES:2025
ATTACH;FMTTYPE=image/jpeg:https://tyholmenfrivilligsentral.no/wp-content/uploads/2025/03/lag-tegning-av-seniorbowling.jpg
END:VEVENT
BEGIN:VEVENT
DTSTART;TZID=Europe/Oslo:20250317T120000
DTEND;TZID=Europe/Oslo:20250317T140000
DTSTAMP:20260423T002541
CREATED:20250319T212438Z
LAST-MODIFIED:20250319T212438Z
UID:10002193-1742212800-1742220000@tyholmenfrivilligsentral.no
SUMMARY:🎳 Seniorbowling – Moro\, bevegelse og godt selskap! 🤩
DESCRIPTION:Bli med på Seniorbowling – en morsom og sosial aktivitet for eldre og pensjonister! Her kombinerer vi lett fysisk aktivitet med hyggelig samvær. 🎉 \n📅 Når: Hver mandag kl. 12:00📍 Hvor: Bowlinghallen v/kinoen – bare møt opp! \nBowling er en flott treningsform for eldre! 🎳 Det gir bedre balanse\, styrker musklene\, forbedrer koordinasjonen og holder deg aktiv på en skånsom måte. I tillegg er det en sosial aktivitet hvor vi ler\, heier på hverandre og nyter en hyggelig stund sammen. \nIngen forkunnskaper trengs – alle kan være med! Kom alene eller ta med en venn\, og opplev gleden ved et godt treff! 💛 Velkommen! 🎳😊
URL:https://tyholmenfrivilligsentral.no/aktivitet/%f0%9f%8e%b3-seniorbowling-moro-bevegelse-og-godt-selskap-%f0%9f%a4%a9/2025-03-17/
LOCATION:Arendal Bowling\, Friergangen 4\, Arendal\, Agder\, 4836
CATEGORIES:2025
ATTACH;FMTTYPE=image/jpeg:https://tyholmenfrivilligsentral.no/wp-content/uploads/2025/03/lag-tegning-av-seniorbowling.jpg
END:VEVENT
BEGIN:VEVENT
DTSTART;TZID=Europe/Oslo:20250310T120000
DTEND;TZID=Europe/Oslo:20250310T140000
DTSTAMP:20260423T002541
CREATED:20250319T212438Z
LAST-MODIFIED:20250319T212438Z
UID:10002192-1741608000-1741615200@tyholmenfrivilligsentral.no
SUMMARY:🎳 Seniorbowling – Moro\, bevegelse og godt selskap! 🤩
DESCRIPTION:Bli med på Seniorbowling – en morsom og sosial aktivitet for eldre og pensjonister! Her kombinerer vi lett fysisk aktivitet med hyggelig samvær. 🎉 \n📅 Når: Hver mandag kl. 12:00📍 Hvor: Bowlinghallen v/kinoen – bare møt opp! \nBowling er en flott treningsform for eldre! 🎳 Det gir bedre balanse\, styrker musklene\, forbedrer koordinasjonen og holder deg aktiv på en skånsom måte. I tillegg er det en sosial aktivitet hvor vi ler\, heier på hverandre og nyter en hyggelig stund sammen. \nIngen forkunnskaper trengs – alle kan være med! Kom alene eller ta med en venn\, og opplev gleden ved et godt treff! 💛 Velkommen! 🎳😊
URL:https://tyholmenfrivilligsentral.no/aktivitet/%f0%9f%8e%b3-seniorbowling-moro-bevegelse-og-godt-selskap-%f0%9f%a4%a9/2025-03-10/
LOCATION:Arendal Bowling\, Friergangen 4\, Arendal\, Agder\, 4836
CATEGORIES:2025
ATTACH;FMTTYPE=image/jpeg:https://tyholmenfrivilligsentral.no/wp-content/uploads/2025/03/lag-tegning-av-seniorbowling.jpg
END:VEVENT
BEGIN:VEVENT
DTSTART;TZID=Europe/Oslo:20250303T120000
DTEND;TZID=Europe/Oslo:20250303T140000
DTSTAMP:20260423T002541
CREATED:20250319T212438Z
LAST-MODIFIED:20250319T212438Z
UID:10002191-1741003200-1741010400@tyholmenfrivilligsentral.no
SUMMARY:🎳 Seniorbowling – Moro\, bevegelse og godt selskap! 🤩
DESCRIPTION:Bli med på Seniorbowling – en morsom og sosial aktivitet for eldre og pensjonister! Her kombinerer vi lett fysisk aktivitet med hyggelig samvær. 🎉 \n📅 Når: Hver mandag kl. 12:00📍 Hvor: Bowlinghallen v/kinoen – bare møt opp! \nBowling er en flott treningsform for eldre! 🎳 Det gir bedre balanse\, styrker musklene\, forbedrer koordinasjonen og holder deg aktiv på en skånsom måte. I tillegg er det en sosial aktivitet hvor vi ler\, heier på hverandre og nyter en hyggelig stund sammen. \nIngen forkunnskaper trengs – alle kan være med! Kom alene eller ta med en venn\, og opplev gleden ved et godt treff! 💛 Velkommen! 🎳😊
URL:https://tyholmenfrivilligsentral.no/aktivitet/%f0%9f%8e%b3-seniorbowling-moro-bevegelse-og-godt-selskap-%f0%9f%a4%a9/2025-03-03/
LOCATION:Arendal Bowling\, Friergangen 4\, Arendal\, Agder\, 4836
CATEGORIES:2025
ATTACH;FMTTYPE=image/jpeg:https://tyholmenfrivilligsentral.no/wp-content/uploads/2025/03/lag-tegning-av-seniorbowling.jpg
END:VEVENT
BEGIN:VEVENT
DTSTART;TZID=Europe/Oslo:20250224T120000
DTEND;TZID=Europe/Oslo:20250224T140000
DTSTAMP:20260423T002541
CREATED:20250319T212438Z
LAST-MODIFIED:20250319T212438Z
UID:10002190-1740398400-1740405600@tyholmenfrivilligsentral.no
SUMMARY:🎳 Seniorbowling – Moro\, bevegelse og godt selskap! 🤩
DESCRIPTION:Bli med på Seniorbowling – en morsom og sosial aktivitet for eldre og pensjonister! Her kombinerer vi lett fysisk aktivitet med hyggelig samvær. 🎉 \n📅 Når: Hver mandag kl. 12:00📍 Hvor: Bowlinghallen v/kinoen – bare møt opp! \nBowling er en flott treningsform for eldre! 🎳 Det gir bedre balanse\, styrker musklene\, forbedrer koordinasjonen og holder deg aktiv på en skånsom måte. I tillegg er det en sosial aktivitet hvor vi ler\, heier på hverandre og nyter en hyggelig stund sammen. \nIngen forkunnskaper trengs – alle kan være med! Kom alene eller ta med en venn\, og opplev gleden ved et godt treff! 💛 Velkommen! 🎳😊
URL:https://tyholmenfrivilligsentral.no/aktivitet/%f0%9f%8e%b3-seniorbowling-moro-bevegelse-og-godt-selskap-%f0%9f%a4%a9/2025-02-24/
LOCATION:Arendal Bowling\, Friergangen 4\, Arendal\, Agder\, 4836
CATEGORIES:2025
ATTACH;FMTTYPE=image/jpeg:https://tyholmenfrivilligsentral.no/wp-content/uploads/2025/03/lag-tegning-av-seniorbowling.jpg
END:VEVENT
BEGIN:VEVENT
DTSTART;TZID=Europe/Oslo:20250217T120000
DTEND;TZID=Europe/Oslo:20250217T140000
DTSTAMP:20260423T002541
CREATED:20250319T212438Z
LAST-MODIFIED:20250319T212438Z
UID:10002189-1739793600-1739800800@tyholmenfrivilligsentral.no
SUMMARY:🎳 Seniorbowling – Moro\, bevegelse og godt selskap! 🤩
DESCRIPTION:Bli med på Seniorbowling – en morsom og sosial aktivitet for eldre og pensjonister! Her kombinerer vi lett fysisk aktivitet med hyggelig samvær. 🎉 \n📅 Når: Hver mandag kl. 12:00📍 Hvor: Bowlinghallen v/kinoen – bare møt opp! \nBowling er en flott treningsform for eldre! 🎳 Det gir bedre balanse\, styrker musklene\, forbedrer koordinasjonen og holder deg aktiv på en skånsom måte. I tillegg er det en sosial aktivitet hvor vi ler\, heier på hverandre og nyter en hyggelig stund sammen. \nIngen forkunnskaper trengs – alle kan være med! Kom alene eller ta med en venn\, og opplev gleden ved et godt treff! 💛 Velkommen! 🎳😊
URL:https://tyholmenfrivilligsentral.no/aktivitet/%f0%9f%8e%b3-seniorbowling-moro-bevegelse-og-godt-selskap-%f0%9f%a4%a9/2025-02-17/
LOCATION:Arendal Bowling\, Friergangen 4\, Arendal\, Agder\, 4836
CATEGORIES:2025
ATTACH;FMTTYPE=image/jpeg:https://tyholmenfrivilligsentral.no/wp-content/uploads/2025/03/lag-tegning-av-seniorbowling.jpg
END:VEVENT
BEGIN:VEVENT
DTSTART;TZID=Europe/Oslo:20250210T120000
DTEND;TZID=Europe/Oslo:20250210T140000
DTSTAMP:20260423T002541
CREATED:20250319T212438Z
LAST-MODIFIED:20250319T212438Z
UID:10002188-1739188800-1739196000@tyholmenfrivilligsentral.no
SUMMARY:🎳 Seniorbowling – Moro\, bevegelse og godt selskap! 🤩
DESCRIPTION:Bli med på Seniorbowling – en morsom og sosial aktivitet for eldre og pensjonister! Her kombinerer vi lett fysisk aktivitet med hyggelig samvær. 🎉 \n📅 Når: Hver mandag kl. 12:00📍 Hvor: Bowlinghallen v/kinoen – bare møt opp! \nBowling er en flott treningsform for eldre! 🎳 Det gir bedre balanse\, styrker musklene\, forbedrer koordinasjonen og holder deg aktiv på en skånsom måte. I tillegg er det en sosial aktivitet hvor vi ler\, heier på hverandre og nyter en hyggelig stund sammen. \nIngen forkunnskaper trengs – alle kan være med! Kom alene eller ta med en venn\, og opplev gleden ved et godt treff! 💛 Velkommen! 🎳😊
URL:https://tyholmenfrivilligsentral.no/aktivitet/%f0%9f%8e%b3-seniorbowling-moro-bevegelse-og-godt-selskap-%f0%9f%a4%a9/2025-02-10/
LOCATION:Arendal Bowling\, Friergangen 4\, Arendal\, Agder\, 4836
CATEGORIES:2025
ATTACH;FMTTYPE=image/jpeg:https://tyholmenfrivilligsentral.no/wp-content/uploads/2025/03/lag-tegning-av-seniorbowling.jpg
END:VEVENT
BEGIN:VEVENT
DTSTART;TZID=Europe/Oslo:20250203T120000
DTEND;TZID=Europe/Oslo:20250203T140000
DTSTAMP:20260423T002541
CREATED:20250319T212438Z
LAST-MODIFIED:20250319T212438Z
UID:10002187-1738584000-1738591200@tyholmenfrivilligsentral.no
SUMMARY:🎳 Seniorbowling – Moro\, bevegelse og godt selskap! 🤩
DESCRIPTION:Bli med på Seniorbowling – en morsom og sosial aktivitet for eldre og pensjonister! Her kombinerer vi lett fysisk aktivitet med hyggelig samvær. 🎉 \n📅 Når: Hver mandag kl. 12:00📍 Hvor: Bowlinghallen v/kinoen – bare møt opp! \nBowling er en flott treningsform for eldre! 🎳 Det gir bedre balanse\, styrker musklene\, forbedrer koordinasjonen og holder deg aktiv på en skånsom måte. I tillegg er det en sosial aktivitet hvor vi ler\, heier på hverandre og nyter en hyggelig stund sammen. \nIngen forkunnskaper trengs – alle kan være med! Kom alene eller ta med en venn\, og opplev gleden ved et godt treff! 💛 Velkommen! 🎳😊
URL:https://tyholmenfrivilligsentral.no/aktivitet/%f0%9f%8e%b3-seniorbowling-moro-bevegelse-og-godt-selskap-%f0%9f%a4%a9/2025-02-03/
LOCATION:Arendal Bowling\, Friergangen 4\, Arendal\, Agder\, 4836
CATEGORIES:2025
ATTACH;FMTTYPE=image/jpeg:https://tyholmenfrivilligsentral.no/wp-content/uploads/2025/03/lag-tegning-av-seniorbowling.jpg
END:VEVENT
BEGIN:VEVENT
DTSTART;TZID=Europe/Oslo:20250127T120000
DTEND;TZID=Europe/Oslo:20250127T140000
DTSTAMP:20260423T002541
CREATED:20250319T212438Z
LAST-MODIFIED:20250319T212438Z
UID:10002186-1737979200-1737986400@tyholmenfrivilligsentral.no
SUMMARY:🎳 Seniorbowling – Moro\, bevegelse og godt selskap! 🤩
DESCRIPTION:Bli med på Seniorbowling – en morsom og sosial aktivitet for eldre og pensjonister! Her kombinerer vi lett fysisk aktivitet med hyggelig samvær. 🎉 \n📅 Når: Hver mandag kl. 12:00📍 Hvor: Bowlinghallen v/kinoen – bare møt opp! \nBowling er en flott treningsform for eldre! 🎳 Det gir bedre balanse\, styrker musklene\, forbedrer koordinasjonen og holder deg aktiv på en skånsom måte. I tillegg er det en sosial aktivitet hvor vi ler\, heier på hverandre og nyter en hyggelig stund sammen. \nIngen forkunnskaper trengs – alle kan være med! Kom alene eller ta med en venn\, og opplev gleden ved et godt treff! 💛 Velkommen! 🎳😊
URL:https://tyholmenfrivilligsentral.no/aktivitet/%f0%9f%8e%b3-seniorbowling-moro-bevegelse-og-godt-selskap-%f0%9f%a4%a9/2025-01-27/
LOCATION:Arendal Bowling\, Friergangen 4\, Arendal\, Agder\, 4836
CATEGORIES:2025
ATTACH;FMTTYPE=image/jpeg:https://tyholmenfrivilligsentral.no/wp-content/uploads/2025/03/lag-tegning-av-seniorbowling.jpg
END:VEVENT
BEGIN:VEVENT
DTSTART;TZID=Europe/Oslo:20250120T120000
DTEND;TZID=Europe/Oslo:20250120T140000
DTSTAMP:20260423T002541
CREATED:20250319T212438Z
LAST-MODIFIED:20250319T212438Z
UID:10002185-1737374400-1737381600@tyholmenfrivilligsentral.no
SUMMARY:🎳 Seniorbowling – Moro\, bevegelse og godt selskap! 🤩
DESCRIPTION:Bli med på Seniorbowling – en morsom og sosial aktivitet for eldre og pensjonister! Her kombinerer vi lett fysisk aktivitet med hyggelig samvær. 🎉 \n📅 Når: Hver mandag kl. 12:00📍 Hvor: Bowlinghallen v/kinoen – bare møt opp! \nBowling er en flott treningsform for eldre! 🎳 Det gir bedre balanse\, styrker musklene\, forbedrer koordinasjonen og holder deg aktiv på en skånsom måte. I tillegg er det en sosial aktivitet hvor vi ler\, heier på hverandre og nyter en hyggelig stund sammen. \nIngen forkunnskaper trengs – alle kan være med! Kom alene eller ta med en venn\, og opplev gleden ved et godt treff! 💛 Velkommen! 🎳😊
URL:https://tyholmenfrivilligsentral.no/aktivitet/%f0%9f%8e%b3-seniorbowling-moro-bevegelse-og-godt-selskap-%f0%9f%a4%a9/2025-01-20/
LOCATION:Arendal Bowling\, Friergangen 4\, Arendal\, Agder\, 4836
CATEGORIES:2025
ATTACH;FMTTYPE=image/jpeg:https://tyholmenfrivilligsentral.no/wp-content/uploads/2025/03/lag-tegning-av-seniorbowling.jpg
END:VEVENT
BEGIN:VEVENT
DTSTART;TZID=Europe/Oslo:20250113T120000
DTEND;TZID=Europe/Oslo:20250113T140000
DTSTAMP:20260423T002541
CREATED:20250319T212438Z
LAST-MODIFIED:20250319T212438Z
UID:10002184-1736769600-1736776800@tyholmenfrivilligsentral.no
SUMMARY:🎳 Seniorbowling – Moro\, bevegelse og godt selskap! 🤩
DESCRIPTION:Bli med på Seniorbowling – en morsom og sosial aktivitet for eldre og pensjonister! Her kombinerer vi lett fysisk aktivitet med hyggelig samvær. 🎉 \n📅 Når: Hver mandag kl. 12:00📍 Hvor: Bowlinghallen v/kinoen – bare møt opp! \nBowling er en flott treningsform for eldre! 🎳 Det gir bedre balanse\, styrker musklene\, forbedrer koordinasjonen og holder deg aktiv på en skånsom måte. I tillegg er det en sosial aktivitet hvor vi ler\, heier på hverandre og nyter en hyggelig stund sammen. \nIngen forkunnskaper trengs – alle kan være med! Kom alene eller ta med en venn\, og opplev gleden ved et godt treff! 💛 Velkommen! 🎳😊
URL:https://tyholmenfrivilligsentral.no/aktivitet/%f0%9f%8e%b3-seniorbowling-moro-bevegelse-og-godt-selskap-%f0%9f%a4%a9/2025-01-13/
LOCATION:Arendal Bowling\, Friergangen 4\, Arendal\, Agder\, 4836
CATEGORIES:2025
ATTACH;FMTTYPE=image/jpeg:https://tyholmenfrivilligsentral.no/wp-content/uploads/2025/03/lag-tegning-av-seniorbowling.jpg
END:VEVENT
BEGIN:VEVENT
DTSTART;TZID=Europe/Oslo:20250106T120000
DTEND;TZID=Europe/Oslo:20250106T140000
DTSTAMP:20260423T002541
CREATED:20250319T212438Z
LAST-MODIFIED:20250319T212438Z
UID:10002183-1736164800-1736172000@tyholmenfrivilligsentral.no
SUMMARY:🎳 Seniorbowling – Moro\, bevegelse og godt selskap! 🤩
DESCRIPTION:Bli med på Seniorbowling – en morsom og sosial aktivitet for eldre og pensjonister! Her kombinerer vi lett fysisk aktivitet med hyggelig samvær. 🎉 \n📅 Når: Hver mandag kl. 12:00📍 Hvor: Bowlinghallen v/kinoen – bare møt opp! \nBowling er en flott treningsform for eldre! 🎳 Det gir bedre balanse\, styrker musklene\, forbedrer koordinasjonen og holder deg aktiv på en skånsom måte. I tillegg er det en sosial aktivitet hvor vi ler\, heier på hverandre og nyter en hyggelig stund sammen. \nIngen forkunnskaper trengs – alle kan være med! Kom alene eller ta med en venn\, og opplev gleden ved et godt treff! 💛 Velkommen! 🎳😊
URL:https://tyholmenfrivilligsentral.no/aktivitet/%f0%9f%8e%b3-seniorbowling-moro-bevegelse-og-godt-selskap-%f0%9f%a4%a9/2025-01-06/
LOCATION:Arendal Bowling\, Friergangen 4\, Arendal\, Agder\, 4836
CATEGORIES:2025
ATTACH;FMTTYPE=image/jpeg:https://tyholmenfrivilligsentral.no/wp-content/uploads/2025/03/lag-tegning-av-seniorbowling.jpg
END:VEVENT
END:VCALENDAR