BEGIN:VCALENDAR
VERSION:2.0
PRODID:-//Tyholmen Frivilligsentral - ECPv6.15.18//NONSGML v1.0//EN
CALSCALE:GREGORIAN
METHOD:PUBLISH
X-ORIGINAL-URL:https://tyholmenfrivilligsentral.no
X-WR-CALDESC:Arrangement for Tyholmen Frivilligsentral
REFRESH-INTERVAL;VALUE=DURATION:PT1H
X-Robots-Tag:noindex
X-PUBLISHED-TTL:PT1H
BEGIN:VTIMEZONE
TZID:Europe/Oslo
BEGIN:DAYLIGHT
TZOFFSETFROM:+0100
TZOFFSETTO:+0200
TZNAME:CEST
DTSTART:20240331T010000
END:DAYLIGHT
BEGIN:STANDARD
TZOFFSETFROM:+0200
TZOFFSETTO:+0100
TZNAME:CET
DTSTART:20241027T010000
END:STANDARD
BEGIN:DAYLIGHT
TZOFFSETFROM:+0100
TZOFFSETTO:+0200
TZNAME:CEST
DTSTART:20250330T010000
END:DAYLIGHT
BEGIN:STANDARD
TZOFFSETFROM:+0200
TZOFFSETTO:+0100
TZNAME:CET
DTSTART:20251026T010000
END:STANDARD
BEGIN:DAYLIGHT
TZOFFSETFROM:+0100
TZOFFSETTO:+0200
TZNAME:CEST
DTSTART:20260329T010000
END:DAYLIGHT
BEGIN:STANDARD
TZOFFSETFROM:+0200
TZOFFSETTO:+0100
TZNAME:CET
DTSTART:20261025T010000
END:STANDARD
END:VTIMEZONE
BEGIN:VEVENT
DTSTART;TZID=Europe/Oslo:20250402T120000
DTEND;TZID=Europe/Oslo:20250402T140000
DTSTAMP:20260419T202155
CREATED:20250319T213758Z
LAST-MODIFIED:20250319T213758Z
UID:10002460-1743595200-1743602400@tyholmenfrivilligsentral.no
SUMMARY:🚶‍♂️ Spasertur på Hove – Frisk luft\, bevegelse og hyggelig selskap! 🌿
DESCRIPTION:Bli med på en herlig spasertur på Hove hver onsdag kl. 12:00! I regi av LHL inviterer vi alle eldre og pensjonister til en sosial og helsebringende gåtur i vakre omgivelser. 💛 \n📅 Når: Hver onsdag kl. 12:00📍 Hvor: Hove\, Tromøya – bare møt opp! \nHove ligger på Tromøya utenfor Arendal og byr på fantastiske turstier langs sjøen\, gjennom skog og over åpne svaberg. Her kan du nyte den friske havluften\, høre bølgene slå og la naturen gi deg energi. 🌊🌲 \nÅ gå tur er en av de beste måtene å holde seg aktiv på som eldre! 🚶‍♀️ Det styrker hjertet\, leddene og balansen – og ikke minst\, det er en flott mulighet til å møte nye mennesker og ha gode samtaler underveis. \nKom alene eller ta med en venn – vi går i et rolig tempo så alle kan være med! Velkommen til en deilig tur i naturskjønne omgivelser! 🌞💚
URL:https://tyholmenfrivilligsentral.no/aktivitet/%f0%9f%9a%b6%e2%99%82%ef%b8%8f-spasertur-pa-hove-frisk-luft-bevegelse-og-hyggelig-selskap-%f0%9f%8c%bf/2025-04-02/
LOCATION:Hove
CATEGORIES:2025
ATTACH;FMTTYPE=image/jpeg:https://tyholmenfrivilligsentral.no/wp-content/uploads/2025/03/spasertur-langs-kysten.jpg
END:VEVENT
BEGIN:VEVENT
DTSTART;TZID=Europe/Oslo:20250403T103000
DTEND;TZID=Europe/Oslo:20250403T113000
DTSTAMP:20260419T202155
CREATED:20250402T080754Z
LAST-MODIFIED:20251013T082740Z
UID:10004391-1743676200-1743679800@tyholmenfrivilligsentral.no
SUMMARY:💪✨ Elrobic – Trening for Eldre ✨💪
DESCRIPTION:💪✨ Elrobic – Trening for Eldre ✨💪 \n📅 Hver torsdag kl. 10:30\n📍 Kulturkammeret \nBli med på Elrobic – en morsom og tilpasset treningsøkt som gir deg energi\, styrke og balanse! Vårt fokus er på å holde kroppen aktiv og sterk\, uansett alder eller form. \nTrening er ikke bare godt for kroppen\, men også for humøret og livskvaliteten. Å bevege seg regelmessig kan bidra til bedre helse\, økt selvstendighet og et mer sosialt og aktivt liv. \nKom som du er – vi gleder oss til å trene sammen med deg! 🌟😊
URL:https://tyholmenfrivilligsentral.no/aktivitet/%f0%9f%92%aa%e2%9c%a8-elrobic-trening-for-eldre-%e2%9c%a8%f0%9f%92%aa/2025-04-03/
LOCATION:Kulturkammeret\, Kirkegaten 2B\, Arendal\, Agder\, 4836
CATEGORIES:2025
ATTACH;FMTTYPE=image/jpeg:https://tyholmenfrivilligsentral.no/wp-content/uploads/2025/04/to-glade-pensjonister.jpg
END:VEVENT
BEGIN:VEVENT
DTSTART;TZID=Europe/Oslo:20250403T120000
DTEND;TZID=Europe/Oslo:20250403T130000
DTSTAMP:20260419T202155
CREATED:20250402T075334Z
LAST-MODIFIED:20250402T081326Z
UID:10003256-1743681600-1743685200@tyholmenfrivilligsentral.no
SUMMARY:💪 Sterk og Stødig – Tren for en sterkere hverdag! Påmelding🤸‍♂️
DESCRIPTION:Vil du holde deg sterk\, stødig og aktiv lenger? Sterk og Stødig er en ukentlig treningsøkt spesielt tilpasset eldre og pensjonister! 🌟 \n📅 Når: Hver torsdag kl. 12:00 og mandag kl 14:30📍 Hvor: Kulturkammeret🎟️ Åpent for alle eldre og pensjonister! \nStyrketrening er viktig når man blir eldre – det bidrar til bedre balanse\, økt muskelstyrke og reduserer risikoen for fall. Med enkle øvelser styrker vi kroppen\, holder leddene myke og bevarer selvstendigheten i hverdagen. \nBli med i et trygt og hyggelig treningsmiljø hvor du trener i ditt eget tempo! 🤗💛 Kom alene eller ta med en venn\, men meld deg på først. For påmelding\, ring Frisklivsentralen for avklaring. Telefonnr. 990 97 498 – sammen blir vi sterke og stødige! 💪✨
URL:https://tyholmenfrivilligsentral.no/aktivitet/%f0%9f%92%aa-sterk-og-stodig-tren-for-en-sterkere-hverdag-pamelding%f0%9f%a4%b8%e2%99%82%ef%b8%8f-2/2025-04-03/
LOCATION:Kulturkammeret\, Kirkegaten 2B\, Arendal\, Agder\, 4836
CATEGORIES:2025
ATTACH;FMTTYPE=image/jpeg:https://tyholmenfrivilligsentral.no/wp-content/uploads/2025/04/tre-glade-norske-pensjonister.jpg
END:VEVENT
BEGIN:VEVENT
DTSTART;TZID=Europe/Oslo:20250407T120000
DTEND;TZID=Europe/Oslo:20250407T140000
DTSTAMP:20260419T202155
CREATED:20250319T212438Z
LAST-MODIFIED:20250319T212438Z
UID:10002196-1744027200-1744034400@tyholmenfrivilligsentral.no
SUMMARY:🎳 Seniorbowling – Moro\, bevegelse og godt selskap! 🤩
DESCRIPTION:Bli med på Seniorbowling – en morsom og sosial aktivitet for eldre og pensjonister! Her kombinerer vi lett fysisk aktivitet med hyggelig samvær. 🎉 \n📅 Når: Hver mandag kl. 12:00📍 Hvor: Bowlinghallen v/kinoen – bare møt opp! \nBowling er en flott treningsform for eldre! 🎳 Det gir bedre balanse\, styrker musklene\, forbedrer koordinasjonen og holder deg aktiv på en skånsom måte. I tillegg er det en sosial aktivitet hvor vi ler\, heier på hverandre og nyter en hyggelig stund sammen. \nIngen forkunnskaper trengs – alle kan være med! Kom alene eller ta med en venn\, og opplev gleden ved et godt treff! 💛 Velkommen! 🎳😊
URL:https://tyholmenfrivilligsentral.no/aktivitet/%f0%9f%8e%b3-seniorbowling-moro-bevegelse-og-godt-selskap-%f0%9f%a4%a9/2025-04-07/
LOCATION:Arendal Bowling\, Friergangen 4\, Arendal\, Agder\, 4836
CATEGORIES:2025
ATTACH;FMTTYPE=image/jpeg:https://tyholmenfrivilligsentral.no/wp-content/uploads/2025/03/lag-tegning-av-seniorbowling.jpg
END:VEVENT
BEGIN:VEVENT
DTSTART;TZID=Europe/Oslo:20250407T143000
DTEND;TZID=Europe/Oslo:20250407T151500
DTSTAMP:20260419T202155
CREATED:20250319T211210Z
LAST-MODIFIED:20250402T081459Z
UID:10001932-1744036200-1744038900@tyholmenfrivilligsentral.no
SUMMARY:💪 Sterk og Stødig – Tren for en sterkere hverdag! Påmelding🤸‍♂️
DESCRIPTION:Vil du holde deg sterk\, stødig og aktiv lenger? Sterk og Stødig er en ukentlig treningsøkt spesielt tilpasset eldre og pensjonister! 🌟 \n📅 Når: Hver mandag kl. 14:30 og torsdag kl 12:00📍 Hvor: Kulturkammeret🎟️ Åpent for alle eldre og pensjonister! \nStyrketrening er viktig når man blir eldre – det bidrar til bedre balanse\, økt muskelstyrke og reduserer risikoen for fall. Med enkle øvelser styrker vi kroppen\, holder leddene myke og bevarer selvstendigheten i hverdagen. \nBli med i et trygt og hyggelig treningsmiljø hvor du trener i ditt eget tempo! 🤗💛 Kom alene eller ta med en venn\, men meld deg på først. For påmelding\, ring Frisklivsentralen for avklaring. Telefonnr. 990 97 498 – sammen blir vi sterke og stødige! 💪✨
URL:https://tyholmenfrivilligsentral.no/aktivitet/%f0%9f%92%aa-sterk-og-stodig-tren-for-en-sterkere-hverdag-pamelding%f0%9f%a4%b8%e2%99%82%ef%b8%8f/2025-04-07/
LOCATION:Kulturkammeret\, Kirkegaten 2B\, Arendal\, Agder\, 4836
CATEGORIES:2025
ATTACH;FMTTYPE=image/jpeg:https://tyholmenfrivilligsentral.no/wp-content/uploads/2025/04/tre-glade-norske-pensjonister.jpg
END:VEVENT
BEGIN:VEVENT
DTSTART;TZID=Europe/Oslo:20250409T120000
DTEND;TZID=Europe/Oslo:20250409T140000
DTSTAMP:20260419T202155
CREATED:20250319T213758Z
LAST-MODIFIED:20250319T213758Z
UID:10002461-1744200000-1744207200@tyholmenfrivilligsentral.no
SUMMARY:🚶‍♂️ Spasertur på Hove – Frisk luft\, bevegelse og hyggelig selskap! 🌿
DESCRIPTION:Bli med på en herlig spasertur på Hove hver onsdag kl. 12:00! I regi av LHL inviterer vi alle eldre og pensjonister til en sosial og helsebringende gåtur i vakre omgivelser. 💛 \n📅 Når: Hver onsdag kl. 12:00📍 Hvor: Hove\, Tromøya – bare møt opp! \nHove ligger på Tromøya utenfor Arendal og byr på fantastiske turstier langs sjøen\, gjennom skog og over åpne svaberg. Her kan du nyte den friske havluften\, høre bølgene slå og la naturen gi deg energi. 🌊🌲 \nÅ gå tur er en av de beste måtene å holde seg aktiv på som eldre! 🚶‍♀️ Det styrker hjertet\, leddene og balansen – og ikke minst\, det er en flott mulighet til å møte nye mennesker og ha gode samtaler underveis. \nKom alene eller ta med en venn – vi går i et rolig tempo så alle kan være med! Velkommen til en deilig tur i naturskjønne omgivelser! 🌞💚
URL:https://tyholmenfrivilligsentral.no/aktivitet/%f0%9f%9a%b6%e2%99%82%ef%b8%8f-spasertur-pa-hove-frisk-luft-bevegelse-og-hyggelig-selskap-%f0%9f%8c%bf/2025-04-09/
LOCATION:Hove
CATEGORIES:2025
ATTACH;FMTTYPE=image/jpeg:https://tyholmenfrivilligsentral.no/wp-content/uploads/2025/03/spasertur-langs-kysten.jpg
END:VEVENT
BEGIN:VEVENT
DTSTART;TZID=Europe/Oslo:20250410T103000
DTEND;TZID=Europe/Oslo:20250410T113000
DTSTAMP:20260419T202155
CREATED:20250402T080754Z
LAST-MODIFIED:20251013T082740Z
UID:10004392-1744281000-1744284600@tyholmenfrivilligsentral.no
SUMMARY:💪✨ Elrobic – Trening for Eldre ✨💪
DESCRIPTION:💪✨ Elrobic – Trening for Eldre ✨💪 \n📅 Hver torsdag kl. 10:30\n📍 Kulturkammeret \nBli med på Elrobic – en morsom og tilpasset treningsøkt som gir deg energi\, styrke og balanse! Vårt fokus er på å holde kroppen aktiv og sterk\, uansett alder eller form. \nTrening er ikke bare godt for kroppen\, men også for humøret og livskvaliteten. Å bevege seg regelmessig kan bidra til bedre helse\, økt selvstendighet og et mer sosialt og aktivt liv. \nKom som du er – vi gleder oss til å trene sammen med deg! 🌟😊
URL:https://tyholmenfrivilligsentral.no/aktivitet/%f0%9f%92%aa%e2%9c%a8-elrobic-trening-for-eldre-%e2%9c%a8%f0%9f%92%aa/2025-04-10/
LOCATION:Kulturkammeret\, Kirkegaten 2B\, Arendal\, Agder\, 4836
CATEGORIES:2025
ATTACH;FMTTYPE=image/jpeg:https://tyholmenfrivilligsentral.no/wp-content/uploads/2025/04/to-glade-pensjonister.jpg
END:VEVENT
BEGIN:VEVENT
DTSTART;TZID=Europe/Oslo:20250410T120000
DTEND;TZID=Europe/Oslo:20250410T130000
DTSTAMP:20260419T202155
CREATED:20250402T075334Z
LAST-MODIFIED:20250402T081326Z
UID:10003257-1744286400-1744290000@tyholmenfrivilligsentral.no
SUMMARY:💪 Sterk og Stødig – Tren for en sterkere hverdag! Påmelding🤸‍♂️
DESCRIPTION:Vil du holde deg sterk\, stødig og aktiv lenger? Sterk og Stødig er en ukentlig treningsøkt spesielt tilpasset eldre og pensjonister! 🌟 \n📅 Når: Hver torsdag kl. 12:00 og mandag kl 14:30📍 Hvor: Kulturkammeret🎟️ Åpent for alle eldre og pensjonister! \nStyrketrening er viktig når man blir eldre – det bidrar til bedre balanse\, økt muskelstyrke og reduserer risikoen for fall. Med enkle øvelser styrker vi kroppen\, holder leddene myke og bevarer selvstendigheten i hverdagen. \nBli med i et trygt og hyggelig treningsmiljø hvor du trener i ditt eget tempo! 🤗💛 Kom alene eller ta med en venn\, men meld deg på først. For påmelding\, ring Frisklivsentralen for avklaring. Telefonnr. 990 97 498 – sammen blir vi sterke og stødige! 💪✨
URL:https://tyholmenfrivilligsentral.no/aktivitet/%f0%9f%92%aa-sterk-og-stodig-tren-for-en-sterkere-hverdag-pamelding%f0%9f%a4%b8%e2%99%82%ef%b8%8f-2/2025-04-10/
LOCATION:Kulturkammeret\, Kirkegaten 2B\, Arendal\, Agder\, 4836
CATEGORIES:2025
ATTACH;FMTTYPE=image/jpeg:https://tyholmenfrivilligsentral.no/wp-content/uploads/2025/04/tre-glade-norske-pensjonister.jpg
END:VEVENT
BEGIN:VEVENT
DTSTART;TZID=Europe/Oslo:20250414T120000
DTEND;TZID=Europe/Oslo:20250414T140000
DTSTAMP:20260419T202155
CREATED:20250319T212438Z
LAST-MODIFIED:20250319T212438Z
UID:10002197-1744632000-1744639200@tyholmenfrivilligsentral.no
SUMMARY:🎳 Seniorbowling – Moro\, bevegelse og godt selskap! 🤩
DESCRIPTION:Bli med på Seniorbowling – en morsom og sosial aktivitet for eldre og pensjonister! Her kombinerer vi lett fysisk aktivitet med hyggelig samvær. 🎉 \n📅 Når: Hver mandag kl. 12:00📍 Hvor: Bowlinghallen v/kinoen – bare møt opp! \nBowling er en flott treningsform for eldre! 🎳 Det gir bedre balanse\, styrker musklene\, forbedrer koordinasjonen og holder deg aktiv på en skånsom måte. I tillegg er det en sosial aktivitet hvor vi ler\, heier på hverandre og nyter en hyggelig stund sammen. \nIngen forkunnskaper trengs – alle kan være med! Kom alene eller ta med en venn\, og opplev gleden ved et godt treff! 💛 Velkommen! 🎳😊
URL:https://tyholmenfrivilligsentral.no/aktivitet/%f0%9f%8e%b3-seniorbowling-moro-bevegelse-og-godt-selskap-%f0%9f%a4%a9/2025-04-14/
LOCATION:Arendal Bowling\, Friergangen 4\, Arendal\, Agder\, 4836
CATEGORIES:2025
ATTACH;FMTTYPE=image/jpeg:https://tyholmenfrivilligsentral.no/wp-content/uploads/2025/03/lag-tegning-av-seniorbowling.jpg
END:VEVENT
BEGIN:VEVENT
DTSTART;TZID=Europe/Oslo:20250414T143000
DTEND;TZID=Europe/Oslo:20250414T151500
DTSTAMP:20260419T202155
CREATED:20250319T211210Z
LAST-MODIFIED:20250402T081459Z
UID:10001933-1744641000-1744643700@tyholmenfrivilligsentral.no
SUMMARY:💪 Sterk og Stødig – Tren for en sterkere hverdag! Påmelding🤸‍♂️
DESCRIPTION:Vil du holde deg sterk\, stødig og aktiv lenger? Sterk og Stødig er en ukentlig treningsøkt spesielt tilpasset eldre og pensjonister! 🌟 \n📅 Når: Hver mandag kl. 14:30 og torsdag kl 12:00📍 Hvor: Kulturkammeret🎟️ Åpent for alle eldre og pensjonister! \nStyrketrening er viktig når man blir eldre – det bidrar til bedre balanse\, økt muskelstyrke og reduserer risikoen for fall. Med enkle øvelser styrker vi kroppen\, holder leddene myke og bevarer selvstendigheten i hverdagen. \nBli med i et trygt og hyggelig treningsmiljø hvor du trener i ditt eget tempo! 🤗💛 Kom alene eller ta med en venn\, men meld deg på først. For påmelding\, ring Frisklivsentralen for avklaring. Telefonnr. 990 97 498 – sammen blir vi sterke og stødige! 💪✨
URL:https://tyholmenfrivilligsentral.no/aktivitet/%f0%9f%92%aa-sterk-og-stodig-tren-for-en-sterkere-hverdag-pamelding%f0%9f%a4%b8%e2%99%82%ef%b8%8f/2025-04-14/
LOCATION:Kulturkammeret\, Kirkegaten 2B\, Arendal\, Agder\, 4836
CATEGORIES:2025
ATTACH;FMTTYPE=image/jpeg:https://tyholmenfrivilligsentral.no/wp-content/uploads/2025/04/tre-glade-norske-pensjonister.jpg
END:VEVENT
BEGIN:VEVENT
DTSTART;TZID=Europe/Oslo:20250416T120000
DTEND;TZID=Europe/Oslo:20250416T140000
DTSTAMP:20260419T202155
CREATED:20250319T213758Z
LAST-MODIFIED:20250319T213758Z
UID:10002462-1744804800-1744812000@tyholmenfrivilligsentral.no
SUMMARY:🚶‍♂️ Spasertur på Hove – Frisk luft\, bevegelse og hyggelig selskap! 🌿
DESCRIPTION:Bli med på en herlig spasertur på Hove hver onsdag kl. 12:00! I regi av LHL inviterer vi alle eldre og pensjonister til en sosial og helsebringende gåtur i vakre omgivelser. 💛 \n📅 Når: Hver onsdag kl. 12:00📍 Hvor: Hove\, Tromøya – bare møt opp! \nHove ligger på Tromøya utenfor Arendal og byr på fantastiske turstier langs sjøen\, gjennom skog og over åpne svaberg. Her kan du nyte den friske havluften\, høre bølgene slå og la naturen gi deg energi. 🌊🌲 \nÅ gå tur er en av de beste måtene å holde seg aktiv på som eldre! 🚶‍♀️ Det styrker hjertet\, leddene og balansen – og ikke minst\, det er en flott mulighet til å møte nye mennesker og ha gode samtaler underveis. \nKom alene eller ta med en venn – vi går i et rolig tempo så alle kan være med! Velkommen til en deilig tur i naturskjønne omgivelser! 🌞💚
URL:https://tyholmenfrivilligsentral.no/aktivitet/%f0%9f%9a%b6%e2%99%82%ef%b8%8f-spasertur-pa-hove-frisk-luft-bevegelse-og-hyggelig-selskap-%f0%9f%8c%bf/2025-04-16/
LOCATION:Hove
CATEGORIES:2025
ATTACH;FMTTYPE=image/jpeg:https://tyholmenfrivilligsentral.no/wp-content/uploads/2025/03/spasertur-langs-kysten.jpg
END:VEVENT
BEGIN:VEVENT
DTSTART;TZID=Europe/Oslo:20250424T103000
DTEND;TZID=Europe/Oslo:20250424T113000
DTSTAMP:20260419T202155
CREATED:20250402T080754Z
LAST-MODIFIED:20251013T082740Z
UID:10004393-1745490600-1745494200@tyholmenfrivilligsentral.no
SUMMARY:💪✨ Elrobic – Trening for Eldre ✨💪
DESCRIPTION:💪✨ Elrobic – Trening for Eldre ✨💪 \n📅 Hver torsdag kl. 10:30\n📍 Kulturkammeret \nBli med på Elrobic – en morsom og tilpasset treningsøkt som gir deg energi\, styrke og balanse! Vårt fokus er på å holde kroppen aktiv og sterk\, uansett alder eller form. \nTrening er ikke bare godt for kroppen\, men også for humøret og livskvaliteten. Å bevege seg regelmessig kan bidra til bedre helse\, økt selvstendighet og et mer sosialt og aktivt liv. \nKom som du er – vi gleder oss til å trene sammen med deg! 🌟😊
URL:https://tyholmenfrivilligsentral.no/aktivitet/%f0%9f%92%aa%e2%9c%a8-elrobic-trening-for-eldre-%e2%9c%a8%f0%9f%92%aa/2025-04-24/
LOCATION:Kulturkammeret\, Kirkegaten 2B\, Arendal\, Agder\, 4836
CATEGORIES:2025
ATTACH;FMTTYPE=image/jpeg:https://tyholmenfrivilligsentral.no/wp-content/uploads/2025/04/to-glade-pensjonister.jpg
END:VEVENT
BEGIN:VEVENT
DTSTART;TZID=Europe/Oslo:20250424T120000
DTEND;TZID=Europe/Oslo:20250424T130000
DTSTAMP:20260419T202155
CREATED:20250402T075334Z
LAST-MODIFIED:20250402T081326Z
UID:10003258-1745496000-1745499600@tyholmenfrivilligsentral.no
SUMMARY:💪 Sterk og Stødig – Tren for en sterkere hverdag! Påmelding🤸‍♂️
DESCRIPTION:Vil du holde deg sterk\, stødig og aktiv lenger? Sterk og Stødig er en ukentlig treningsøkt spesielt tilpasset eldre og pensjonister! 🌟 \n📅 Når: Hver torsdag kl. 12:00 og mandag kl 14:30📍 Hvor: Kulturkammeret🎟️ Åpent for alle eldre og pensjonister! \nStyrketrening er viktig når man blir eldre – det bidrar til bedre balanse\, økt muskelstyrke og reduserer risikoen for fall. Med enkle øvelser styrker vi kroppen\, holder leddene myke og bevarer selvstendigheten i hverdagen. \nBli med i et trygt og hyggelig treningsmiljø hvor du trener i ditt eget tempo! 🤗💛 Kom alene eller ta med en venn\, men meld deg på først. For påmelding\, ring Frisklivsentralen for avklaring. Telefonnr. 990 97 498 – sammen blir vi sterke og stødige! 💪✨
URL:https://tyholmenfrivilligsentral.no/aktivitet/%f0%9f%92%aa-sterk-og-stodig-tren-for-en-sterkere-hverdag-pamelding%f0%9f%a4%b8%e2%99%82%ef%b8%8f-2/2025-04-24/
LOCATION:Kulturkammeret\, Kirkegaten 2B\, Arendal\, Agder\, 4836
CATEGORIES:2025
ATTACH;FMTTYPE=image/jpeg:https://tyholmenfrivilligsentral.no/wp-content/uploads/2025/04/tre-glade-norske-pensjonister.jpg
END:VEVENT
BEGIN:VEVENT
DTSTART;TZID=Europe/Oslo:20250428T120000
DTEND;TZID=Europe/Oslo:20250428T140000
DTSTAMP:20260419T202155
CREATED:20250319T212438Z
LAST-MODIFIED:20250319T212438Z
UID:10002198-1745841600-1745848800@tyholmenfrivilligsentral.no
SUMMARY:🎳 Seniorbowling – Moro\, bevegelse og godt selskap! 🤩
DESCRIPTION:Bli med på Seniorbowling – en morsom og sosial aktivitet for eldre og pensjonister! Her kombinerer vi lett fysisk aktivitet med hyggelig samvær. 🎉 \n📅 Når: Hver mandag kl. 12:00📍 Hvor: Bowlinghallen v/kinoen – bare møt opp! \nBowling er en flott treningsform for eldre! 🎳 Det gir bedre balanse\, styrker musklene\, forbedrer koordinasjonen og holder deg aktiv på en skånsom måte. I tillegg er det en sosial aktivitet hvor vi ler\, heier på hverandre og nyter en hyggelig stund sammen. \nIngen forkunnskaper trengs – alle kan være med! Kom alene eller ta med en venn\, og opplev gleden ved et godt treff! 💛 Velkommen! 🎳😊
URL:https://tyholmenfrivilligsentral.no/aktivitet/%f0%9f%8e%b3-seniorbowling-moro-bevegelse-og-godt-selskap-%f0%9f%a4%a9/2025-04-28/
LOCATION:Arendal Bowling\, Friergangen 4\, Arendal\, Agder\, 4836
CATEGORIES:2025
ATTACH;FMTTYPE=image/jpeg:https://tyholmenfrivilligsentral.no/wp-content/uploads/2025/03/lag-tegning-av-seniorbowling.jpg
END:VEVENT
BEGIN:VEVENT
DTSTART;TZID=Europe/Oslo:20250428T143000
DTEND;TZID=Europe/Oslo:20250428T151500
DTSTAMP:20260419T202155
CREATED:20250319T211210Z
LAST-MODIFIED:20250402T081459Z
UID:10001934-1745850600-1745853300@tyholmenfrivilligsentral.no
SUMMARY:💪 Sterk og Stødig – Tren for en sterkere hverdag! Påmelding🤸‍♂️
DESCRIPTION:Vil du holde deg sterk\, stødig og aktiv lenger? Sterk og Stødig er en ukentlig treningsøkt spesielt tilpasset eldre og pensjonister! 🌟 \n📅 Når: Hver mandag kl. 14:30 og torsdag kl 12:00📍 Hvor: Kulturkammeret🎟️ Åpent for alle eldre og pensjonister! \nStyrketrening er viktig når man blir eldre – det bidrar til bedre balanse\, økt muskelstyrke og reduserer risikoen for fall. Med enkle øvelser styrker vi kroppen\, holder leddene myke og bevarer selvstendigheten i hverdagen. \nBli med i et trygt og hyggelig treningsmiljø hvor du trener i ditt eget tempo! 🤗💛 Kom alene eller ta med en venn\, men meld deg på først. For påmelding\, ring Frisklivsentralen for avklaring. Telefonnr. 990 97 498 – sammen blir vi sterke og stødige! 💪✨
URL:https://tyholmenfrivilligsentral.no/aktivitet/%f0%9f%92%aa-sterk-og-stodig-tren-for-en-sterkere-hverdag-pamelding%f0%9f%a4%b8%e2%99%82%ef%b8%8f/2025-04-28/
LOCATION:Kulturkammeret\, Kirkegaten 2B\, Arendal\, Agder\, 4836
CATEGORIES:2025
ATTACH;FMTTYPE=image/jpeg:https://tyholmenfrivilligsentral.no/wp-content/uploads/2025/04/tre-glade-norske-pensjonister.jpg
END:VEVENT
BEGIN:VEVENT
DTSTART;TZID=Europe/Oslo:20250430T120000
DTEND;TZID=Europe/Oslo:20250430T140000
DTSTAMP:20260419T202155
CREATED:20250319T213758Z
LAST-MODIFIED:20250319T213758Z
UID:10002463-1746014400-1746021600@tyholmenfrivilligsentral.no
SUMMARY:🚶‍♂️ Spasertur på Hove – Frisk luft\, bevegelse og hyggelig selskap! 🌿
DESCRIPTION:Bli med på en herlig spasertur på Hove hver onsdag kl. 12:00! I regi av LHL inviterer vi alle eldre og pensjonister til en sosial og helsebringende gåtur i vakre omgivelser. 💛 \n📅 Når: Hver onsdag kl. 12:00📍 Hvor: Hove\, Tromøya – bare møt opp! \nHove ligger på Tromøya utenfor Arendal og byr på fantastiske turstier langs sjøen\, gjennom skog og over åpne svaberg. Her kan du nyte den friske havluften\, høre bølgene slå og la naturen gi deg energi. 🌊🌲 \nÅ gå tur er en av de beste måtene å holde seg aktiv på som eldre! 🚶‍♀️ Det styrker hjertet\, leddene og balansen – og ikke minst\, det er en flott mulighet til å møte nye mennesker og ha gode samtaler underveis. \nKom alene eller ta med en venn – vi går i et rolig tempo så alle kan være med! Velkommen til en deilig tur i naturskjønne omgivelser! 🌞💚
URL:https://tyholmenfrivilligsentral.no/aktivitet/%f0%9f%9a%b6%e2%99%82%ef%b8%8f-spasertur-pa-hove-frisk-luft-bevegelse-og-hyggelig-selskap-%f0%9f%8c%bf/2025-04-30/
LOCATION:Hove
CATEGORIES:2025
ATTACH;FMTTYPE=image/jpeg:https://tyholmenfrivilligsentral.no/wp-content/uploads/2025/03/spasertur-langs-kysten.jpg
END:VEVENT
END:VCALENDAR