BEGIN:VCALENDAR
VERSION:2.0
PRODID:-//Tyholmen Frivilligsentral - ECPv6.15.18//NONSGML v1.0//EN
CALSCALE:GREGORIAN
METHOD:PUBLISH
X-WR-CALNAME:Tyholmen Frivilligsentral
X-ORIGINAL-URL:https://tyholmenfrivilligsentral.no
X-WR-CALDESC:Arrangement for Tyholmen Frivilligsentral
REFRESH-INTERVAL;VALUE=DURATION:PT1H
X-Robots-Tag:noindex
X-PUBLISHED-TTL:PT1H
BEGIN:VTIMEZONE
TZID:Europe/Oslo
BEGIN:DAYLIGHT
TZOFFSETFROM:+0100
TZOFFSETTO:+0200
TZNAME:CEST
DTSTART:20250330T010000
END:DAYLIGHT
BEGIN:STANDARD
TZOFFSETFROM:+0200
TZOFFSETTO:+0100
TZNAME:CET
DTSTART:20251026T010000
END:STANDARD
BEGIN:DAYLIGHT
TZOFFSETFROM:+0100
TZOFFSETTO:+0200
TZNAME:CEST
DTSTART:20260329T010000
END:DAYLIGHT
BEGIN:STANDARD
TZOFFSETFROM:+0200
TZOFFSETTO:+0100
TZNAME:CET
DTSTART:20261025T010000
END:STANDARD
BEGIN:DAYLIGHT
TZOFFSETFROM:+0100
TZOFFSETTO:+0200
TZNAME:CEST
DTSTART:20270328T010000
END:DAYLIGHT
BEGIN:STANDARD
TZOFFSETFROM:+0200
TZOFFSETTO:+0100
TZNAME:CET
DTSTART:20271031T010000
END:STANDARD
END:VTIMEZONE
BEGIN:VEVENT
DTSTART;TZID=Europe/Oslo:20260601T143000
DTEND;TZID=Europe/Oslo:20260601T151500
DTSTAMP:20260421T061720
CREATED:20250319T211210Z
LAST-MODIFIED:20250402T081459Z
UID:10001984-1780324200-1780326900@tyholmenfrivilligsentral.no
SUMMARY:💪 Sterk og Stødig – Tren for en sterkere hverdag! Påmelding🤸‍♂️
DESCRIPTION:Vil du holde deg sterk\, stødig og aktiv lenger? Sterk og Stødig er en ukentlig treningsøkt spesielt tilpasset eldre og pensjonister! 🌟 \n📅 Når: Hver mandag kl. 14:30 og torsdag kl 12:00📍 Hvor: Kulturkammeret🎟️ Åpent for alle eldre og pensjonister! \nStyrketrening er viktig når man blir eldre – det bidrar til bedre balanse\, økt muskelstyrke og reduserer risikoen for fall. Med enkle øvelser styrker vi kroppen\, holder leddene myke og bevarer selvstendigheten i hverdagen. \nBli med i et trygt og hyggelig treningsmiljø hvor du trener i ditt eget tempo! 🤗💛 Kom alene eller ta med en venn\, men meld deg på først. For påmelding\, ring Frisklivsentralen for avklaring. Telefonnr. 990 97 498 – sammen blir vi sterke og stødige! 💪✨
URL:https://tyholmenfrivilligsentral.no/aktivitet/%f0%9f%92%aa-sterk-og-stodig-tren-for-en-sterkere-hverdag-pamelding%f0%9f%a4%b8%e2%99%82%ef%b8%8f/2026-06-01/
LOCATION:Kulturkammeret\, Kirkegaten 2B\, Arendal\, Agder\, 4836
CATEGORIES:2025
ATTACH;FMTTYPE=image/jpeg:https://tyholmenfrivilligsentral.no/wp-content/uploads/2025/04/tre-glade-norske-pensjonister.jpg
END:VEVENT
BEGIN:VEVENT
DTSTART;TZID=Europe/Oslo:20260604T103000
DTEND;TZID=Europe/Oslo:20260604T113000
DTSTAMP:20260421T061720
CREATED:20250402T080754Z
LAST-MODIFIED:20251013T082740Z
UID:10004445-1780569000-1780572600@tyholmenfrivilligsentral.no
SUMMARY:💪✨ Elrobic – Trening for Eldre ✨💪
DESCRIPTION:💪✨ Elrobic – Trening for Eldre ✨💪 \n📅 Hver torsdag kl. 10:30\n📍 Kulturkammeret \nBli med på Elrobic – en morsom og tilpasset treningsøkt som gir deg energi\, styrke og balanse! Vårt fokus er på å holde kroppen aktiv og sterk\, uansett alder eller form. \nTrening er ikke bare godt for kroppen\, men også for humøret og livskvaliteten. Å bevege seg regelmessig kan bidra til bedre helse\, økt selvstendighet og et mer sosialt og aktivt liv. \nKom som du er – vi gleder oss til å trene sammen med deg! 🌟😊
URL:https://tyholmenfrivilligsentral.no/aktivitet/%f0%9f%92%aa%e2%9c%a8-elrobic-trening-for-eldre-%e2%9c%a8%f0%9f%92%aa/2026-06-04/
LOCATION:Kulturkammeret\, Kirkegaten 2B\, Arendal\, Agder\, 4836
CATEGORIES:2025
ATTACH;FMTTYPE=image/jpeg:https://tyholmenfrivilligsentral.no/wp-content/uploads/2025/04/to-glade-pensjonister.jpg
END:VEVENT
BEGIN:VEVENT
DTSTART;TZID=Europe/Oslo:20260604T120000
DTEND;TZID=Europe/Oslo:20260604T130000
DTSTAMP:20260421T061720
CREATED:20251007T221624Z
LAST-MODIFIED:20251013T083925Z
UID:10004705-1780574400-1780578000@tyholmenfrivilligsentral.no
SUMMARY:💪 Sterk og Stødig – Tren for en sterkere hverdag! Påmelding🤸‍♂️
DESCRIPTION:Vil du holde deg sterk\, stødig og aktiv lenger? Sterk og Stødig er en ukentlig treningsøkt spesielt tilpasset eldre og pensjonister! 🌟 \n📅 Når: Hver torsdag kl. 12:00 og mandag kl 14:30📍 Hvor: Kulturkammeret🎟️ Åpent for alle eldre og pensjonister! \nStyrketrening er viktig når man blir eldre – det bidrar til bedre balanse\, økt muskelstyrke og reduserer risikoen for fall. Med enkle øvelser styrker vi kroppen\, holder leddene myke og bevarer selvstendigheten i hverdagen. \nBli med i et trygt og hyggelig treningsmiljø hvor du trener i ditt eget tempo! 🤗💛 Kom alene eller ta med en venn\, men meld deg på først. For påmelding\, ring Frisklivsentralen for avklaring. Telefonnr. 990 97 498 – sammen blir vi sterke og stødige! 💪✨
URL:https://tyholmenfrivilligsentral.no/aktivitet/%f0%9f%92%aa-sterk-og-stodig-tren-for-en-sterkere-hverdag-pamelding%f0%9f%a4%b8%e2%99%82%ef%b8%8f-2-2/2026-06-04/
LOCATION:Kulturkammeret\, Kirkegaten 2B\, Arendal\, Agder\, 4836
CATEGORIES:2025
ATTACH;FMTTYPE=image/jpeg:https://tyholmenfrivilligsentral.no/wp-content/uploads/2025/04/tre-glade-norske-pensjonister.jpg
END:VEVENT
BEGIN:VEVENT
DTSTART;TZID=Europe/Oslo:20260604T120000
DTEND;TZID=Europe/Oslo:20260604T150000
DTSTAMP:20260421T061720
CREATED:20250402T074118Z
LAST-MODIFIED:20250402T074119Z
UID:10002778-1780574400-1780585200@tyholmenfrivilligsentral.no
SUMMARY:✨ Strikke Kafé – Hver Torsdag kl. 12:00 - 15:00 ✨
DESCRIPTION:Velkommen til vårt inkluderende og uhøytidelige fellesskap! \n📅 Hver torsdag kl. 12:00 – 15:00📍 Åpen kafé med enkel servering:🍲 Varm gryterett\, smørbrød\, kaffe og kake \nStrikker du ikke? Ingen problem! Du er hjertelig velkommen uansett – med eller uten håndarbeid. Her handler det om koselig samvær og god prat. \nTa med deg strikketøyet – eller bare deg selv – og nyt noen hyggelige timer sammen med oss. Vi gleder oss til å se deg! 😊
URL:https://tyholmenfrivilligsentral.no/aktivitet/%e2%9c%a8-strikke-kafe-hver-torsdag-kl-1200-1500-%e2%9c%a8/2026-06-04/
LOCATION:Tyholmen Frivilligsentral\, Nedre Tyholmsvei 7\, Arendal\, Agder\, 4836
CATEGORIES:2025
ATTACH;FMTTYPE=image/jpeg:https://tyholmenfrivilligsentral.no/wp-content/uploads/2025/04/kurv-med-mange-garn-i.jpg
END:VEVENT
BEGIN:VEVENT
DTSTART;TZID=Europe/Oslo:20260608T143000
DTEND;TZID=Europe/Oslo:20260608T151500
DTSTAMP:20260421T061720
CREATED:20250319T211210Z
LAST-MODIFIED:20250402T081459Z
UID:10001985-1780929000-1780931700@tyholmenfrivilligsentral.no
SUMMARY:💪 Sterk og Stødig – Tren for en sterkere hverdag! Påmelding🤸‍♂️
DESCRIPTION:Vil du holde deg sterk\, stødig og aktiv lenger? Sterk og Stødig er en ukentlig treningsøkt spesielt tilpasset eldre og pensjonister! 🌟 \n📅 Når: Hver mandag kl. 14:30 og torsdag kl 12:00📍 Hvor: Kulturkammeret🎟️ Åpent for alle eldre og pensjonister! \nStyrketrening er viktig når man blir eldre – det bidrar til bedre balanse\, økt muskelstyrke og reduserer risikoen for fall. Med enkle øvelser styrker vi kroppen\, holder leddene myke og bevarer selvstendigheten i hverdagen. \nBli med i et trygt og hyggelig treningsmiljø hvor du trener i ditt eget tempo! 🤗💛 Kom alene eller ta med en venn\, men meld deg på først. For påmelding\, ring Frisklivsentralen for avklaring. Telefonnr. 990 97 498 – sammen blir vi sterke og stødige! 💪✨
URL:https://tyholmenfrivilligsentral.no/aktivitet/%f0%9f%92%aa-sterk-og-stodig-tren-for-en-sterkere-hverdag-pamelding%f0%9f%a4%b8%e2%99%82%ef%b8%8f/2026-06-08/
LOCATION:Kulturkammeret\, Kirkegaten 2B\, Arendal\, Agder\, 4836
CATEGORIES:2025
ATTACH;FMTTYPE=image/jpeg:https://tyholmenfrivilligsentral.no/wp-content/uploads/2025/04/tre-glade-norske-pensjonister.jpg
END:VEVENT
BEGIN:VEVENT
DTSTART;TZID=Europe/Oslo:20260611T103000
DTEND;TZID=Europe/Oslo:20260611T113000
DTSTAMP:20260421T061720
CREATED:20250402T080754Z
LAST-MODIFIED:20251013T082740Z
UID:10004446-1781173800-1781177400@tyholmenfrivilligsentral.no
SUMMARY:💪✨ Elrobic – Trening for Eldre ✨💪
DESCRIPTION:💪✨ Elrobic – Trening for Eldre ✨💪 \n📅 Hver torsdag kl. 10:30\n📍 Kulturkammeret \nBli med på Elrobic – en morsom og tilpasset treningsøkt som gir deg energi\, styrke og balanse! Vårt fokus er på å holde kroppen aktiv og sterk\, uansett alder eller form. \nTrening er ikke bare godt for kroppen\, men også for humøret og livskvaliteten. Å bevege seg regelmessig kan bidra til bedre helse\, økt selvstendighet og et mer sosialt og aktivt liv. \nKom som du er – vi gleder oss til å trene sammen med deg! 🌟😊
URL:https://tyholmenfrivilligsentral.no/aktivitet/%f0%9f%92%aa%e2%9c%a8-elrobic-trening-for-eldre-%e2%9c%a8%f0%9f%92%aa/2026-06-11/
LOCATION:Kulturkammeret\, Kirkegaten 2B\, Arendal\, Agder\, 4836
CATEGORIES:2025
ATTACH;FMTTYPE=image/jpeg:https://tyholmenfrivilligsentral.no/wp-content/uploads/2025/04/to-glade-pensjonister.jpg
END:VEVENT
BEGIN:VEVENT
DTSTART;TZID=Europe/Oslo:20260611T120000
DTEND;TZID=Europe/Oslo:20260611T130000
DTSTAMP:20260421T061720
CREATED:20251007T221624Z
LAST-MODIFIED:20251013T083925Z
UID:10004706-1781179200-1781182800@tyholmenfrivilligsentral.no
SUMMARY:💪 Sterk og Stødig – Tren for en sterkere hverdag! Påmelding🤸‍♂️
DESCRIPTION:Vil du holde deg sterk\, stødig og aktiv lenger? Sterk og Stødig er en ukentlig treningsøkt spesielt tilpasset eldre og pensjonister! 🌟 \n📅 Når: Hver torsdag kl. 12:00 og mandag kl 14:30📍 Hvor: Kulturkammeret🎟️ Åpent for alle eldre og pensjonister! \nStyrketrening er viktig når man blir eldre – det bidrar til bedre balanse\, økt muskelstyrke og reduserer risikoen for fall. Med enkle øvelser styrker vi kroppen\, holder leddene myke og bevarer selvstendigheten i hverdagen. \nBli med i et trygt og hyggelig treningsmiljø hvor du trener i ditt eget tempo! 🤗💛 Kom alene eller ta med en venn\, men meld deg på først. For påmelding\, ring Frisklivsentralen for avklaring. Telefonnr. 990 97 498 – sammen blir vi sterke og stødige! 💪✨
URL:https://tyholmenfrivilligsentral.no/aktivitet/%f0%9f%92%aa-sterk-og-stodig-tren-for-en-sterkere-hverdag-pamelding%f0%9f%a4%b8%e2%99%82%ef%b8%8f-2-2/2026-06-11/
LOCATION:Kulturkammeret\, Kirkegaten 2B\, Arendal\, Agder\, 4836
CATEGORIES:2025
ATTACH;FMTTYPE=image/jpeg:https://tyholmenfrivilligsentral.no/wp-content/uploads/2025/04/tre-glade-norske-pensjonister.jpg
END:VEVENT
BEGIN:VEVENT
DTSTART;TZID=Europe/Oslo:20260611T120000
DTEND;TZID=Europe/Oslo:20260611T150000
DTSTAMP:20260421T061720
CREATED:20250402T074118Z
LAST-MODIFIED:20250402T074119Z
UID:10002779-1781179200-1781190000@tyholmenfrivilligsentral.no
SUMMARY:✨ Strikke Kafé – Hver Torsdag kl. 12:00 - 15:00 ✨
DESCRIPTION:Velkommen til vårt inkluderende og uhøytidelige fellesskap! \n📅 Hver torsdag kl. 12:00 – 15:00📍 Åpen kafé med enkel servering:🍲 Varm gryterett\, smørbrød\, kaffe og kake \nStrikker du ikke? Ingen problem! Du er hjertelig velkommen uansett – med eller uten håndarbeid. Her handler det om koselig samvær og god prat. \nTa med deg strikketøyet – eller bare deg selv – og nyt noen hyggelige timer sammen med oss. Vi gleder oss til å se deg! 😊
URL:https://tyholmenfrivilligsentral.no/aktivitet/%e2%9c%a8-strikke-kafe-hver-torsdag-kl-1200-1500-%e2%9c%a8/2026-06-11/
LOCATION:Tyholmen Frivilligsentral\, Nedre Tyholmsvei 7\, Arendal\, Agder\, 4836
CATEGORIES:2025
ATTACH;FMTTYPE=image/jpeg:https://tyholmenfrivilligsentral.no/wp-content/uploads/2025/04/kurv-med-mange-garn-i.jpg
END:VEVENT
BEGIN:VEVENT
DTSTART;TZID=Europe/Oslo:20260615T143000
DTEND;TZID=Europe/Oslo:20260615T151500
DTSTAMP:20260421T061720
CREATED:20250319T211210Z
LAST-MODIFIED:20250402T081459Z
UID:10001986-1781533800-1781536500@tyholmenfrivilligsentral.no
SUMMARY:💪 Sterk og Stødig – Tren for en sterkere hverdag! Påmelding🤸‍♂️
DESCRIPTION:Vil du holde deg sterk\, stødig og aktiv lenger? Sterk og Stødig er en ukentlig treningsøkt spesielt tilpasset eldre og pensjonister! 🌟 \n📅 Når: Hver mandag kl. 14:30 og torsdag kl 12:00📍 Hvor: Kulturkammeret🎟️ Åpent for alle eldre og pensjonister! \nStyrketrening er viktig når man blir eldre – det bidrar til bedre balanse\, økt muskelstyrke og reduserer risikoen for fall. Med enkle øvelser styrker vi kroppen\, holder leddene myke og bevarer selvstendigheten i hverdagen. \nBli med i et trygt og hyggelig treningsmiljø hvor du trener i ditt eget tempo! 🤗💛 Kom alene eller ta med en venn\, men meld deg på først. For påmelding\, ring Frisklivsentralen for avklaring. Telefonnr. 990 97 498 – sammen blir vi sterke og stødige! 💪✨
URL:https://tyholmenfrivilligsentral.no/aktivitet/%f0%9f%92%aa-sterk-og-stodig-tren-for-en-sterkere-hverdag-pamelding%f0%9f%a4%b8%e2%99%82%ef%b8%8f/2026-06-15/
LOCATION:Kulturkammeret\, Kirkegaten 2B\, Arendal\, Agder\, 4836
CATEGORIES:2025
ATTACH;FMTTYPE=image/jpeg:https://tyholmenfrivilligsentral.no/wp-content/uploads/2025/04/tre-glade-norske-pensjonister.jpg
END:VEVENT
BEGIN:VEVENT
DTSTART;TZID=Europe/Oslo:20260618T103000
DTEND;TZID=Europe/Oslo:20260618T113000
DTSTAMP:20260421T061720
CREATED:20250402T080754Z
LAST-MODIFIED:20251013T082740Z
UID:10004447-1781778600-1781782200@tyholmenfrivilligsentral.no
SUMMARY:💪✨ Elrobic – Trening for Eldre ✨💪
DESCRIPTION:💪✨ Elrobic – Trening for Eldre ✨💪 \n📅 Hver torsdag kl. 10:30\n📍 Kulturkammeret \nBli med på Elrobic – en morsom og tilpasset treningsøkt som gir deg energi\, styrke og balanse! Vårt fokus er på å holde kroppen aktiv og sterk\, uansett alder eller form. \nTrening er ikke bare godt for kroppen\, men også for humøret og livskvaliteten. Å bevege seg regelmessig kan bidra til bedre helse\, økt selvstendighet og et mer sosialt og aktivt liv. \nKom som du er – vi gleder oss til å trene sammen med deg! 🌟😊
URL:https://tyholmenfrivilligsentral.no/aktivitet/%f0%9f%92%aa%e2%9c%a8-elrobic-trening-for-eldre-%e2%9c%a8%f0%9f%92%aa/2026-06-18/
LOCATION:Kulturkammeret\, Kirkegaten 2B\, Arendal\, Agder\, 4836
CATEGORIES:2025
ATTACH;FMTTYPE=image/jpeg:https://tyholmenfrivilligsentral.no/wp-content/uploads/2025/04/to-glade-pensjonister.jpg
END:VEVENT
BEGIN:VEVENT
DTSTART;TZID=Europe/Oslo:20260618T120000
DTEND;TZID=Europe/Oslo:20260618T130000
DTSTAMP:20260421T061720
CREATED:20251007T221624Z
LAST-MODIFIED:20251013T083925Z
UID:10004707-1781784000-1781787600@tyholmenfrivilligsentral.no
SUMMARY:💪 Sterk og Stødig – Tren for en sterkere hverdag! Påmelding🤸‍♂️
DESCRIPTION:Vil du holde deg sterk\, stødig og aktiv lenger? Sterk og Stødig er en ukentlig treningsøkt spesielt tilpasset eldre og pensjonister! 🌟 \n📅 Når: Hver torsdag kl. 12:00 og mandag kl 14:30📍 Hvor: Kulturkammeret🎟️ Åpent for alle eldre og pensjonister! \nStyrketrening er viktig når man blir eldre – det bidrar til bedre balanse\, økt muskelstyrke og reduserer risikoen for fall. Med enkle øvelser styrker vi kroppen\, holder leddene myke og bevarer selvstendigheten i hverdagen. \nBli med i et trygt og hyggelig treningsmiljø hvor du trener i ditt eget tempo! 🤗💛 Kom alene eller ta med en venn\, men meld deg på først. For påmelding\, ring Frisklivsentralen for avklaring. Telefonnr. 990 97 498 – sammen blir vi sterke og stødige! 💪✨
URL:https://tyholmenfrivilligsentral.no/aktivitet/%f0%9f%92%aa-sterk-og-stodig-tren-for-en-sterkere-hverdag-pamelding%f0%9f%a4%b8%e2%99%82%ef%b8%8f-2-2/2026-06-18/
LOCATION:Kulturkammeret\, Kirkegaten 2B\, Arendal\, Agder\, 4836
CATEGORIES:2025
ATTACH;FMTTYPE=image/jpeg:https://tyholmenfrivilligsentral.no/wp-content/uploads/2025/04/tre-glade-norske-pensjonister.jpg
END:VEVENT
BEGIN:VEVENT
DTSTART;TZID=Europe/Oslo:20260618T120000
DTEND;TZID=Europe/Oslo:20260618T150000
DTSTAMP:20260421T061720
CREATED:20250402T074118Z
LAST-MODIFIED:20250402T074119Z
UID:10002780-1781784000-1781794800@tyholmenfrivilligsentral.no
SUMMARY:✨ Strikke Kafé – Hver Torsdag kl. 12:00 - 15:00 ✨
DESCRIPTION:Velkommen til vårt inkluderende og uhøytidelige fellesskap! \n📅 Hver torsdag kl. 12:00 – 15:00📍 Åpen kafé med enkel servering:🍲 Varm gryterett\, smørbrød\, kaffe og kake \nStrikker du ikke? Ingen problem! Du er hjertelig velkommen uansett – med eller uten håndarbeid. Her handler det om koselig samvær og god prat. \nTa med deg strikketøyet – eller bare deg selv – og nyt noen hyggelige timer sammen med oss. Vi gleder oss til å se deg! 😊
URL:https://tyholmenfrivilligsentral.no/aktivitet/%e2%9c%a8-strikke-kafe-hver-torsdag-kl-1200-1500-%e2%9c%a8/2026-06-18/
LOCATION:Tyholmen Frivilligsentral\, Nedre Tyholmsvei 7\, Arendal\, Agder\, 4836
CATEGORIES:2025
ATTACH;FMTTYPE=image/jpeg:https://tyholmenfrivilligsentral.no/wp-content/uploads/2025/04/kurv-med-mange-garn-i.jpg
END:VEVENT
BEGIN:VEVENT
DTSTART;TZID=Europe/Oslo:20260622T143000
DTEND;TZID=Europe/Oslo:20260622T151500
DTSTAMP:20260421T061720
CREATED:20250319T211210Z
LAST-MODIFIED:20250402T081459Z
UID:10001987-1782138600-1782141300@tyholmenfrivilligsentral.no
SUMMARY:💪 Sterk og Stødig – Tren for en sterkere hverdag! Påmelding🤸‍♂️
DESCRIPTION:Vil du holde deg sterk\, stødig og aktiv lenger? Sterk og Stødig er en ukentlig treningsøkt spesielt tilpasset eldre og pensjonister! 🌟 \n📅 Når: Hver mandag kl. 14:30 og torsdag kl 12:00📍 Hvor: Kulturkammeret🎟️ Åpent for alle eldre og pensjonister! \nStyrketrening er viktig når man blir eldre – det bidrar til bedre balanse\, økt muskelstyrke og reduserer risikoen for fall. Med enkle øvelser styrker vi kroppen\, holder leddene myke og bevarer selvstendigheten i hverdagen. \nBli med i et trygt og hyggelig treningsmiljø hvor du trener i ditt eget tempo! 🤗💛 Kom alene eller ta med en venn\, men meld deg på først. For påmelding\, ring Frisklivsentralen for avklaring. Telefonnr. 990 97 498 – sammen blir vi sterke og stødige! 💪✨
URL:https://tyholmenfrivilligsentral.no/aktivitet/%f0%9f%92%aa-sterk-og-stodig-tren-for-en-sterkere-hverdag-pamelding%f0%9f%a4%b8%e2%99%82%ef%b8%8f/2026-06-22/
LOCATION:Kulturkammeret\, Kirkegaten 2B\, Arendal\, Agder\, 4836
CATEGORIES:2025
ATTACH;FMTTYPE=image/jpeg:https://tyholmenfrivilligsentral.no/wp-content/uploads/2025/04/tre-glade-norske-pensjonister.jpg
END:VEVENT
BEGIN:VEVENT
DTSTART;TZID=Europe/Oslo:20260625T103000
DTEND;TZID=Europe/Oslo:20260625T113000
DTSTAMP:20260421T061720
CREATED:20250402T080754Z
LAST-MODIFIED:20251013T082740Z
UID:10004448-1782383400-1782387000@tyholmenfrivilligsentral.no
SUMMARY:💪✨ Elrobic – Trening for Eldre ✨💪
DESCRIPTION:💪✨ Elrobic – Trening for Eldre ✨💪 \n📅 Hver torsdag kl. 10:30\n📍 Kulturkammeret \nBli med på Elrobic – en morsom og tilpasset treningsøkt som gir deg energi\, styrke og balanse! Vårt fokus er på å holde kroppen aktiv og sterk\, uansett alder eller form. \nTrening er ikke bare godt for kroppen\, men også for humøret og livskvaliteten. Å bevege seg regelmessig kan bidra til bedre helse\, økt selvstendighet og et mer sosialt og aktivt liv. \nKom som du er – vi gleder oss til å trene sammen med deg! 🌟😊
URL:https://tyholmenfrivilligsentral.no/aktivitet/%f0%9f%92%aa%e2%9c%a8-elrobic-trening-for-eldre-%e2%9c%a8%f0%9f%92%aa/2026-06-25/
LOCATION:Kulturkammeret\, Kirkegaten 2B\, Arendal\, Agder\, 4836
CATEGORIES:2025
ATTACH;FMTTYPE=image/jpeg:https://tyholmenfrivilligsentral.no/wp-content/uploads/2025/04/to-glade-pensjonister.jpg
END:VEVENT
BEGIN:VEVENT
DTSTART;TZID=Europe/Oslo:20260625T120000
DTEND;TZID=Europe/Oslo:20260625T130000
DTSTAMP:20260421T061720
CREATED:20251007T221624Z
LAST-MODIFIED:20251013T083925Z
UID:10004708-1782388800-1782392400@tyholmenfrivilligsentral.no
SUMMARY:💪 Sterk og Stødig – Tren for en sterkere hverdag! Påmelding🤸‍♂️
DESCRIPTION:Vil du holde deg sterk\, stødig og aktiv lenger? Sterk og Stødig er en ukentlig treningsøkt spesielt tilpasset eldre og pensjonister! 🌟 \n📅 Når: Hver torsdag kl. 12:00 og mandag kl 14:30📍 Hvor: Kulturkammeret🎟️ Åpent for alle eldre og pensjonister! \nStyrketrening er viktig når man blir eldre – det bidrar til bedre balanse\, økt muskelstyrke og reduserer risikoen for fall. Med enkle øvelser styrker vi kroppen\, holder leddene myke og bevarer selvstendigheten i hverdagen. \nBli med i et trygt og hyggelig treningsmiljø hvor du trener i ditt eget tempo! 🤗💛 Kom alene eller ta med en venn\, men meld deg på først. For påmelding\, ring Frisklivsentralen for avklaring. Telefonnr. 990 97 498 – sammen blir vi sterke og stødige! 💪✨
URL:https://tyholmenfrivilligsentral.no/aktivitet/%f0%9f%92%aa-sterk-og-stodig-tren-for-en-sterkere-hverdag-pamelding%f0%9f%a4%b8%e2%99%82%ef%b8%8f-2-2/2026-06-25/
LOCATION:Kulturkammeret\, Kirkegaten 2B\, Arendal\, Agder\, 4836
CATEGORIES:2025
ATTACH;FMTTYPE=image/jpeg:https://tyholmenfrivilligsentral.no/wp-content/uploads/2025/04/tre-glade-norske-pensjonister.jpg
END:VEVENT
BEGIN:VEVENT
DTSTART;TZID=Europe/Oslo:20260625T120000
DTEND;TZID=Europe/Oslo:20260625T150000
DTSTAMP:20260421T061720
CREATED:20250402T074118Z
LAST-MODIFIED:20250402T074119Z
UID:10002781-1782388800-1782399600@tyholmenfrivilligsentral.no
SUMMARY:✨ Strikke Kafé – Hver Torsdag kl. 12:00 - 15:00 ✨
DESCRIPTION:Velkommen til vårt inkluderende og uhøytidelige fellesskap! \n📅 Hver torsdag kl. 12:00 – 15:00📍 Åpen kafé med enkel servering:🍲 Varm gryterett\, smørbrød\, kaffe og kake \nStrikker du ikke? Ingen problem! Du er hjertelig velkommen uansett – med eller uten håndarbeid. Her handler det om koselig samvær og god prat. \nTa med deg strikketøyet – eller bare deg selv – og nyt noen hyggelige timer sammen med oss. Vi gleder oss til å se deg! 😊
URL:https://tyholmenfrivilligsentral.no/aktivitet/%e2%9c%a8-strikke-kafe-hver-torsdag-kl-1200-1500-%e2%9c%a8/2026-06-25/
LOCATION:Tyholmen Frivilligsentral\, Nedre Tyholmsvei 7\, Arendal\, Agder\, 4836
CATEGORIES:2025
ATTACH;FMTTYPE=image/jpeg:https://tyholmenfrivilligsentral.no/wp-content/uploads/2025/04/kurv-med-mange-garn-i.jpg
END:VEVENT
BEGIN:VEVENT
DTSTART;TZID=Europe/Oslo:20260629T143000
DTEND;TZID=Europe/Oslo:20260629T151500
DTSTAMP:20260421T061720
CREATED:20250319T211210Z
LAST-MODIFIED:20250402T081459Z
UID:10001988-1782743400-1782746100@tyholmenfrivilligsentral.no
SUMMARY:💪 Sterk og Stødig – Tren for en sterkere hverdag! Påmelding🤸‍♂️
DESCRIPTION:Vil du holde deg sterk\, stødig og aktiv lenger? Sterk og Stødig er en ukentlig treningsøkt spesielt tilpasset eldre og pensjonister! 🌟 \n📅 Når: Hver mandag kl. 14:30 og torsdag kl 12:00📍 Hvor: Kulturkammeret🎟️ Åpent for alle eldre og pensjonister! \nStyrketrening er viktig når man blir eldre – det bidrar til bedre balanse\, økt muskelstyrke og reduserer risikoen for fall. Med enkle øvelser styrker vi kroppen\, holder leddene myke og bevarer selvstendigheten i hverdagen. \nBli med i et trygt og hyggelig treningsmiljø hvor du trener i ditt eget tempo! 🤗💛 Kom alene eller ta med en venn\, men meld deg på først. For påmelding\, ring Frisklivsentralen for avklaring. Telefonnr. 990 97 498 – sammen blir vi sterke og stødige! 💪✨
URL:https://tyholmenfrivilligsentral.no/aktivitet/%f0%9f%92%aa-sterk-og-stodig-tren-for-en-sterkere-hverdag-pamelding%f0%9f%a4%b8%e2%99%82%ef%b8%8f/2026-06-29/
LOCATION:Kulturkammeret\, Kirkegaten 2B\, Arendal\, Agder\, 4836
CATEGORIES:2025
ATTACH;FMTTYPE=image/jpeg:https://tyholmenfrivilligsentral.no/wp-content/uploads/2025/04/tre-glade-norske-pensjonister.jpg
END:VEVENT
END:VCALENDAR