BEGIN:VCALENDAR
VERSION:2.0
PRODID:-//Tyholmen Frivilligsentral - ECPv6.15.18//NONSGML v1.0//EN
CALSCALE:GREGORIAN
METHOD:PUBLISH
X-ORIGINAL-URL:https://tyholmenfrivilligsentral.no
X-WR-CALDESC:Arrangement for Tyholmen Frivilligsentral
REFRESH-INTERVAL;VALUE=DURATION:PT1H
X-Robots-Tag:noindex
X-PUBLISHED-TTL:PT1H
BEGIN:VTIMEZONE
TZID:Europe/Oslo
BEGIN:DAYLIGHT
TZOFFSETFROM:+0100
TZOFFSETTO:+0200
TZNAME:CEST
DTSTART:20250330T010000
END:DAYLIGHT
BEGIN:STANDARD
TZOFFSETFROM:+0200
TZOFFSETTO:+0100
TZNAME:CET
DTSTART:20251026T010000
END:STANDARD
BEGIN:DAYLIGHT
TZOFFSETFROM:+0100
TZOFFSETTO:+0200
TZNAME:CEST
DTSTART:20260329T010000
END:DAYLIGHT
BEGIN:STANDARD
TZOFFSETFROM:+0200
TZOFFSETTO:+0100
TZNAME:CET
DTSTART:20261025T010000
END:STANDARD
BEGIN:DAYLIGHT
TZOFFSETFROM:+0100
TZOFFSETTO:+0200
TZNAME:CEST
DTSTART:20270328T010000
END:DAYLIGHT
BEGIN:STANDARD
TZOFFSETFROM:+0200
TZOFFSETTO:+0100
TZNAME:CET
DTSTART:20271031T010000
END:STANDARD
END:VTIMEZONE
BEGIN:VEVENT
DTSTART;TZID=Europe/Oslo:20260101T103000
DTEND;TZID=Europe/Oslo:20260101T113000
DTSTAMP:20260421T075905
CREATED:20250402T080754Z
LAST-MODIFIED:20251013T082740Z
UID:10004424-1767263400-1767267000@tyholmenfrivilligsentral.no
SUMMARY:💪✨ Elrobic – Trening for Eldre ✨💪
DESCRIPTION:💪✨ Elrobic – Trening for Eldre ✨💪 \n📅 Hver torsdag kl. 10:30\n📍 Kulturkammeret \nBli med på Elrobic – en morsom og tilpasset treningsøkt som gir deg energi\, styrke og balanse! Vårt fokus er på å holde kroppen aktiv og sterk\, uansett alder eller form. \nTrening er ikke bare godt for kroppen\, men også for humøret og livskvaliteten. Å bevege seg regelmessig kan bidra til bedre helse\, økt selvstendighet og et mer sosialt og aktivt liv. \nKom som du er – vi gleder oss til å trene sammen med deg! 🌟😊
URL:https://tyholmenfrivilligsentral.no/aktivitet/%f0%9f%92%aa%e2%9c%a8-elrobic-trening-for-eldre-%e2%9c%a8%f0%9f%92%aa/2026-01-01/
LOCATION:Kulturkammeret\, Kirkegaten 2B\, Arendal\, Agder\, 4836
CATEGORIES:2025
ATTACH;FMTTYPE=image/jpeg:https://tyholmenfrivilligsentral.no/wp-content/uploads/2025/04/to-glade-pensjonister.jpg
END:VEVENT
BEGIN:VEVENT
DTSTART;TZID=Europe/Oslo:20260101T120000
DTEND;TZID=Europe/Oslo:20260101T130000
DTSTAMP:20260421T075905
CREATED:20251007T221624Z
LAST-MODIFIED:20251013T083925Z
UID:10004684-1767268800-1767272400@tyholmenfrivilligsentral.no
SUMMARY:💪 Sterk og Stødig – Tren for en sterkere hverdag! Påmelding🤸‍♂️
DESCRIPTION:Vil du holde deg sterk\, stødig og aktiv lenger? Sterk og Stødig er en ukentlig treningsøkt spesielt tilpasset eldre og pensjonister! 🌟 \n📅 Når: Hver torsdag kl. 12:00 og mandag kl 14:30📍 Hvor: Kulturkammeret🎟️ Åpent for alle eldre og pensjonister! \nStyrketrening er viktig når man blir eldre – det bidrar til bedre balanse\, økt muskelstyrke og reduserer risikoen for fall. Med enkle øvelser styrker vi kroppen\, holder leddene myke og bevarer selvstendigheten i hverdagen. \nBli med i et trygt og hyggelig treningsmiljø hvor du trener i ditt eget tempo! 🤗💛 Kom alene eller ta med en venn\, men meld deg på først. For påmelding\, ring Frisklivsentralen for avklaring. Telefonnr. 990 97 498 – sammen blir vi sterke og stødige! 💪✨
URL:https://tyholmenfrivilligsentral.no/aktivitet/%f0%9f%92%aa-sterk-og-stodig-tren-for-en-sterkere-hverdag-pamelding%f0%9f%a4%b8%e2%99%82%ef%b8%8f-2-2/2026-01-01/
LOCATION:Kulturkammeret\, Kirkegaten 2B\, Arendal\, Agder\, 4836
CATEGORIES:2025
ATTACH;FMTTYPE=image/jpeg:https://tyholmenfrivilligsentral.no/wp-content/uploads/2025/04/tre-glade-norske-pensjonister.jpg
END:VEVENT
BEGIN:VEVENT
DTSTART;TZID=Europe/Oslo:20260105T143000
DTEND;TZID=Europe/Oslo:20260105T151500
DTSTAMP:20260421T075905
CREATED:20250319T211210Z
LAST-MODIFIED:20250402T081459Z
UID:10001963-1767623400-1767626100@tyholmenfrivilligsentral.no
SUMMARY:💪 Sterk og Stødig – Tren for en sterkere hverdag! Påmelding🤸‍♂️
DESCRIPTION:Vil du holde deg sterk\, stødig og aktiv lenger? Sterk og Stødig er en ukentlig treningsøkt spesielt tilpasset eldre og pensjonister! 🌟 \n📅 Når: Hver mandag kl. 14:30 og torsdag kl 12:00📍 Hvor: Kulturkammeret🎟️ Åpent for alle eldre og pensjonister! \nStyrketrening er viktig når man blir eldre – det bidrar til bedre balanse\, økt muskelstyrke og reduserer risikoen for fall. Med enkle øvelser styrker vi kroppen\, holder leddene myke og bevarer selvstendigheten i hverdagen. \nBli med i et trygt og hyggelig treningsmiljø hvor du trener i ditt eget tempo! 🤗💛 Kom alene eller ta med en venn\, men meld deg på først. For påmelding\, ring Frisklivsentralen for avklaring. Telefonnr. 990 97 498 – sammen blir vi sterke og stødige! 💪✨
URL:https://tyholmenfrivilligsentral.no/aktivitet/%f0%9f%92%aa-sterk-og-stodig-tren-for-en-sterkere-hverdag-pamelding%f0%9f%a4%b8%e2%99%82%ef%b8%8f/2026-01-05/
LOCATION:Kulturkammeret\, Kirkegaten 2B\, Arendal\, Agder\, 4836
CATEGORIES:2025
ATTACH;FMTTYPE=image/jpeg:https://tyholmenfrivilligsentral.no/wp-content/uploads/2025/04/tre-glade-norske-pensjonister.jpg
END:VEVENT
BEGIN:VEVENT
DTSTART;TZID=Europe/Oslo:20260108T103000
DTEND;TZID=Europe/Oslo:20260108T113000
DTSTAMP:20260421T075905
CREATED:20250402T080754Z
LAST-MODIFIED:20251013T082740Z
UID:10004425-1767868200-1767871800@tyholmenfrivilligsentral.no
SUMMARY:💪✨ Elrobic – Trening for Eldre ✨💪
DESCRIPTION:💪✨ Elrobic – Trening for Eldre ✨💪 \n📅 Hver torsdag kl. 10:30\n📍 Kulturkammeret \nBli med på Elrobic – en morsom og tilpasset treningsøkt som gir deg energi\, styrke og balanse! Vårt fokus er på å holde kroppen aktiv og sterk\, uansett alder eller form. \nTrening er ikke bare godt for kroppen\, men også for humøret og livskvaliteten. Å bevege seg regelmessig kan bidra til bedre helse\, økt selvstendighet og et mer sosialt og aktivt liv. \nKom som du er – vi gleder oss til å trene sammen med deg! 🌟😊
URL:https://tyholmenfrivilligsentral.no/aktivitet/%f0%9f%92%aa%e2%9c%a8-elrobic-trening-for-eldre-%e2%9c%a8%f0%9f%92%aa/2026-01-08/
LOCATION:Kulturkammeret\, Kirkegaten 2B\, Arendal\, Agder\, 4836
CATEGORIES:2025
ATTACH;FMTTYPE=image/jpeg:https://tyholmenfrivilligsentral.no/wp-content/uploads/2025/04/to-glade-pensjonister.jpg
END:VEVENT
BEGIN:VEVENT
DTSTART;TZID=Europe/Oslo:20260108T120000
DTEND;TZID=Europe/Oslo:20260108T130000
DTSTAMP:20260421T075905
CREATED:20251007T221624Z
LAST-MODIFIED:20251013T083925Z
UID:10004685-1767873600-1767877200@tyholmenfrivilligsentral.no
SUMMARY:💪 Sterk og Stødig – Tren for en sterkere hverdag! Påmelding🤸‍♂️
DESCRIPTION:Vil du holde deg sterk\, stødig og aktiv lenger? Sterk og Stødig er en ukentlig treningsøkt spesielt tilpasset eldre og pensjonister! 🌟 \n📅 Når: Hver torsdag kl. 12:00 og mandag kl 14:30📍 Hvor: Kulturkammeret🎟️ Åpent for alle eldre og pensjonister! \nStyrketrening er viktig når man blir eldre – det bidrar til bedre balanse\, økt muskelstyrke og reduserer risikoen for fall. Med enkle øvelser styrker vi kroppen\, holder leddene myke og bevarer selvstendigheten i hverdagen. \nBli med i et trygt og hyggelig treningsmiljø hvor du trener i ditt eget tempo! 🤗💛 Kom alene eller ta med en venn\, men meld deg på først. For påmelding\, ring Frisklivsentralen for avklaring. Telefonnr. 990 97 498 – sammen blir vi sterke og stødige! 💪✨
URL:https://tyholmenfrivilligsentral.no/aktivitet/%f0%9f%92%aa-sterk-og-stodig-tren-for-en-sterkere-hverdag-pamelding%f0%9f%a4%b8%e2%99%82%ef%b8%8f-2-2/2026-01-08/
LOCATION:Kulturkammeret\, Kirkegaten 2B\, Arendal\, Agder\, 4836
CATEGORIES:2025
ATTACH;FMTTYPE=image/jpeg:https://tyholmenfrivilligsentral.no/wp-content/uploads/2025/04/tre-glade-norske-pensjonister.jpg
END:VEVENT
BEGIN:VEVENT
DTSTART;TZID=Europe/Oslo:20260108T120000
DTEND;TZID=Europe/Oslo:20260108T150000
DTSTAMP:20260421T075905
CREATED:20250402T074118Z
LAST-MODIFIED:20250402T074119Z
UID:10002757-1767873600-1767884400@tyholmenfrivilligsentral.no
SUMMARY:✨ Strikke Kafé – Hver Torsdag kl. 12:00 - 15:00 ✨
DESCRIPTION:Velkommen til vårt inkluderende og uhøytidelige fellesskap! \n📅 Hver torsdag kl. 12:00 – 15:00📍 Åpen kafé med enkel servering:🍲 Varm gryterett\, smørbrød\, kaffe og kake \nStrikker du ikke? Ingen problem! Du er hjertelig velkommen uansett – med eller uten håndarbeid. Her handler det om koselig samvær og god prat. \nTa med deg strikketøyet – eller bare deg selv – og nyt noen hyggelige timer sammen med oss. Vi gleder oss til å se deg! 😊
URL:https://tyholmenfrivilligsentral.no/aktivitet/%e2%9c%a8-strikke-kafe-hver-torsdag-kl-1200-1500-%e2%9c%a8/2026-01-08/
LOCATION:Tyholmen Frivilligsentral\, Nedre Tyholmsvei 7\, Arendal\, Agder\, 4836
CATEGORIES:2025
ATTACH;FMTTYPE=image/jpeg:https://tyholmenfrivilligsentral.no/wp-content/uploads/2025/04/kurv-med-mange-garn-i.jpg
END:VEVENT
BEGIN:VEVENT
DTSTART;TZID=Europe/Oslo:20260112T143000
DTEND;TZID=Europe/Oslo:20260112T151500
DTSTAMP:20260421T075905
CREATED:20250319T211210Z
LAST-MODIFIED:20250402T081459Z
UID:10001964-1768228200-1768230900@tyholmenfrivilligsentral.no
SUMMARY:💪 Sterk og Stødig – Tren for en sterkere hverdag! Påmelding🤸‍♂️
DESCRIPTION:Vil du holde deg sterk\, stødig og aktiv lenger? Sterk og Stødig er en ukentlig treningsøkt spesielt tilpasset eldre og pensjonister! 🌟 \n📅 Når: Hver mandag kl. 14:30 og torsdag kl 12:00📍 Hvor: Kulturkammeret🎟️ Åpent for alle eldre og pensjonister! \nStyrketrening er viktig når man blir eldre – det bidrar til bedre balanse\, økt muskelstyrke og reduserer risikoen for fall. Med enkle øvelser styrker vi kroppen\, holder leddene myke og bevarer selvstendigheten i hverdagen. \nBli med i et trygt og hyggelig treningsmiljø hvor du trener i ditt eget tempo! 🤗💛 Kom alene eller ta med en venn\, men meld deg på først. For påmelding\, ring Frisklivsentralen for avklaring. Telefonnr. 990 97 498 – sammen blir vi sterke og stødige! 💪✨
URL:https://tyholmenfrivilligsentral.no/aktivitet/%f0%9f%92%aa-sterk-og-stodig-tren-for-en-sterkere-hverdag-pamelding%f0%9f%a4%b8%e2%99%82%ef%b8%8f/2026-01-12/
LOCATION:Kulturkammeret\, Kirkegaten 2B\, Arendal\, Agder\, 4836
CATEGORIES:2025
ATTACH;FMTTYPE=image/jpeg:https://tyholmenfrivilligsentral.no/wp-content/uploads/2025/04/tre-glade-norske-pensjonister.jpg
END:VEVENT
BEGIN:VEVENT
DTSTART;TZID=Europe/Oslo:20260115T103000
DTEND;TZID=Europe/Oslo:20260115T113000
DTSTAMP:20260421T075905
CREATED:20250402T080754Z
LAST-MODIFIED:20251013T082740Z
UID:10004426-1768473000-1768476600@tyholmenfrivilligsentral.no
SUMMARY:💪✨ Elrobic – Trening for Eldre ✨💪
DESCRIPTION:💪✨ Elrobic – Trening for Eldre ✨💪 \n📅 Hver torsdag kl. 10:30\n📍 Kulturkammeret \nBli med på Elrobic – en morsom og tilpasset treningsøkt som gir deg energi\, styrke og balanse! Vårt fokus er på å holde kroppen aktiv og sterk\, uansett alder eller form. \nTrening er ikke bare godt for kroppen\, men også for humøret og livskvaliteten. Å bevege seg regelmessig kan bidra til bedre helse\, økt selvstendighet og et mer sosialt og aktivt liv. \nKom som du er – vi gleder oss til å trene sammen med deg! 🌟😊
URL:https://tyholmenfrivilligsentral.no/aktivitet/%f0%9f%92%aa%e2%9c%a8-elrobic-trening-for-eldre-%e2%9c%a8%f0%9f%92%aa/2026-01-15/
LOCATION:Kulturkammeret\, Kirkegaten 2B\, Arendal\, Agder\, 4836
CATEGORIES:2025
ATTACH;FMTTYPE=image/jpeg:https://tyholmenfrivilligsentral.no/wp-content/uploads/2025/04/to-glade-pensjonister.jpg
END:VEVENT
BEGIN:VEVENT
DTSTART;TZID=Europe/Oslo:20260115T120000
DTEND;TZID=Europe/Oslo:20260115T130000
DTSTAMP:20260421T075905
CREATED:20251007T221624Z
LAST-MODIFIED:20251013T083925Z
UID:10004686-1768478400-1768482000@tyholmenfrivilligsentral.no
SUMMARY:💪 Sterk og Stødig – Tren for en sterkere hverdag! Påmelding🤸‍♂️
DESCRIPTION:Vil du holde deg sterk\, stødig og aktiv lenger? Sterk og Stødig er en ukentlig treningsøkt spesielt tilpasset eldre og pensjonister! 🌟 \n📅 Når: Hver torsdag kl. 12:00 og mandag kl 14:30📍 Hvor: Kulturkammeret🎟️ Åpent for alle eldre og pensjonister! \nStyrketrening er viktig når man blir eldre – det bidrar til bedre balanse\, økt muskelstyrke og reduserer risikoen for fall. Med enkle øvelser styrker vi kroppen\, holder leddene myke og bevarer selvstendigheten i hverdagen. \nBli med i et trygt og hyggelig treningsmiljø hvor du trener i ditt eget tempo! 🤗💛 Kom alene eller ta med en venn\, men meld deg på først. For påmelding\, ring Frisklivsentralen for avklaring. Telefonnr. 990 97 498 – sammen blir vi sterke og stødige! 💪✨
URL:https://tyholmenfrivilligsentral.no/aktivitet/%f0%9f%92%aa-sterk-og-stodig-tren-for-en-sterkere-hverdag-pamelding%f0%9f%a4%b8%e2%99%82%ef%b8%8f-2-2/2026-01-15/
LOCATION:Kulturkammeret\, Kirkegaten 2B\, Arendal\, Agder\, 4836
CATEGORIES:2025
ATTACH;FMTTYPE=image/jpeg:https://tyholmenfrivilligsentral.no/wp-content/uploads/2025/04/tre-glade-norske-pensjonister.jpg
END:VEVENT
BEGIN:VEVENT
DTSTART;TZID=Europe/Oslo:20260115T120000
DTEND;TZID=Europe/Oslo:20260115T150000
DTSTAMP:20260421T075905
CREATED:20250402T074118Z
LAST-MODIFIED:20250402T074119Z
UID:10002758-1768478400-1768489200@tyholmenfrivilligsentral.no
SUMMARY:✨ Strikke Kafé – Hver Torsdag kl. 12:00 - 15:00 ✨
DESCRIPTION:Velkommen til vårt inkluderende og uhøytidelige fellesskap! \n📅 Hver torsdag kl. 12:00 – 15:00📍 Åpen kafé med enkel servering:🍲 Varm gryterett\, smørbrød\, kaffe og kake \nStrikker du ikke? Ingen problem! Du er hjertelig velkommen uansett – med eller uten håndarbeid. Her handler det om koselig samvær og god prat. \nTa med deg strikketøyet – eller bare deg selv – og nyt noen hyggelige timer sammen med oss. Vi gleder oss til å se deg! 😊
URL:https://tyholmenfrivilligsentral.no/aktivitet/%e2%9c%a8-strikke-kafe-hver-torsdag-kl-1200-1500-%e2%9c%a8/2026-01-15/
LOCATION:Tyholmen Frivilligsentral\, Nedre Tyholmsvei 7\, Arendal\, Agder\, 4836
CATEGORIES:2025
ATTACH;FMTTYPE=image/jpeg:https://tyholmenfrivilligsentral.no/wp-content/uploads/2025/04/kurv-med-mange-garn-i.jpg
END:VEVENT
BEGIN:VEVENT
DTSTART;TZID=Europe/Oslo:20260119T143000
DTEND;TZID=Europe/Oslo:20260119T151500
DTSTAMP:20260421T075905
CREATED:20250319T211210Z
LAST-MODIFIED:20250402T081459Z
UID:10001965-1768833000-1768835700@tyholmenfrivilligsentral.no
SUMMARY:💪 Sterk og Stødig – Tren for en sterkere hverdag! Påmelding🤸‍♂️
DESCRIPTION:Vil du holde deg sterk\, stødig og aktiv lenger? Sterk og Stødig er en ukentlig treningsøkt spesielt tilpasset eldre og pensjonister! 🌟 \n📅 Når: Hver mandag kl. 14:30 og torsdag kl 12:00📍 Hvor: Kulturkammeret🎟️ Åpent for alle eldre og pensjonister! \nStyrketrening er viktig når man blir eldre – det bidrar til bedre balanse\, økt muskelstyrke og reduserer risikoen for fall. Med enkle øvelser styrker vi kroppen\, holder leddene myke og bevarer selvstendigheten i hverdagen. \nBli med i et trygt og hyggelig treningsmiljø hvor du trener i ditt eget tempo! 🤗💛 Kom alene eller ta med en venn\, men meld deg på først. For påmelding\, ring Frisklivsentralen for avklaring. Telefonnr. 990 97 498 – sammen blir vi sterke og stødige! 💪✨
URL:https://tyholmenfrivilligsentral.no/aktivitet/%f0%9f%92%aa-sterk-og-stodig-tren-for-en-sterkere-hverdag-pamelding%f0%9f%a4%b8%e2%99%82%ef%b8%8f/2026-01-19/
LOCATION:Kulturkammeret\, Kirkegaten 2B\, Arendal\, Agder\, 4836
CATEGORIES:2025
ATTACH;FMTTYPE=image/jpeg:https://tyholmenfrivilligsentral.no/wp-content/uploads/2025/04/tre-glade-norske-pensjonister.jpg
END:VEVENT
BEGIN:VEVENT
DTSTART;TZID=Europe/Oslo:20260122T103000
DTEND;TZID=Europe/Oslo:20260122T113000
DTSTAMP:20260421T075905
CREATED:20250402T080754Z
LAST-MODIFIED:20251013T082740Z
UID:10004427-1769077800-1769081400@tyholmenfrivilligsentral.no
SUMMARY:💪✨ Elrobic – Trening for Eldre ✨💪
DESCRIPTION:💪✨ Elrobic – Trening for Eldre ✨💪 \n📅 Hver torsdag kl. 10:30\n📍 Kulturkammeret \nBli med på Elrobic – en morsom og tilpasset treningsøkt som gir deg energi\, styrke og balanse! Vårt fokus er på å holde kroppen aktiv og sterk\, uansett alder eller form. \nTrening er ikke bare godt for kroppen\, men også for humøret og livskvaliteten. Å bevege seg regelmessig kan bidra til bedre helse\, økt selvstendighet og et mer sosialt og aktivt liv. \nKom som du er – vi gleder oss til å trene sammen med deg! 🌟😊
URL:https://tyholmenfrivilligsentral.no/aktivitet/%f0%9f%92%aa%e2%9c%a8-elrobic-trening-for-eldre-%e2%9c%a8%f0%9f%92%aa/2026-01-22/
LOCATION:Kulturkammeret\, Kirkegaten 2B\, Arendal\, Agder\, 4836
CATEGORIES:2025
ATTACH;FMTTYPE=image/jpeg:https://tyholmenfrivilligsentral.no/wp-content/uploads/2025/04/to-glade-pensjonister.jpg
END:VEVENT
BEGIN:VEVENT
DTSTART;TZID=Europe/Oslo:20260122T120000
DTEND;TZID=Europe/Oslo:20260122T130000
DTSTAMP:20260421T075905
CREATED:20251007T221624Z
LAST-MODIFIED:20251013T083925Z
UID:10004687-1769083200-1769086800@tyholmenfrivilligsentral.no
SUMMARY:💪 Sterk og Stødig – Tren for en sterkere hverdag! Påmelding🤸‍♂️
DESCRIPTION:Vil du holde deg sterk\, stødig og aktiv lenger? Sterk og Stødig er en ukentlig treningsøkt spesielt tilpasset eldre og pensjonister! 🌟 \n📅 Når: Hver torsdag kl. 12:00 og mandag kl 14:30📍 Hvor: Kulturkammeret🎟️ Åpent for alle eldre og pensjonister! \nStyrketrening er viktig når man blir eldre – det bidrar til bedre balanse\, økt muskelstyrke og reduserer risikoen for fall. Med enkle øvelser styrker vi kroppen\, holder leddene myke og bevarer selvstendigheten i hverdagen. \nBli med i et trygt og hyggelig treningsmiljø hvor du trener i ditt eget tempo! 🤗💛 Kom alene eller ta med en venn\, men meld deg på først. For påmelding\, ring Frisklivsentralen for avklaring. Telefonnr. 990 97 498 – sammen blir vi sterke og stødige! 💪✨
URL:https://tyholmenfrivilligsentral.no/aktivitet/%f0%9f%92%aa-sterk-og-stodig-tren-for-en-sterkere-hverdag-pamelding%f0%9f%a4%b8%e2%99%82%ef%b8%8f-2-2/2026-01-22/
LOCATION:Kulturkammeret\, Kirkegaten 2B\, Arendal\, Agder\, 4836
CATEGORIES:2025
ATTACH;FMTTYPE=image/jpeg:https://tyholmenfrivilligsentral.no/wp-content/uploads/2025/04/tre-glade-norske-pensjonister.jpg
END:VEVENT
BEGIN:VEVENT
DTSTART;TZID=Europe/Oslo:20260122T120000
DTEND;TZID=Europe/Oslo:20260122T150000
DTSTAMP:20260421T075905
CREATED:20250402T074118Z
LAST-MODIFIED:20250402T074119Z
UID:10002759-1769083200-1769094000@tyholmenfrivilligsentral.no
SUMMARY:✨ Strikke Kafé – Hver Torsdag kl. 12:00 - 15:00 ✨
DESCRIPTION:Velkommen til vårt inkluderende og uhøytidelige fellesskap! \n📅 Hver torsdag kl. 12:00 – 15:00📍 Åpen kafé med enkel servering:🍲 Varm gryterett\, smørbrød\, kaffe og kake \nStrikker du ikke? Ingen problem! Du er hjertelig velkommen uansett – med eller uten håndarbeid. Her handler det om koselig samvær og god prat. \nTa med deg strikketøyet – eller bare deg selv – og nyt noen hyggelige timer sammen med oss. Vi gleder oss til å se deg! 😊
URL:https://tyholmenfrivilligsentral.no/aktivitet/%e2%9c%a8-strikke-kafe-hver-torsdag-kl-1200-1500-%e2%9c%a8/2026-01-22/
LOCATION:Tyholmen Frivilligsentral\, Nedre Tyholmsvei 7\, Arendal\, Agder\, 4836
CATEGORIES:2025
ATTACH;FMTTYPE=image/jpeg:https://tyholmenfrivilligsentral.no/wp-content/uploads/2025/04/kurv-med-mange-garn-i.jpg
END:VEVENT
BEGIN:VEVENT
DTSTART;TZID=Europe/Oslo:20260126T143000
DTEND;TZID=Europe/Oslo:20260126T151500
DTSTAMP:20260421T075905
CREATED:20250319T211210Z
LAST-MODIFIED:20250402T081459Z
UID:10001966-1769437800-1769440500@tyholmenfrivilligsentral.no
SUMMARY:💪 Sterk og Stødig – Tren for en sterkere hverdag! Påmelding🤸‍♂️
DESCRIPTION:Vil du holde deg sterk\, stødig og aktiv lenger? Sterk og Stødig er en ukentlig treningsøkt spesielt tilpasset eldre og pensjonister! 🌟 \n📅 Når: Hver mandag kl. 14:30 og torsdag kl 12:00📍 Hvor: Kulturkammeret🎟️ Åpent for alle eldre og pensjonister! \nStyrketrening er viktig når man blir eldre – det bidrar til bedre balanse\, økt muskelstyrke og reduserer risikoen for fall. Med enkle øvelser styrker vi kroppen\, holder leddene myke og bevarer selvstendigheten i hverdagen. \nBli med i et trygt og hyggelig treningsmiljø hvor du trener i ditt eget tempo! 🤗💛 Kom alene eller ta med en venn\, men meld deg på først. For påmelding\, ring Frisklivsentralen for avklaring. Telefonnr. 990 97 498 – sammen blir vi sterke og stødige! 💪✨
URL:https://tyholmenfrivilligsentral.no/aktivitet/%f0%9f%92%aa-sterk-og-stodig-tren-for-en-sterkere-hverdag-pamelding%f0%9f%a4%b8%e2%99%82%ef%b8%8f/2026-01-26/
LOCATION:Kulturkammeret\, Kirkegaten 2B\, Arendal\, Agder\, 4836
CATEGORIES:2025
ATTACH;FMTTYPE=image/jpeg:https://tyholmenfrivilligsentral.no/wp-content/uploads/2025/04/tre-glade-norske-pensjonister.jpg
END:VEVENT
BEGIN:VEVENT
DTSTART;TZID=Europe/Oslo:20260129T103000
DTEND;TZID=Europe/Oslo:20260129T113000
DTSTAMP:20260421T075905
CREATED:20250402T080754Z
LAST-MODIFIED:20251013T082740Z
UID:10004428-1769682600-1769686200@tyholmenfrivilligsentral.no
SUMMARY:💪✨ Elrobic – Trening for Eldre ✨💪
DESCRIPTION:💪✨ Elrobic – Trening for Eldre ✨💪 \n📅 Hver torsdag kl. 10:30\n📍 Kulturkammeret \nBli med på Elrobic – en morsom og tilpasset treningsøkt som gir deg energi\, styrke og balanse! Vårt fokus er på å holde kroppen aktiv og sterk\, uansett alder eller form. \nTrening er ikke bare godt for kroppen\, men også for humøret og livskvaliteten. Å bevege seg regelmessig kan bidra til bedre helse\, økt selvstendighet og et mer sosialt og aktivt liv. \nKom som du er – vi gleder oss til å trene sammen med deg! 🌟😊
URL:https://tyholmenfrivilligsentral.no/aktivitet/%f0%9f%92%aa%e2%9c%a8-elrobic-trening-for-eldre-%e2%9c%a8%f0%9f%92%aa/2026-01-29/
LOCATION:Kulturkammeret\, Kirkegaten 2B\, Arendal\, Agder\, 4836
CATEGORIES:2025
ATTACH;FMTTYPE=image/jpeg:https://tyholmenfrivilligsentral.no/wp-content/uploads/2025/04/to-glade-pensjonister.jpg
END:VEVENT
BEGIN:VEVENT
DTSTART;TZID=Europe/Oslo:20260129T120000
DTEND;TZID=Europe/Oslo:20260129T130000
DTSTAMP:20260421T075905
CREATED:20251007T221624Z
LAST-MODIFIED:20251013T083925Z
UID:10004688-1769688000-1769691600@tyholmenfrivilligsentral.no
SUMMARY:💪 Sterk og Stødig – Tren for en sterkere hverdag! Påmelding🤸‍♂️
DESCRIPTION:Vil du holde deg sterk\, stødig og aktiv lenger? Sterk og Stødig er en ukentlig treningsøkt spesielt tilpasset eldre og pensjonister! 🌟 \n📅 Når: Hver torsdag kl. 12:00 og mandag kl 14:30📍 Hvor: Kulturkammeret🎟️ Åpent for alle eldre og pensjonister! \nStyrketrening er viktig når man blir eldre – det bidrar til bedre balanse\, økt muskelstyrke og reduserer risikoen for fall. Med enkle øvelser styrker vi kroppen\, holder leddene myke og bevarer selvstendigheten i hverdagen. \nBli med i et trygt og hyggelig treningsmiljø hvor du trener i ditt eget tempo! 🤗💛 Kom alene eller ta med en venn\, men meld deg på først. For påmelding\, ring Frisklivsentralen for avklaring. Telefonnr. 990 97 498 – sammen blir vi sterke og stødige! 💪✨
URL:https://tyholmenfrivilligsentral.no/aktivitet/%f0%9f%92%aa-sterk-og-stodig-tren-for-en-sterkere-hverdag-pamelding%f0%9f%a4%b8%e2%99%82%ef%b8%8f-2-2/2026-01-29/
LOCATION:Kulturkammeret\, Kirkegaten 2B\, Arendal\, Agder\, 4836
CATEGORIES:2025
ATTACH;FMTTYPE=image/jpeg:https://tyholmenfrivilligsentral.no/wp-content/uploads/2025/04/tre-glade-norske-pensjonister.jpg
END:VEVENT
BEGIN:VEVENT
DTSTART;TZID=Europe/Oslo:20260129T120000
DTEND;TZID=Europe/Oslo:20260129T150000
DTSTAMP:20260421T075905
CREATED:20250402T074118Z
LAST-MODIFIED:20250402T074119Z
UID:10002760-1769688000-1769698800@tyholmenfrivilligsentral.no
SUMMARY:✨ Strikke Kafé – Hver Torsdag kl. 12:00 - 15:00 ✨
DESCRIPTION:Velkommen til vårt inkluderende og uhøytidelige fellesskap! \n📅 Hver torsdag kl. 12:00 – 15:00📍 Åpen kafé med enkel servering:🍲 Varm gryterett\, smørbrød\, kaffe og kake \nStrikker du ikke? Ingen problem! Du er hjertelig velkommen uansett – med eller uten håndarbeid. Her handler det om koselig samvær og god prat. \nTa med deg strikketøyet – eller bare deg selv – og nyt noen hyggelige timer sammen med oss. Vi gleder oss til å se deg! 😊
URL:https://tyholmenfrivilligsentral.no/aktivitet/%e2%9c%a8-strikke-kafe-hver-torsdag-kl-1200-1500-%e2%9c%a8/2026-01-29/
LOCATION:Tyholmen Frivilligsentral\, Nedre Tyholmsvei 7\, Arendal\, Agder\, 4836
CATEGORIES:2025
ATTACH;FMTTYPE=image/jpeg:https://tyholmenfrivilligsentral.no/wp-content/uploads/2025/04/kurv-med-mange-garn-i.jpg
END:VEVENT
END:VCALENDAR