BEGIN:VCALENDAR
VERSION:2.0
PRODID:-//Tyholmen Frivilligsentral - ECPv6.15.18//NONSGML v1.0//EN
CALSCALE:GREGORIAN
METHOD:PUBLISH
X-WR-CALNAME:Tyholmen Frivilligsentral
X-ORIGINAL-URL:https://tyholmenfrivilligsentral.no
X-WR-CALDESC:Arrangement for Tyholmen Frivilligsentral
REFRESH-INTERVAL;VALUE=DURATION:PT1H
X-Robots-Tag:noindex
X-PUBLISHED-TTL:PT1H
BEGIN:VTIMEZONE
TZID:Europe/Oslo
BEGIN:DAYLIGHT
TZOFFSETFROM:+0100
TZOFFSETTO:+0200
TZNAME:CEST
DTSTART:20240331T010000
END:DAYLIGHT
BEGIN:STANDARD
TZOFFSETFROM:+0200
TZOFFSETTO:+0100
TZNAME:CET
DTSTART:20241027T010000
END:STANDARD
BEGIN:DAYLIGHT
TZOFFSETFROM:+0100
TZOFFSETTO:+0200
TZNAME:CEST
DTSTART:20250330T010000
END:DAYLIGHT
BEGIN:STANDARD
TZOFFSETFROM:+0200
TZOFFSETTO:+0100
TZNAME:CET
DTSTART:20251026T010000
END:STANDARD
BEGIN:DAYLIGHT
TZOFFSETFROM:+0100
TZOFFSETTO:+0200
TZNAME:CEST
DTSTART:20260329T010000
END:DAYLIGHT
BEGIN:STANDARD
TZOFFSETFROM:+0200
TZOFFSETTO:+0100
TZNAME:CET
DTSTART:20261025T010000
END:STANDARD
END:VTIMEZONE
BEGIN:VEVENT
DTSTART;TZID=Europe/Oslo:20250501T103000
DTEND;TZID=Europe/Oslo:20250501T113000
DTSTAMP:20260421T222420
CREATED:20250402T080754Z
LAST-MODIFIED:20251013T082740Z
UID:10004394-1746095400-1746099000@tyholmenfrivilligsentral.no
SUMMARY:💪✨ Elrobic – Trening for Eldre ✨💪
DESCRIPTION:💪✨ Elrobic – Trening for Eldre ✨💪 \n📅 Hver torsdag kl. 10:30\n📍 Kulturkammeret \nBli med på Elrobic – en morsom og tilpasset treningsøkt som gir deg energi\, styrke og balanse! Vårt fokus er på å holde kroppen aktiv og sterk\, uansett alder eller form. \nTrening er ikke bare godt for kroppen\, men også for humøret og livskvaliteten. Å bevege seg regelmessig kan bidra til bedre helse\, økt selvstendighet og et mer sosialt og aktivt liv. \nKom som du er – vi gleder oss til å trene sammen med deg! 🌟😊
URL:https://tyholmenfrivilligsentral.no/aktivitet/%f0%9f%92%aa%e2%9c%a8-elrobic-trening-for-eldre-%e2%9c%a8%f0%9f%92%aa/2025-05-01/
LOCATION:Kulturkammeret\, Kirkegaten 2B\, Arendal\, Agder\, 4836
CATEGORIES:2025
ATTACH;FMTTYPE=image/jpeg:https://tyholmenfrivilligsentral.no/wp-content/uploads/2025/04/to-glade-pensjonister.jpg
END:VEVENT
BEGIN:VEVENT
DTSTART;TZID=Europe/Oslo:20250501T120000
DTEND;TZID=Europe/Oslo:20250501T130000
DTSTAMP:20260421T222420
CREATED:20250402T075334Z
LAST-MODIFIED:20250402T081326Z
UID:10003259-1746100800-1746104400@tyholmenfrivilligsentral.no
SUMMARY:💪 Sterk og Stødig – Tren for en sterkere hverdag! Påmelding🤸‍♂️
DESCRIPTION:Vil du holde deg sterk\, stødig og aktiv lenger? Sterk og Stødig er en ukentlig treningsøkt spesielt tilpasset eldre og pensjonister! 🌟 \n📅 Når: Hver torsdag kl. 12:00 og mandag kl 14:30📍 Hvor: Kulturkammeret🎟️ Åpent for alle eldre og pensjonister! \nStyrketrening er viktig når man blir eldre – det bidrar til bedre balanse\, økt muskelstyrke og reduserer risikoen for fall. Med enkle øvelser styrker vi kroppen\, holder leddene myke og bevarer selvstendigheten i hverdagen. \nBli med i et trygt og hyggelig treningsmiljø hvor du trener i ditt eget tempo! 🤗💛 Kom alene eller ta med en venn\, men meld deg på først. For påmelding\, ring Frisklivsentralen for avklaring. Telefonnr. 990 97 498 – sammen blir vi sterke og stødige! 💪✨
URL:https://tyholmenfrivilligsentral.no/aktivitet/%f0%9f%92%aa-sterk-og-stodig-tren-for-en-sterkere-hverdag-pamelding%f0%9f%a4%b8%e2%99%82%ef%b8%8f-2/2025-05-01/
LOCATION:Kulturkammeret\, Kirkegaten 2B\, Arendal\, Agder\, 4836
CATEGORIES:2025
ATTACH;FMTTYPE=image/jpeg:https://tyholmenfrivilligsentral.no/wp-content/uploads/2025/04/tre-glade-norske-pensjonister.jpg
END:VEVENT
BEGIN:VEVENT
DTSTART;TZID=Europe/Oslo:20250501T120000
DTEND;TZID=Europe/Oslo:20250501T150000
DTSTAMP:20260421T222420
CREATED:20250402T074118Z
LAST-MODIFIED:20250402T074119Z
UID:10002729-1746100800-1746111600@tyholmenfrivilligsentral.no
SUMMARY:✨ Strikke Kafé – Hver Torsdag kl. 12:00 - 15:00 ✨
DESCRIPTION:Velkommen til vårt inkluderende og uhøytidelige fellesskap! \n📅 Hver torsdag kl. 12:00 – 15:00📍 Åpen kafé med enkel servering:🍲 Varm gryterett\, smørbrød\, kaffe og kake \nStrikker du ikke? Ingen problem! Du er hjertelig velkommen uansett – med eller uten håndarbeid. Her handler det om koselig samvær og god prat. \nTa med deg strikketøyet – eller bare deg selv – og nyt noen hyggelige timer sammen med oss. Vi gleder oss til å se deg! 😊
URL:https://tyholmenfrivilligsentral.no/aktivitet/%e2%9c%a8-strikke-kafe-hver-torsdag-kl-1200-1500-%e2%9c%a8/2025-05-01/
LOCATION:Tyholmen Frivilligsentral\, Nedre Tyholmsvei 7\, Arendal\, Agder\, 4836
CATEGORIES:2025
ATTACH;FMTTYPE=image/jpeg:https://tyholmenfrivilligsentral.no/wp-content/uploads/2025/04/kurv-med-mange-garn-i.jpg
END:VEVENT
BEGIN:VEVENT
DTSTART;TZID=Europe/Oslo:20250505T143000
DTEND;TZID=Europe/Oslo:20250505T151500
DTSTAMP:20260421T222420
CREATED:20250319T211210Z
LAST-MODIFIED:20250402T081459Z
UID:10001935-1746455400-1746458100@tyholmenfrivilligsentral.no
SUMMARY:💪 Sterk og Stødig – Tren for en sterkere hverdag! Påmelding🤸‍♂️
DESCRIPTION:Vil du holde deg sterk\, stødig og aktiv lenger? Sterk og Stødig er en ukentlig treningsøkt spesielt tilpasset eldre og pensjonister! 🌟 \n📅 Når: Hver mandag kl. 14:30 og torsdag kl 12:00📍 Hvor: Kulturkammeret🎟️ Åpent for alle eldre og pensjonister! \nStyrketrening er viktig når man blir eldre – det bidrar til bedre balanse\, økt muskelstyrke og reduserer risikoen for fall. Med enkle øvelser styrker vi kroppen\, holder leddene myke og bevarer selvstendigheten i hverdagen. \nBli med i et trygt og hyggelig treningsmiljø hvor du trener i ditt eget tempo! 🤗💛 Kom alene eller ta med en venn\, men meld deg på først. For påmelding\, ring Frisklivsentralen for avklaring. Telefonnr. 990 97 498 – sammen blir vi sterke og stødige! 💪✨
URL:https://tyholmenfrivilligsentral.no/aktivitet/%f0%9f%92%aa-sterk-og-stodig-tren-for-en-sterkere-hverdag-pamelding%f0%9f%a4%b8%e2%99%82%ef%b8%8f/2025-05-05/
LOCATION:Kulturkammeret\, Kirkegaten 2B\, Arendal\, Agder\, 4836
CATEGORIES:2025
ATTACH;FMTTYPE=image/jpeg:https://tyholmenfrivilligsentral.no/wp-content/uploads/2025/04/tre-glade-norske-pensjonister.jpg
END:VEVENT
BEGIN:VEVENT
DTSTART;TZID=Europe/Oslo:20250508T103000
DTEND;TZID=Europe/Oslo:20250508T113000
DTSTAMP:20260421T222420
CREATED:20250402T080754Z
LAST-MODIFIED:20251013T082740Z
UID:10004395-1746700200-1746703800@tyholmenfrivilligsentral.no
SUMMARY:💪✨ Elrobic – Trening for Eldre ✨💪
DESCRIPTION:💪✨ Elrobic – Trening for Eldre ✨💪 \n📅 Hver torsdag kl. 10:30\n📍 Kulturkammeret \nBli med på Elrobic – en morsom og tilpasset treningsøkt som gir deg energi\, styrke og balanse! Vårt fokus er på å holde kroppen aktiv og sterk\, uansett alder eller form. \nTrening er ikke bare godt for kroppen\, men også for humøret og livskvaliteten. Å bevege seg regelmessig kan bidra til bedre helse\, økt selvstendighet og et mer sosialt og aktivt liv. \nKom som du er – vi gleder oss til å trene sammen med deg! 🌟😊
URL:https://tyholmenfrivilligsentral.no/aktivitet/%f0%9f%92%aa%e2%9c%a8-elrobic-trening-for-eldre-%e2%9c%a8%f0%9f%92%aa/2025-05-08/
LOCATION:Kulturkammeret\, Kirkegaten 2B\, Arendal\, Agder\, 4836
CATEGORIES:2025
ATTACH;FMTTYPE=image/jpeg:https://tyholmenfrivilligsentral.no/wp-content/uploads/2025/04/to-glade-pensjonister.jpg
END:VEVENT
BEGIN:VEVENT
DTSTART;TZID=Europe/Oslo:20250508T120000
DTEND;TZID=Europe/Oslo:20250508T130000
DTSTAMP:20260421T222420
CREATED:20250402T075334Z
LAST-MODIFIED:20250402T081326Z
UID:10003260-1746705600-1746709200@tyholmenfrivilligsentral.no
SUMMARY:💪 Sterk og Stødig – Tren for en sterkere hverdag! Påmelding🤸‍♂️
DESCRIPTION:Vil du holde deg sterk\, stødig og aktiv lenger? Sterk og Stødig er en ukentlig treningsøkt spesielt tilpasset eldre og pensjonister! 🌟 \n📅 Når: Hver torsdag kl. 12:00 og mandag kl 14:30📍 Hvor: Kulturkammeret🎟️ Åpent for alle eldre og pensjonister! \nStyrketrening er viktig når man blir eldre – det bidrar til bedre balanse\, økt muskelstyrke og reduserer risikoen for fall. Med enkle øvelser styrker vi kroppen\, holder leddene myke og bevarer selvstendigheten i hverdagen. \nBli med i et trygt og hyggelig treningsmiljø hvor du trener i ditt eget tempo! 🤗💛 Kom alene eller ta med en venn\, men meld deg på først. For påmelding\, ring Frisklivsentralen for avklaring. Telefonnr. 990 97 498 – sammen blir vi sterke og stødige! 💪✨
URL:https://tyholmenfrivilligsentral.no/aktivitet/%f0%9f%92%aa-sterk-og-stodig-tren-for-en-sterkere-hverdag-pamelding%f0%9f%a4%b8%e2%99%82%ef%b8%8f-2/2025-05-08/
LOCATION:Kulturkammeret\, Kirkegaten 2B\, Arendal\, Agder\, 4836
CATEGORIES:2025
ATTACH;FMTTYPE=image/jpeg:https://tyholmenfrivilligsentral.no/wp-content/uploads/2025/04/tre-glade-norske-pensjonister.jpg
END:VEVENT
BEGIN:VEVENT
DTSTART;TZID=Europe/Oslo:20250508T120000
DTEND;TZID=Europe/Oslo:20250508T150000
DTSTAMP:20260421T222420
CREATED:20250402T074118Z
LAST-MODIFIED:20250402T074119Z
UID:10002730-1746705600-1746716400@tyholmenfrivilligsentral.no
SUMMARY:✨ Strikke Kafé – Hver Torsdag kl. 12:00 - 15:00 ✨
DESCRIPTION:Velkommen til vårt inkluderende og uhøytidelige fellesskap! \n📅 Hver torsdag kl. 12:00 – 15:00📍 Åpen kafé med enkel servering:🍲 Varm gryterett\, smørbrød\, kaffe og kake \nStrikker du ikke? Ingen problem! Du er hjertelig velkommen uansett – med eller uten håndarbeid. Her handler det om koselig samvær og god prat. \nTa med deg strikketøyet – eller bare deg selv – og nyt noen hyggelige timer sammen med oss. Vi gleder oss til å se deg! 😊
URL:https://tyholmenfrivilligsentral.no/aktivitet/%e2%9c%a8-strikke-kafe-hver-torsdag-kl-1200-1500-%e2%9c%a8/2025-05-08/
LOCATION:Tyholmen Frivilligsentral\, Nedre Tyholmsvei 7\, Arendal\, Agder\, 4836
CATEGORIES:2025
ATTACH;FMTTYPE=image/jpeg:https://tyholmenfrivilligsentral.no/wp-content/uploads/2025/04/kurv-med-mange-garn-i.jpg
END:VEVENT
BEGIN:VEVENT
DTSTART;TZID=Europe/Oslo:20250512T143000
DTEND;TZID=Europe/Oslo:20250512T151500
DTSTAMP:20260421T222420
CREATED:20250319T211210Z
LAST-MODIFIED:20250402T081459Z
UID:10001936-1747060200-1747062900@tyholmenfrivilligsentral.no
SUMMARY:💪 Sterk og Stødig – Tren for en sterkere hverdag! Påmelding🤸‍♂️
DESCRIPTION:Vil du holde deg sterk\, stødig og aktiv lenger? Sterk og Stødig er en ukentlig treningsøkt spesielt tilpasset eldre og pensjonister! 🌟 \n📅 Når: Hver mandag kl. 14:30 og torsdag kl 12:00📍 Hvor: Kulturkammeret🎟️ Åpent for alle eldre og pensjonister! \nStyrketrening er viktig når man blir eldre – det bidrar til bedre balanse\, økt muskelstyrke og reduserer risikoen for fall. Med enkle øvelser styrker vi kroppen\, holder leddene myke og bevarer selvstendigheten i hverdagen. \nBli med i et trygt og hyggelig treningsmiljø hvor du trener i ditt eget tempo! 🤗💛 Kom alene eller ta med en venn\, men meld deg på først. For påmelding\, ring Frisklivsentralen for avklaring. Telefonnr. 990 97 498 – sammen blir vi sterke og stødige! 💪✨
URL:https://tyholmenfrivilligsentral.no/aktivitet/%f0%9f%92%aa-sterk-og-stodig-tren-for-en-sterkere-hverdag-pamelding%f0%9f%a4%b8%e2%99%82%ef%b8%8f/2025-05-12/
LOCATION:Kulturkammeret\, Kirkegaten 2B\, Arendal\, Agder\, 4836
CATEGORIES:2025
ATTACH;FMTTYPE=image/jpeg:https://tyholmenfrivilligsentral.no/wp-content/uploads/2025/04/tre-glade-norske-pensjonister.jpg
END:VEVENT
BEGIN:VEVENT
DTSTART;TZID=Europe/Oslo:20250515T103000
DTEND;TZID=Europe/Oslo:20250515T113000
DTSTAMP:20260421T222420
CREATED:20250402T080754Z
LAST-MODIFIED:20251013T082740Z
UID:10004396-1747305000-1747308600@tyholmenfrivilligsentral.no
SUMMARY:💪✨ Elrobic – Trening for Eldre ✨💪
DESCRIPTION:💪✨ Elrobic – Trening for Eldre ✨💪 \n📅 Hver torsdag kl. 10:30\n📍 Kulturkammeret \nBli med på Elrobic – en morsom og tilpasset treningsøkt som gir deg energi\, styrke og balanse! Vårt fokus er på å holde kroppen aktiv og sterk\, uansett alder eller form. \nTrening er ikke bare godt for kroppen\, men også for humøret og livskvaliteten. Å bevege seg regelmessig kan bidra til bedre helse\, økt selvstendighet og et mer sosialt og aktivt liv. \nKom som du er – vi gleder oss til å trene sammen med deg! 🌟😊
URL:https://tyholmenfrivilligsentral.no/aktivitet/%f0%9f%92%aa%e2%9c%a8-elrobic-trening-for-eldre-%e2%9c%a8%f0%9f%92%aa/2025-05-15/
LOCATION:Kulturkammeret\, Kirkegaten 2B\, Arendal\, Agder\, 4836
CATEGORIES:2025
ATTACH;FMTTYPE=image/jpeg:https://tyholmenfrivilligsentral.no/wp-content/uploads/2025/04/to-glade-pensjonister.jpg
END:VEVENT
BEGIN:VEVENT
DTSTART;TZID=Europe/Oslo:20250515T120000
DTEND;TZID=Europe/Oslo:20250515T130000
DTSTAMP:20260421T222420
CREATED:20250402T075334Z
LAST-MODIFIED:20250402T081326Z
UID:10003261-1747310400-1747314000@tyholmenfrivilligsentral.no
SUMMARY:💪 Sterk og Stødig – Tren for en sterkere hverdag! Påmelding🤸‍♂️
DESCRIPTION:Vil du holde deg sterk\, stødig og aktiv lenger? Sterk og Stødig er en ukentlig treningsøkt spesielt tilpasset eldre og pensjonister! 🌟 \n📅 Når: Hver torsdag kl. 12:00 og mandag kl 14:30📍 Hvor: Kulturkammeret🎟️ Åpent for alle eldre og pensjonister! \nStyrketrening er viktig når man blir eldre – det bidrar til bedre balanse\, økt muskelstyrke og reduserer risikoen for fall. Med enkle øvelser styrker vi kroppen\, holder leddene myke og bevarer selvstendigheten i hverdagen. \nBli med i et trygt og hyggelig treningsmiljø hvor du trener i ditt eget tempo! 🤗💛 Kom alene eller ta med en venn\, men meld deg på først. For påmelding\, ring Frisklivsentralen for avklaring. Telefonnr. 990 97 498 – sammen blir vi sterke og stødige! 💪✨
URL:https://tyholmenfrivilligsentral.no/aktivitet/%f0%9f%92%aa-sterk-og-stodig-tren-for-en-sterkere-hverdag-pamelding%f0%9f%a4%b8%e2%99%82%ef%b8%8f-2/2025-05-15/
LOCATION:Kulturkammeret\, Kirkegaten 2B\, Arendal\, Agder\, 4836
CATEGORIES:2025
ATTACH;FMTTYPE=image/jpeg:https://tyholmenfrivilligsentral.no/wp-content/uploads/2025/04/tre-glade-norske-pensjonister.jpg
END:VEVENT
BEGIN:VEVENT
DTSTART;TZID=Europe/Oslo:20250515T120000
DTEND;TZID=Europe/Oslo:20250515T150000
DTSTAMP:20260421T222420
CREATED:20250402T074118Z
LAST-MODIFIED:20250402T074119Z
UID:10002731-1747310400-1747321200@tyholmenfrivilligsentral.no
SUMMARY:✨ Strikke Kafé – Hver Torsdag kl. 12:00 - 15:00 ✨
DESCRIPTION:Velkommen til vårt inkluderende og uhøytidelige fellesskap! \n📅 Hver torsdag kl. 12:00 – 15:00📍 Åpen kafé med enkel servering:🍲 Varm gryterett\, smørbrød\, kaffe og kake \nStrikker du ikke? Ingen problem! Du er hjertelig velkommen uansett – med eller uten håndarbeid. Her handler det om koselig samvær og god prat. \nTa med deg strikketøyet – eller bare deg selv – og nyt noen hyggelige timer sammen med oss. Vi gleder oss til å se deg! 😊
URL:https://tyholmenfrivilligsentral.no/aktivitet/%e2%9c%a8-strikke-kafe-hver-torsdag-kl-1200-1500-%e2%9c%a8/2025-05-15/
LOCATION:Tyholmen Frivilligsentral\, Nedre Tyholmsvei 7\, Arendal\, Agder\, 4836
CATEGORIES:2025
ATTACH;FMTTYPE=image/jpeg:https://tyholmenfrivilligsentral.no/wp-content/uploads/2025/04/kurv-med-mange-garn-i.jpg
END:VEVENT
BEGIN:VEVENT
DTSTART;TZID=Europe/Oslo:20250519T143000
DTEND;TZID=Europe/Oslo:20250519T151500
DTSTAMP:20260421T222420
CREATED:20250319T211210Z
LAST-MODIFIED:20250402T081459Z
UID:10001937-1747665000-1747667700@tyholmenfrivilligsentral.no
SUMMARY:💪 Sterk og Stødig – Tren for en sterkere hverdag! Påmelding🤸‍♂️
DESCRIPTION:Vil du holde deg sterk\, stødig og aktiv lenger? Sterk og Stødig er en ukentlig treningsøkt spesielt tilpasset eldre og pensjonister! 🌟 \n📅 Når: Hver mandag kl. 14:30 og torsdag kl 12:00📍 Hvor: Kulturkammeret🎟️ Åpent for alle eldre og pensjonister! \nStyrketrening er viktig når man blir eldre – det bidrar til bedre balanse\, økt muskelstyrke og reduserer risikoen for fall. Med enkle øvelser styrker vi kroppen\, holder leddene myke og bevarer selvstendigheten i hverdagen. \nBli med i et trygt og hyggelig treningsmiljø hvor du trener i ditt eget tempo! 🤗💛 Kom alene eller ta med en venn\, men meld deg på først. For påmelding\, ring Frisklivsentralen for avklaring. Telefonnr. 990 97 498 – sammen blir vi sterke og stødige! 💪✨
URL:https://tyholmenfrivilligsentral.no/aktivitet/%f0%9f%92%aa-sterk-og-stodig-tren-for-en-sterkere-hverdag-pamelding%f0%9f%a4%b8%e2%99%82%ef%b8%8f/2025-05-19/
LOCATION:Kulturkammeret\, Kirkegaten 2B\, Arendal\, Agder\, 4836
CATEGORIES:2025
ATTACH;FMTTYPE=image/jpeg:https://tyholmenfrivilligsentral.no/wp-content/uploads/2025/04/tre-glade-norske-pensjonister.jpg
END:VEVENT
BEGIN:VEVENT
DTSTART;TZID=Europe/Oslo:20250522T103000
DTEND;TZID=Europe/Oslo:20250522T113000
DTSTAMP:20260421T222420
CREATED:20250402T080754Z
LAST-MODIFIED:20251013T082740Z
UID:10004397-1747909800-1747913400@tyholmenfrivilligsentral.no
SUMMARY:💪✨ Elrobic – Trening for Eldre ✨💪
DESCRIPTION:💪✨ Elrobic – Trening for Eldre ✨💪 \n📅 Hver torsdag kl. 10:30\n📍 Kulturkammeret \nBli med på Elrobic – en morsom og tilpasset treningsøkt som gir deg energi\, styrke og balanse! Vårt fokus er på å holde kroppen aktiv og sterk\, uansett alder eller form. \nTrening er ikke bare godt for kroppen\, men også for humøret og livskvaliteten. Å bevege seg regelmessig kan bidra til bedre helse\, økt selvstendighet og et mer sosialt og aktivt liv. \nKom som du er – vi gleder oss til å trene sammen med deg! 🌟😊
URL:https://tyholmenfrivilligsentral.no/aktivitet/%f0%9f%92%aa%e2%9c%a8-elrobic-trening-for-eldre-%e2%9c%a8%f0%9f%92%aa/2025-05-22/
LOCATION:Kulturkammeret\, Kirkegaten 2B\, Arendal\, Agder\, 4836
CATEGORIES:2025
ATTACH;FMTTYPE=image/jpeg:https://tyholmenfrivilligsentral.no/wp-content/uploads/2025/04/to-glade-pensjonister.jpg
END:VEVENT
BEGIN:VEVENT
DTSTART;TZID=Europe/Oslo:20250522T120000
DTEND;TZID=Europe/Oslo:20250522T130000
DTSTAMP:20260421T222420
CREATED:20250402T075334Z
LAST-MODIFIED:20250402T081326Z
UID:10003262-1747915200-1747918800@tyholmenfrivilligsentral.no
SUMMARY:💪 Sterk og Stødig – Tren for en sterkere hverdag! Påmelding🤸‍♂️
DESCRIPTION:Vil du holde deg sterk\, stødig og aktiv lenger? Sterk og Stødig er en ukentlig treningsøkt spesielt tilpasset eldre og pensjonister! 🌟 \n📅 Når: Hver torsdag kl. 12:00 og mandag kl 14:30📍 Hvor: Kulturkammeret🎟️ Åpent for alle eldre og pensjonister! \nStyrketrening er viktig når man blir eldre – det bidrar til bedre balanse\, økt muskelstyrke og reduserer risikoen for fall. Med enkle øvelser styrker vi kroppen\, holder leddene myke og bevarer selvstendigheten i hverdagen. \nBli med i et trygt og hyggelig treningsmiljø hvor du trener i ditt eget tempo! 🤗💛 Kom alene eller ta med en venn\, men meld deg på først. For påmelding\, ring Frisklivsentralen for avklaring. Telefonnr. 990 97 498 – sammen blir vi sterke og stødige! 💪✨
URL:https://tyholmenfrivilligsentral.no/aktivitet/%f0%9f%92%aa-sterk-og-stodig-tren-for-en-sterkere-hverdag-pamelding%f0%9f%a4%b8%e2%99%82%ef%b8%8f-2/2025-05-22/
LOCATION:Kulturkammeret\, Kirkegaten 2B\, Arendal\, Agder\, 4836
CATEGORIES:2025
ATTACH;FMTTYPE=image/jpeg:https://tyholmenfrivilligsentral.no/wp-content/uploads/2025/04/tre-glade-norske-pensjonister.jpg
END:VEVENT
BEGIN:VEVENT
DTSTART;TZID=Europe/Oslo:20250522T120000
DTEND;TZID=Europe/Oslo:20250522T150000
DTSTAMP:20260421T222420
CREATED:20250402T074118Z
LAST-MODIFIED:20250402T074119Z
UID:10002732-1747915200-1747926000@tyholmenfrivilligsentral.no
SUMMARY:✨ Strikke Kafé – Hver Torsdag kl. 12:00 - 15:00 ✨
DESCRIPTION:Velkommen til vårt inkluderende og uhøytidelige fellesskap! \n📅 Hver torsdag kl. 12:00 – 15:00📍 Åpen kafé med enkel servering:🍲 Varm gryterett\, smørbrød\, kaffe og kake \nStrikker du ikke? Ingen problem! Du er hjertelig velkommen uansett – med eller uten håndarbeid. Her handler det om koselig samvær og god prat. \nTa med deg strikketøyet – eller bare deg selv – og nyt noen hyggelige timer sammen med oss. Vi gleder oss til å se deg! 😊
URL:https://tyholmenfrivilligsentral.no/aktivitet/%e2%9c%a8-strikke-kafe-hver-torsdag-kl-1200-1500-%e2%9c%a8/2025-05-22/
LOCATION:Tyholmen Frivilligsentral\, Nedre Tyholmsvei 7\, Arendal\, Agder\, 4836
CATEGORIES:2025
ATTACH;FMTTYPE=image/jpeg:https://tyholmenfrivilligsentral.no/wp-content/uploads/2025/04/kurv-med-mange-garn-i.jpg
END:VEVENT
BEGIN:VEVENT
DTSTART;TZID=Europe/Oslo:20250526T143000
DTEND;TZID=Europe/Oslo:20250526T151500
DTSTAMP:20260421T222420
CREATED:20250319T211210Z
LAST-MODIFIED:20250402T081459Z
UID:10001938-1748269800-1748272500@tyholmenfrivilligsentral.no
SUMMARY:💪 Sterk og Stødig – Tren for en sterkere hverdag! Påmelding🤸‍♂️
DESCRIPTION:Vil du holde deg sterk\, stødig og aktiv lenger? Sterk og Stødig er en ukentlig treningsøkt spesielt tilpasset eldre og pensjonister! 🌟 \n📅 Når: Hver mandag kl. 14:30 og torsdag kl 12:00📍 Hvor: Kulturkammeret🎟️ Åpent for alle eldre og pensjonister! \nStyrketrening er viktig når man blir eldre – det bidrar til bedre balanse\, økt muskelstyrke og reduserer risikoen for fall. Med enkle øvelser styrker vi kroppen\, holder leddene myke og bevarer selvstendigheten i hverdagen. \nBli med i et trygt og hyggelig treningsmiljø hvor du trener i ditt eget tempo! 🤗💛 Kom alene eller ta med en venn\, men meld deg på først. For påmelding\, ring Frisklivsentralen for avklaring. Telefonnr. 990 97 498 – sammen blir vi sterke og stødige! 💪✨
URL:https://tyholmenfrivilligsentral.no/aktivitet/%f0%9f%92%aa-sterk-og-stodig-tren-for-en-sterkere-hverdag-pamelding%f0%9f%a4%b8%e2%99%82%ef%b8%8f/2025-05-26/
LOCATION:Kulturkammeret\, Kirkegaten 2B\, Arendal\, Agder\, 4836
CATEGORIES:2025
ATTACH;FMTTYPE=image/jpeg:https://tyholmenfrivilligsentral.no/wp-content/uploads/2025/04/tre-glade-norske-pensjonister.jpg
END:VEVENT
BEGIN:VEVENT
DTSTART;TZID=Europe/Oslo:20250529T103000
DTEND;TZID=Europe/Oslo:20250529T113000
DTSTAMP:20260421T222420
CREATED:20250402T080754Z
LAST-MODIFIED:20251013T082740Z
UID:10004398-1748514600-1748518200@tyholmenfrivilligsentral.no
SUMMARY:💪✨ Elrobic – Trening for Eldre ✨💪
DESCRIPTION:💪✨ Elrobic – Trening for Eldre ✨💪 \n📅 Hver torsdag kl. 10:30\n📍 Kulturkammeret \nBli med på Elrobic – en morsom og tilpasset treningsøkt som gir deg energi\, styrke og balanse! Vårt fokus er på å holde kroppen aktiv og sterk\, uansett alder eller form. \nTrening er ikke bare godt for kroppen\, men også for humøret og livskvaliteten. Å bevege seg regelmessig kan bidra til bedre helse\, økt selvstendighet og et mer sosialt og aktivt liv. \nKom som du er – vi gleder oss til å trene sammen med deg! 🌟😊
URL:https://tyholmenfrivilligsentral.no/aktivitet/%f0%9f%92%aa%e2%9c%a8-elrobic-trening-for-eldre-%e2%9c%a8%f0%9f%92%aa/2025-05-29/
LOCATION:Kulturkammeret\, Kirkegaten 2B\, Arendal\, Agder\, 4836
CATEGORIES:2025
ATTACH;FMTTYPE=image/jpeg:https://tyholmenfrivilligsentral.no/wp-content/uploads/2025/04/to-glade-pensjonister.jpg
END:VEVENT
BEGIN:VEVENT
DTSTART;TZID=Europe/Oslo:20250529T120000
DTEND;TZID=Europe/Oslo:20250529T130000
DTSTAMP:20260421T222420
CREATED:20250402T075334Z
LAST-MODIFIED:20250402T081326Z
UID:10003263-1748520000-1748523600@tyholmenfrivilligsentral.no
SUMMARY:💪 Sterk og Stødig – Tren for en sterkere hverdag! Påmelding🤸‍♂️
DESCRIPTION:Vil du holde deg sterk\, stødig og aktiv lenger? Sterk og Stødig er en ukentlig treningsøkt spesielt tilpasset eldre og pensjonister! 🌟 \n📅 Når: Hver torsdag kl. 12:00 og mandag kl 14:30📍 Hvor: Kulturkammeret🎟️ Åpent for alle eldre og pensjonister! \nStyrketrening er viktig når man blir eldre – det bidrar til bedre balanse\, økt muskelstyrke og reduserer risikoen for fall. Med enkle øvelser styrker vi kroppen\, holder leddene myke og bevarer selvstendigheten i hverdagen. \nBli med i et trygt og hyggelig treningsmiljø hvor du trener i ditt eget tempo! 🤗💛 Kom alene eller ta med en venn\, men meld deg på først. For påmelding\, ring Frisklivsentralen for avklaring. Telefonnr. 990 97 498 – sammen blir vi sterke og stødige! 💪✨
URL:https://tyholmenfrivilligsentral.no/aktivitet/%f0%9f%92%aa-sterk-og-stodig-tren-for-en-sterkere-hverdag-pamelding%f0%9f%a4%b8%e2%99%82%ef%b8%8f-2/2025-05-29/
LOCATION:Kulturkammeret\, Kirkegaten 2B\, Arendal\, Agder\, 4836
CATEGORIES:2025
ATTACH;FMTTYPE=image/jpeg:https://tyholmenfrivilligsentral.no/wp-content/uploads/2025/04/tre-glade-norske-pensjonister.jpg
END:VEVENT
END:VCALENDAR