BEGIN:VCALENDAR
VERSION:2.0
PRODID:-//Tyholmen Frivilligsentral - ECPv6.15.18//NONSGML v1.0//EN
CALSCALE:GREGORIAN
METHOD:PUBLISH
X-WR-CALNAME:Tyholmen Frivilligsentral
X-ORIGINAL-URL:https://tyholmenfrivilligsentral.no
X-WR-CALDESC:Arrangement for Tyholmen Frivilligsentral
REFRESH-INTERVAL;VALUE=DURATION:PT1H
X-Robots-Tag:noindex
X-PUBLISHED-TTL:PT1H
BEGIN:VTIMEZONE
TZID:Europe/Oslo
BEGIN:DAYLIGHT
TZOFFSETFROM:+0100
TZOFFSETTO:+0200
TZNAME:CEST
DTSTART:20250330T010000
END:DAYLIGHT
BEGIN:STANDARD
TZOFFSETFROM:+0200
TZOFFSETTO:+0100
TZNAME:CET
DTSTART:20251026T010000
END:STANDARD
BEGIN:DAYLIGHT
TZOFFSETFROM:+0100
TZOFFSETTO:+0200
TZNAME:CEST
DTSTART:20260329T010000
END:DAYLIGHT
BEGIN:STANDARD
TZOFFSETFROM:+0200
TZOFFSETTO:+0100
TZNAME:CET
DTSTART:20261025T010000
END:STANDARD
BEGIN:DAYLIGHT
TZOFFSETFROM:+0100
TZOFFSETTO:+0200
TZNAME:CEST
DTSTART:20270328T010000
END:DAYLIGHT
BEGIN:STANDARD
TZOFFSETFROM:+0200
TZOFFSETTO:+0100
TZNAME:CET
DTSTART:20271031T010000
END:STANDARD
END:VTIMEZONE
BEGIN:VEVENT
DTSTART;TZID=Europe/Oslo:20260331T133000
DTEND;TZID=Europe/Oslo:20260331T150000
DTSTAMP:20260420T102353
CREATED:20260105T135949Z
LAST-MODIFIED:20260105T142012Z
UID:10005898-1774963800-1774969200@tyholmenfrivilligsentral.no
SUMMARY:🐑 Dagens: Påskelam kun 100 kr 🍽️ – Sesongens Høydepunkt!
DESCRIPTION:Velkommen! \n🍽️ Velkommen til middag hos Tyholmen Frivilligsentral! 🍽️Saftig påskelam\, perfekt tilberedt og full av vårstemning 🌼 \n📅 Tirsdag 31. mars kl. 13:30 – 15:00 \n💰 Priser:✅ Middag: kr. 100\,-✅ Dessert: kr. 25\,-✅ Kaffe: kr. 25\,- \n☕ Kafétilbud torsdag og fredag kl. 12–14. \nPåske på tallerkenen – fellesskap rundt bordet.
URL:https://tyholmenfrivilligsentral.no/aktivitet/dagens-paskelam-kun-100-kr-sesongens-hoydepunkt/
LOCATION:Tyholmen Frivilligsentral\, Nedre Tyholmsvei 7\, Arendal\, Agder\, 4836
CATEGORIES:2026
ATTACH;FMTTYPE=image/jpeg:https://tyholmenfrivilligsentral.no/wp-content/uploads/2026/01/Lam.jpg
END:VEVENT
END:VCALENDAR