BEGIN:VCALENDAR
VERSION:2.0
PRODID:-//Tyholmen Frivilligsentral - ECPv6.15.18//NONSGML v1.0//EN
CALSCALE:GREGORIAN
METHOD:PUBLISH
X-ORIGINAL-URL:https://tyholmenfrivilligsentral.no
X-WR-CALDESC:Arrangement for Tyholmen Frivilligsentral
REFRESH-INTERVAL;VALUE=DURATION:PT1H
X-Robots-Tag:noindex
X-PUBLISHED-TTL:PT1H
BEGIN:VTIMEZONE
TZID:Europe/Oslo
BEGIN:DAYLIGHT
TZOFFSETFROM:+0100
TZOFFSETTO:+0200
TZNAME:CEST
DTSTART:20250330T010000
END:DAYLIGHT
BEGIN:STANDARD
TZOFFSETFROM:+0200
TZOFFSETTO:+0100
TZNAME:CET
DTSTART:20251026T010000
END:STANDARD
BEGIN:DAYLIGHT
TZOFFSETFROM:+0100
TZOFFSETTO:+0200
TZNAME:CEST
DTSTART:20260329T010000
END:DAYLIGHT
BEGIN:STANDARD
TZOFFSETFROM:+0200
TZOFFSETTO:+0100
TZNAME:CET
DTSTART:20261025T010000
END:STANDARD
BEGIN:DAYLIGHT
TZOFFSETFROM:+0100
TZOFFSETTO:+0200
TZNAME:CEST
DTSTART:20270328T010000
END:DAYLIGHT
BEGIN:STANDARD
TZOFFSETFROM:+0200
TZOFFSETTO:+0100
TZNAME:CET
DTSTART:20271031T010000
END:STANDARD
END:VTIMEZONE
BEGIN:VEVENT
DTSTART;TZID=Europe/Oslo:20260504T143000
DTEND;TZID=Europe/Oslo:20260504T151500
DTSTAMP:20260421T123010
CREATED:20250319T211210Z
LAST-MODIFIED:20250402T081459Z
UID:10001980-1777905000-1777907700@tyholmenfrivilligsentral.no
SUMMARY:💪 Sterk og Stødig – Tren for en sterkere hverdag! Påmelding🤸‍♂️
DESCRIPTION:Vil du holde deg sterk\, stødig og aktiv lenger? Sterk og Stødig er en ukentlig treningsøkt spesielt tilpasset eldre og pensjonister! 🌟 \n📅 Når: Hver mandag kl. 14:30 og torsdag kl 12:00📍 Hvor: Kulturkammeret🎟️ Åpent for alle eldre og pensjonister! \nStyrketrening er viktig når man blir eldre – det bidrar til bedre balanse\, økt muskelstyrke og reduserer risikoen for fall. Med enkle øvelser styrker vi kroppen\, holder leddene myke og bevarer selvstendigheten i hverdagen. \nBli med i et trygt og hyggelig treningsmiljø hvor du trener i ditt eget tempo! 🤗💛 Kom alene eller ta med en venn\, men meld deg på først. For påmelding\, ring Frisklivsentralen for avklaring. Telefonnr. 990 97 498 – sammen blir vi sterke og stødige! 💪✨
URL:https://tyholmenfrivilligsentral.no/aktivitet/%f0%9f%92%aa-sterk-og-stodig-tren-for-en-sterkere-hverdag-pamelding%f0%9f%a4%b8%e2%99%82%ef%b8%8f/2026-05-04/
LOCATION:Kulturkammeret\, Kirkegaten 2B\, Arendal\, Agder\, 4836
CATEGORIES:2025
ATTACH;FMTTYPE=image/jpeg:https://tyholmenfrivilligsentral.no/wp-content/uploads/2025/04/tre-glade-norske-pensjonister.jpg
END:VEVENT
BEGIN:VEVENT
DTSTART;TZID=Europe/Oslo:20260506T173000
DTEND;TZID=Europe/Oslo:20260506T183000
DTSTAMP:20260421T123010
CREATED:20251007T223540Z
LAST-MODIFIED:20260105T123910Z
UID:10005847-1778088600-1778092200@tyholmenfrivilligsentral.no
SUMMARY:🤠🎶 Linedance for eldre og pensjonister – Bli med på danseglede GRATIS! 💃🕺
DESCRIPTION:Har du lyst til å bevege deg til fengende musikk\, lære morsomme trinn og ha det gøy sammen med andre? Da er Linedance perfekt for deg! 💛 \n📅 Når: Hver mandag og tirsdag kl. 12:45. Hver onsdag kl 16:30 \n📍 Hvor: Kulturkammeret🎟️ Åpent for alle eldre og pensjonister! \nLinedance er en sosial og morsom danseform der vi danser i rekker til musikk – ingen partner trengs! 🎵💃 Det er lett å lære\, god trening for både kropp og hjerne\, og gir masse energi og glede! \nKom alene eller ta med en venn – her blir du tatt godt imot! 🤗 Velkommen til en danseøkt fylt med rytme\, bevegelse og godt humør! 🎶✨
URL:https://tyholmenfrivilligsentral.no/aktivitet/%f0%9f%95%ba-linedans-hver-onsdag-kl-1630/2026-05-06/
LOCATION:Kulturkammeret\, Kirkegaten 2B\, Arendal\, Agder\, 4836
CATEGORIES:2025,2026
ATTACH;FMTTYPE=image/jpeg:https://tyholmenfrivilligsentral.no/wp-content/uploads/2025/03/lag-tegning-om-linedance-med-4-pensjonister.jpg
END:VEVENT
BEGIN:VEVENT
DTSTART;TZID=Europe/Oslo:20260507T103000
DTEND;TZID=Europe/Oslo:20260507T113000
DTSTAMP:20260421T123010
CREATED:20250402T080754Z
LAST-MODIFIED:20251013T082740Z
UID:10004441-1778149800-1778153400@tyholmenfrivilligsentral.no
SUMMARY:💪✨ Elrobic – Trening for Eldre ✨💪
DESCRIPTION:💪✨ Elrobic – Trening for Eldre ✨💪 \n📅 Hver torsdag kl. 10:30\n📍 Kulturkammeret \nBli med på Elrobic – en morsom og tilpasset treningsøkt som gir deg energi\, styrke og balanse! Vårt fokus er på å holde kroppen aktiv og sterk\, uansett alder eller form. \nTrening er ikke bare godt for kroppen\, men også for humøret og livskvaliteten. Å bevege seg regelmessig kan bidra til bedre helse\, økt selvstendighet og et mer sosialt og aktivt liv. \nKom som du er – vi gleder oss til å trene sammen med deg! 🌟😊
URL:https://tyholmenfrivilligsentral.no/aktivitet/%f0%9f%92%aa%e2%9c%a8-elrobic-trening-for-eldre-%e2%9c%a8%f0%9f%92%aa/2026-05-07/
LOCATION:Kulturkammeret\, Kirkegaten 2B\, Arendal\, Agder\, 4836
CATEGORIES:2025
ATTACH;FMTTYPE=image/jpeg:https://tyholmenfrivilligsentral.no/wp-content/uploads/2025/04/to-glade-pensjonister.jpg
END:VEVENT
BEGIN:VEVENT
DTSTART;TZID=Europe/Oslo:20260507T120000
DTEND;TZID=Europe/Oslo:20260507T130000
DTSTAMP:20260421T123010
CREATED:20251007T221624Z
LAST-MODIFIED:20251013T083925Z
UID:10004701-1778155200-1778158800@tyholmenfrivilligsentral.no
SUMMARY:💪 Sterk og Stødig – Tren for en sterkere hverdag! Påmelding🤸‍♂️
DESCRIPTION:Vil du holde deg sterk\, stødig og aktiv lenger? Sterk og Stødig er en ukentlig treningsøkt spesielt tilpasset eldre og pensjonister! 🌟 \n📅 Når: Hver torsdag kl. 12:00 og mandag kl 14:30📍 Hvor: Kulturkammeret🎟️ Åpent for alle eldre og pensjonister! \nStyrketrening er viktig når man blir eldre – det bidrar til bedre balanse\, økt muskelstyrke og reduserer risikoen for fall. Med enkle øvelser styrker vi kroppen\, holder leddene myke og bevarer selvstendigheten i hverdagen. \nBli med i et trygt og hyggelig treningsmiljø hvor du trener i ditt eget tempo! 🤗💛 Kom alene eller ta med en venn\, men meld deg på først. For påmelding\, ring Frisklivsentralen for avklaring. Telefonnr. 990 97 498 – sammen blir vi sterke og stødige! 💪✨
URL:https://tyholmenfrivilligsentral.no/aktivitet/%f0%9f%92%aa-sterk-og-stodig-tren-for-en-sterkere-hverdag-pamelding%f0%9f%a4%b8%e2%99%82%ef%b8%8f-2-2/2026-05-07/
LOCATION:Kulturkammeret\, Kirkegaten 2B\, Arendal\, Agder\, 4836
CATEGORIES:2025
ATTACH;FMTTYPE=image/jpeg:https://tyholmenfrivilligsentral.no/wp-content/uploads/2025/04/tre-glade-norske-pensjonister.jpg
END:VEVENT
BEGIN:VEVENT
DTSTART;TZID=Europe/Oslo:20260511T143000
DTEND;TZID=Europe/Oslo:20260511T151500
DTSTAMP:20260421T123010
CREATED:20250319T211210Z
LAST-MODIFIED:20250402T081459Z
UID:10001981-1778509800-1778512500@tyholmenfrivilligsentral.no
SUMMARY:💪 Sterk og Stødig – Tren for en sterkere hverdag! Påmelding🤸‍♂️
DESCRIPTION:Vil du holde deg sterk\, stødig og aktiv lenger? Sterk og Stødig er en ukentlig treningsøkt spesielt tilpasset eldre og pensjonister! 🌟 \n📅 Når: Hver mandag kl. 14:30 og torsdag kl 12:00📍 Hvor: Kulturkammeret🎟️ Åpent for alle eldre og pensjonister! \nStyrketrening er viktig når man blir eldre – det bidrar til bedre balanse\, økt muskelstyrke og reduserer risikoen for fall. Med enkle øvelser styrker vi kroppen\, holder leddene myke og bevarer selvstendigheten i hverdagen. \nBli med i et trygt og hyggelig treningsmiljø hvor du trener i ditt eget tempo! 🤗💛 Kom alene eller ta med en venn\, men meld deg på først. For påmelding\, ring Frisklivsentralen for avklaring. Telefonnr. 990 97 498 – sammen blir vi sterke og stødige! 💪✨
URL:https://tyholmenfrivilligsentral.no/aktivitet/%f0%9f%92%aa-sterk-og-stodig-tren-for-en-sterkere-hverdag-pamelding%f0%9f%a4%b8%e2%99%82%ef%b8%8f/2026-05-11/
LOCATION:Kulturkammeret\, Kirkegaten 2B\, Arendal\, Agder\, 4836
CATEGORIES:2025
ATTACH;FMTTYPE=image/jpeg:https://tyholmenfrivilligsentral.no/wp-content/uploads/2025/04/tre-glade-norske-pensjonister.jpg
END:VEVENT
BEGIN:VEVENT
DTSTART;TZID=Europe/Oslo:20260513T173000
DTEND;TZID=Europe/Oslo:20260513T183000
DTSTAMP:20260421T123010
CREATED:20251007T223540Z
LAST-MODIFIED:20260105T123910Z
UID:10005848-1778693400-1778697000@tyholmenfrivilligsentral.no
SUMMARY:🤠🎶 Linedance for eldre og pensjonister – Bli med på danseglede GRATIS! 💃🕺
DESCRIPTION:Har du lyst til å bevege deg til fengende musikk\, lære morsomme trinn og ha det gøy sammen med andre? Da er Linedance perfekt for deg! 💛 \n📅 Når: Hver mandag og tirsdag kl. 12:45. Hver onsdag kl 16:30 \n📍 Hvor: Kulturkammeret🎟️ Åpent for alle eldre og pensjonister! \nLinedance er en sosial og morsom danseform der vi danser i rekker til musikk – ingen partner trengs! 🎵💃 Det er lett å lære\, god trening for både kropp og hjerne\, og gir masse energi og glede! \nKom alene eller ta med en venn – her blir du tatt godt imot! 🤗 Velkommen til en danseøkt fylt med rytme\, bevegelse og godt humør! 🎶✨
URL:https://tyholmenfrivilligsentral.no/aktivitet/%f0%9f%95%ba-linedans-hver-onsdag-kl-1630/2026-05-13/
LOCATION:Kulturkammeret\, Kirkegaten 2B\, Arendal\, Agder\, 4836
CATEGORIES:2025,2026
ATTACH;FMTTYPE=image/jpeg:https://tyholmenfrivilligsentral.no/wp-content/uploads/2025/03/lag-tegning-om-linedance-med-4-pensjonister.jpg
END:VEVENT
BEGIN:VEVENT
DTSTART;TZID=Europe/Oslo:20260514T103000
DTEND;TZID=Europe/Oslo:20260514T113000
DTSTAMP:20260421T123010
CREATED:20250402T080754Z
LAST-MODIFIED:20251013T082740Z
UID:10004442-1778754600-1778758200@tyholmenfrivilligsentral.no
SUMMARY:💪✨ Elrobic – Trening for Eldre ✨💪
DESCRIPTION:💪✨ Elrobic – Trening for Eldre ✨💪 \n📅 Hver torsdag kl. 10:30\n📍 Kulturkammeret \nBli med på Elrobic – en morsom og tilpasset treningsøkt som gir deg energi\, styrke og balanse! Vårt fokus er på å holde kroppen aktiv og sterk\, uansett alder eller form. \nTrening er ikke bare godt for kroppen\, men også for humøret og livskvaliteten. Å bevege seg regelmessig kan bidra til bedre helse\, økt selvstendighet og et mer sosialt og aktivt liv. \nKom som du er – vi gleder oss til å trene sammen med deg! 🌟😊
URL:https://tyholmenfrivilligsentral.no/aktivitet/%f0%9f%92%aa%e2%9c%a8-elrobic-trening-for-eldre-%e2%9c%a8%f0%9f%92%aa/2026-05-14/
LOCATION:Kulturkammeret\, Kirkegaten 2B\, Arendal\, Agder\, 4836
CATEGORIES:2025
ATTACH;FMTTYPE=image/jpeg:https://tyholmenfrivilligsentral.no/wp-content/uploads/2025/04/to-glade-pensjonister.jpg
END:VEVENT
BEGIN:VEVENT
DTSTART;TZID=Europe/Oslo:20260514T120000
DTEND;TZID=Europe/Oslo:20260514T130000
DTSTAMP:20260421T123010
CREATED:20251007T221624Z
LAST-MODIFIED:20251013T083925Z
UID:10004702-1778760000-1778763600@tyholmenfrivilligsentral.no
SUMMARY:💪 Sterk og Stødig – Tren for en sterkere hverdag! Påmelding🤸‍♂️
DESCRIPTION:Vil du holde deg sterk\, stødig og aktiv lenger? Sterk og Stødig er en ukentlig treningsøkt spesielt tilpasset eldre og pensjonister! 🌟 \n📅 Når: Hver torsdag kl. 12:00 og mandag kl 14:30📍 Hvor: Kulturkammeret🎟️ Åpent for alle eldre og pensjonister! \nStyrketrening er viktig når man blir eldre – det bidrar til bedre balanse\, økt muskelstyrke og reduserer risikoen for fall. Med enkle øvelser styrker vi kroppen\, holder leddene myke og bevarer selvstendigheten i hverdagen. \nBli med i et trygt og hyggelig treningsmiljø hvor du trener i ditt eget tempo! 🤗💛 Kom alene eller ta med en venn\, men meld deg på først. For påmelding\, ring Frisklivsentralen for avklaring. Telefonnr. 990 97 498 – sammen blir vi sterke og stødige! 💪✨
URL:https://tyholmenfrivilligsentral.no/aktivitet/%f0%9f%92%aa-sterk-og-stodig-tren-for-en-sterkere-hverdag-pamelding%f0%9f%a4%b8%e2%99%82%ef%b8%8f-2-2/2026-05-14/
LOCATION:Kulturkammeret\, Kirkegaten 2B\, Arendal\, Agder\, 4836
CATEGORIES:2025
ATTACH;FMTTYPE=image/jpeg:https://tyholmenfrivilligsentral.no/wp-content/uploads/2025/04/tre-glade-norske-pensjonister.jpg
END:VEVENT
BEGIN:VEVENT
DTSTART;TZID=Europe/Oslo:20260518T143000
DTEND;TZID=Europe/Oslo:20260518T151500
DTSTAMP:20260421T123010
CREATED:20250319T211210Z
LAST-MODIFIED:20250402T081459Z
UID:10001982-1779114600-1779117300@tyholmenfrivilligsentral.no
SUMMARY:💪 Sterk og Stødig – Tren for en sterkere hverdag! Påmelding🤸‍♂️
DESCRIPTION:Vil du holde deg sterk\, stødig og aktiv lenger? Sterk og Stødig er en ukentlig treningsøkt spesielt tilpasset eldre og pensjonister! 🌟 \n📅 Når: Hver mandag kl. 14:30 og torsdag kl 12:00📍 Hvor: Kulturkammeret🎟️ Åpent for alle eldre og pensjonister! \nStyrketrening er viktig når man blir eldre – det bidrar til bedre balanse\, økt muskelstyrke og reduserer risikoen for fall. Med enkle øvelser styrker vi kroppen\, holder leddene myke og bevarer selvstendigheten i hverdagen. \nBli med i et trygt og hyggelig treningsmiljø hvor du trener i ditt eget tempo! 🤗💛 Kom alene eller ta med en venn\, men meld deg på først. For påmelding\, ring Frisklivsentralen for avklaring. Telefonnr. 990 97 498 – sammen blir vi sterke og stødige! 💪✨
URL:https://tyholmenfrivilligsentral.no/aktivitet/%f0%9f%92%aa-sterk-og-stodig-tren-for-en-sterkere-hverdag-pamelding%f0%9f%a4%b8%e2%99%82%ef%b8%8f/2026-05-18/
LOCATION:Kulturkammeret\, Kirkegaten 2B\, Arendal\, Agder\, 4836
CATEGORIES:2025
ATTACH;FMTTYPE=image/jpeg:https://tyholmenfrivilligsentral.no/wp-content/uploads/2025/04/tre-glade-norske-pensjonister.jpg
END:VEVENT
BEGIN:VEVENT
DTSTART;TZID=Europe/Oslo:20260520T173000
DTEND;TZID=Europe/Oslo:20260520T183000
DTSTAMP:20260421T123010
CREATED:20251007T223540Z
LAST-MODIFIED:20260105T123910Z
UID:10005849-1779298200-1779301800@tyholmenfrivilligsentral.no
SUMMARY:🤠🎶 Linedance for eldre og pensjonister – Bli med på danseglede GRATIS! 💃🕺
DESCRIPTION:Har du lyst til å bevege deg til fengende musikk\, lære morsomme trinn og ha det gøy sammen med andre? Da er Linedance perfekt for deg! 💛 \n📅 Når: Hver mandag og tirsdag kl. 12:45. Hver onsdag kl 16:30 \n📍 Hvor: Kulturkammeret🎟️ Åpent for alle eldre og pensjonister! \nLinedance er en sosial og morsom danseform der vi danser i rekker til musikk – ingen partner trengs! 🎵💃 Det er lett å lære\, god trening for både kropp og hjerne\, og gir masse energi og glede! \nKom alene eller ta med en venn – her blir du tatt godt imot! 🤗 Velkommen til en danseøkt fylt med rytme\, bevegelse og godt humør! 🎶✨
URL:https://tyholmenfrivilligsentral.no/aktivitet/%f0%9f%95%ba-linedans-hver-onsdag-kl-1630/2026-05-20/
LOCATION:Kulturkammeret\, Kirkegaten 2B\, Arendal\, Agder\, 4836
CATEGORIES:2025,2026
ATTACH;FMTTYPE=image/jpeg:https://tyholmenfrivilligsentral.no/wp-content/uploads/2025/03/lag-tegning-om-linedance-med-4-pensjonister.jpg
END:VEVENT
BEGIN:VEVENT
DTSTART;TZID=Europe/Oslo:20260521T103000
DTEND;TZID=Europe/Oslo:20260521T113000
DTSTAMP:20260421T123010
CREATED:20250402T080754Z
LAST-MODIFIED:20251013T082740Z
UID:10004443-1779359400-1779363000@tyholmenfrivilligsentral.no
SUMMARY:💪✨ Elrobic – Trening for Eldre ✨💪
DESCRIPTION:💪✨ Elrobic – Trening for Eldre ✨💪 \n📅 Hver torsdag kl. 10:30\n📍 Kulturkammeret \nBli med på Elrobic – en morsom og tilpasset treningsøkt som gir deg energi\, styrke og balanse! Vårt fokus er på å holde kroppen aktiv og sterk\, uansett alder eller form. \nTrening er ikke bare godt for kroppen\, men også for humøret og livskvaliteten. Å bevege seg regelmessig kan bidra til bedre helse\, økt selvstendighet og et mer sosialt og aktivt liv. \nKom som du er – vi gleder oss til å trene sammen med deg! 🌟😊
URL:https://tyholmenfrivilligsentral.no/aktivitet/%f0%9f%92%aa%e2%9c%a8-elrobic-trening-for-eldre-%e2%9c%a8%f0%9f%92%aa/2026-05-21/
LOCATION:Kulturkammeret\, Kirkegaten 2B\, Arendal\, Agder\, 4836
CATEGORIES:2025
ATTACH;FMTTYPE=image/jpeg:https://tyholmenfrivilligsentral.no/wp-content/uploads/2025/04/to-glade-pensjonister.jpg
END:VEVENT
BEGIN:VEVENT
DTSTART;TZID=Europe/Oslo:20260521T120000
DTEND;TZID=Europe/Oslo:20260521T130000
DTSTAMP:20260421T123010
CREATED:20251007T221624Z
LAST-MODIFIED:20251013T083925Z
UID:10004703-1779364800-1779368400@tyholmenfrivilligsentral.no
SUMMARY:💪 Sterk og Stødig – Tren for en sterkere hverdag! Påmelding🤸‍♂️
DESCRIPTION:Vil du holde deg sterk\, stødig og aktiv lenger? Sterk og Stødig er en ukentlig treningsøkt spesielt tilpasset eldre og pensjonister! 🌟 \n📅 Når: Hver torsdag kl. 12:00 og mandag kl 14:30📍 Hvor: Kulturkammeret🎟️ Åpent for alle eldre og pensjonister! \nStyrketrening er viktig når man blir eldre – det bidrar til bedre balanse\, økt muskelstyrke og reduserer risikoen for fall. Med enkle øvelser styrker vi kroppen\, holder leddene myke og bevarer selvstendigheten i hverdagen. \nBli med i et trygt og hyggelig treningsmiljø hvor du trener i ditt eget tempo! 🤗💛 Kom alene eller ta med en venn\, men meld deg på først. For påmelding\, ring Frisklivsentralen for avklaring. Telefonnr. 990 97 498 – sammen blir vi sterke og stødige! 💪✨
URL:https://tyholmenfrivilligsentral.no/aktivitet/%f0%9f%92%aa-sterk-og-stodig-tren-for-en-sterkere-hverdag-pamelding%f0%9f%a4%b8%e2%99%82%ef%b8%8f-2-2/2026-05-21/
LOCATION:Kulturkammeret\, Kirkegaten 2B\, Arendal\, Agder\, 4836
CATEGORIES:2025
ATTACH;FMTTYPE=image/jpeg:https://tyholmenfrivilligsentral.no/wp-content/uploads/2025/04/tre-glade-norske-pensjonister.jpg
END:VEVENT
BEGIN:VEVENT
DTSTART;TZID=Europe/Oslo:20260525T143000
DTEND;TZID=Europe/Oslo:20260525T151500
DTSTAMP:20260421T123010
CREATED:20250319T211210Z
LAST-MODIFIED:20250402T081459Z
UID:10001983-1779719400-1779722100@tyholmenfrivilligsentral.no
SUMMARY:💪 Sterk og Stødig – Tren for en sterkere hverdag! Påmelding🤸‍♂️
DESCRIPTION:Vil du holde deg sterk\, stødig og aktiv lenger? Sterk og Stødig er en ukentlig treningsøkt spesielt tilpasset eldre og pensjonister! 🌟 \n📅 Når: Hver mandag kl. 14:30 og torsdag kl 12:00📍 Hvor: Kulturkammeret🎟️ Åpent for alle eldre og pensjonister! \nStyrketrening er viktig når man blir eldre – det bidrar til bedre balanse\, økt muskelstyrke og reduserer risikoen for fall. Med enkle øvelser styrker vi kroppen\, holder leddene myke og bevarer selvstendigheten i hverdagen. \nBli med i et trygt og hyggelig treningsmiljø hvor du trener i ditt eget tempo! 🤗💛 Kom alene eller ta med en venn\, men meld deg på først. For påmelding\, ring Frisklivsentralen for avklaring. Telefonnr. 990 97 498 – sammen blir vi sterke og stødige! 💪✨
URL:https://tyholmenfrivilligsentral.no/aktivitet/%f0%9f%92%aa-sterk-og-stodig-tren-for-en-sterkere-hverdag-pamelding%f0%9f%a4%b8%e2%99%82%ef%b8%8f/2026-05-25/
LOCATION:Kulturkammeret\, Kirkegaten 2B\, Arendal\, Agder\, 4836
CATEGORIES:2025
ATTACH;FMTTYPE=image/jpeg:https://tyholmenfrivilligsentral.no/wp-content/uploads/2025/04/tre-glade-norske-pensjonister.jpg
END:VEVENT
BEGIN:VEVENT
DTSTART;TZID=Europe/Oslo:20260527T173000
DTEND;TZID=Europe/Oslo:20260527T183000
DTSTAMP:20260421T123010
CREATED:20251007T223540Z
LAST-MODIFIED:20260105T123910Z
UID:10005850-1779903000-1779906600@tyholmenfrivilligsentral.no
SUMMARY:🤠🎶 Linedance for eldre og pensjonister – Bli med på danseglede GRATIS! 💃🕺
DESCRIPTION:Har du lyst til å bevege deg til fengende musikk\, lære morsomme trinn og ha det gøy sammen med andre? Da er Linedance perfekt for deg! 💛 \n📅 Når: Hver mandag og tirsdag kl. 12:45. Hver onsdag kl 16:30 \n📍 Hvor: Kulturkammeret🎟️ Åpent for alle eldre og pensjonister! \nLinedance er en sosial og morsom danseform der vi danser i rekker til musikk – ingen partner trengs! 🎵💃 Det er lett å lære\, god trening for både kropp og hjerne\, og gir masse energi og glede! \nKom alene eller ta med en venn – her blir du tatt godt imot! 🤗 Velkommen til en danseøkt fylt med rytme\, bevegelse og godt humør! 🎶✨
URL:https://tyholmenfrivilligsentral.no/aktivitet/%f0%9f%95%ba-linedans-hver-onsdag-kl-1630/2026-05-27/
LOCATION:Kulturkammeret\, Kirkegaten 2B\, Arendal\, Agder\, 4836
CATEGORIES:2025,2026
ATTACH;FMTTYPE=image/jpeg:https://tyholmenfrivilligsentral.no/wp-content/uploads/2025/03/lag-tegning-om-linedance-med-4-pensjonister.jpg
END:VEVENT
BEGIN:VEVENT
DTSTART;TZID=Europe/Oslo:20260528T103000
DTEND;TZID=Europe/Oslo:20260528T113000
DTSTAMP:20260421T123010
CREATED:20250402T080754Z
LAST-MODIFIED:20251013T082740Z
UID:10004444-1779964200-1779967800@tyholmenfrivilligsentral.no
SUMMARY:💪✨ Elrobic – Trening for Eldre ✨💪
DESCRIPTION:💪✨ Elrobic – Trening for Eldre ✨💪 \n📅 Hver torsdag kl. 10:30\n📍 Kulturkammeret \nBli med på Elrobic – en morsom og tilpasset treningsøkt som gir deg energi\, styrke og balanse! Vårt fokus er på å holde kroppen aktiv og sterk\, uansett alder eller form. \nTrening er ikke bare godt for kroppen\, men også for humøret og livskvaliteten. Å bevege seg regelmessig kan bidra til bedre helse\, økt selvstendighet og et mer sosialt og aktivt liv. \nKom som du er – vi gleder oss til å trene sammen med deg! 🌟😊
URL:https://tyholmenfrivilligsentral.no/aktivitet/%f0%9f%92%aa%e2%9c%a8-elrobic-trening-for-eldre-%e2%9c%a8%f0%9f%92%aa/2026-05-28/
LOCATION:Kulturkammeret\, Kirkegaten 2B\, Arendal\, Agder\, 4836
CATEGORIES:2025
ATTACH;FMTTYPE=image/jpeg:https://tyholmenfrivilligsentral.no/wp-content/uploads/2025/04/to-glade-pensjonister.jpg
END:VEVENT
BEGIN:VEVENT
DTSTART;TZID=Europe/Oslo:20260528T120000
DTEND;TZID=Europe/Oslo:20260528T130000
DTSTAMP:20260421T123010
CREATED:20251007T221624Z
LAST-MODIFIED:20251013T083925Z
UID:10004704-1779969600-1779973200@tyholmenfrivilligsentral.no
SUMMARY:💪 Sterk og Stødig – Tren for en sterkere hverdag! Påmelding🤸‍♂️
DESCRIPTION:Vil du holde deg sterk\, stødig og aktiv lenger? Sterk og Stødig er en ukentlig treningsøkt spesielt tilpasset eldre og pensjonister! 🌟 \n📅 Når: Hver torsdag kl. 12:00 og mandag kl 14:30📍 Hvor: Kulturkammeret🎟️ Åpent for alle eldre og pensjonister! \nStyrketrening er viktig når man blir eldre – det bidrar til bedre balanse\, økt muskelstyrke og reduserer risikoen for fall. Med enkle øvelser styrker vi kroppen\, holder leddene myke og bevarer selvstendigheten i hverdagen. \nBli med i et trygt og hyggelig treningsmiljø hvor du trener i ditt eget tempo! 🤗💛 Kom alene eller ta med en venn\, men meld deg på først. For påmelding\, ring Frisklivsentralen for avklaring. Telefonnr. 990 97 498 – sammen blir vi sterke og stødige! 💪✨
URL:https://tyholmenfrivilligsentral.no/aktivitet/%f0%9f%92%aa-sterk-og-stodig-tren-for-en-sterkere-hverdag-pamelding%f0%9f%a4%b8%e2%99%82%ef%b8%8f-2-2/2026-05-28/
LOCATION:Kulturkammeret\, Kirkegaten 2B\, Arendal\, Agder\, 4836
CATEGORIES:2025
ATTACH;FMTTYPE=image/jpeg:https://tyholmenfrivilligsentral.no/wp-content/uploads/2025/04/tre-glade-norske-pensjonister.jpg
END:VEVENT
END:VCALENDAR