BEGIN:VCALENDAR
VERSION:2.0
PRODID:-//Tyholmen Frivilligsentral - ECPv6.15.18//NONSGML v1.0//EN
CALSCALE:GREGORIAN
METHOD:PUBLISH
X-WR-CALNAME:Tyholmen Frivilligsentral
X-ORIGINAL-URL:https://tyholmenfrivilligsentral.no
X-WR-CALDESC:Arrangement for Tyholmen Frivilligsentral
REFRESH-INTERVAL;VALUE=DURATION:PT1H
X-Robots-Tag:noindex
X-PUBLISHED-TTL:PT1H
BEGIN:VTIMEZONE
TZID:Europe/Oslo
BEGIN:DAYLIGHT
TZOFFSETFROM:+0100
TZOFFSETTO:+0200
TZNAME:CEST
DTSTART:20260329T010000
END:DAYLIGHT
BEGIN:STANDARD
TZOFFSETFROM:+0200
TZOFFSETTO:+0100
TZNAME:CET
DTSTART:20261025T010000
END:STANDARD
BEGIN:DAYLIGHT
TZOFFSETFROM:+0100
TZOFFSETTO:+0200
TZNAME:CEST
DTSTART:20270328T010000
END:DAYLIGHT
BEGIN:STANDARD
TZOFFSETFROM:+0200
TZOFFSETTO:+0100
TZNAME:CET
DTSTART:20271031T010000
END:STANDARD
BEGIN:DAYLIGHT
TZOFFSETFROM:+0100
TZOFFSETTO:+0200
TZNAME:CEST
DTSTART:20280326T010000
END:DAYLIGHT
BEGIN:STANDARD
TZOFFSETFROM:+0200
TZOFFSETTO:+0100
TZNAME:CET
DTSTART:20281029T010000
END:STANDARD
END:VTIMEZONE
BEGIN:VEVENT
DTSTART;TZID=Europe/Oslo:20270304T120000
DTEND;TZID=Europe/Oslo:20270304T143000
DTSTAMP:20260421T045957
CREATED:20260105T152151Z
LAST-MODIFIED:20260105T152926Z
UID:10000167-1804161600-1804170600@tyholmenfrivilligsentral.no
SUMMARY:Mannegruppa – Mat\, Prat og Fellesskap 🤝🍲
DESCRIPTION:En sosial møteplass for menn – nå med plass til flere! \nVelkommen til Mannegruppa\, en uformell og trivelig samling for pensjonister i alle aldre\, menn som ønsker godt selskap\, gode samtaler og enkel\, smakfull mat. Her er det lav terskel\, høy trivsel og rom for både latter og alvor. \n🍽️ Mat og prat – Vi lspiser mat sammen i hyggelige omgivelser.💬 Gode samtaler – Del erfaringer\, tanker og historier i et trygt fellesskap.👥 Plass til flere – Nye deltakere ønskes hjertelig velkommen! \nDu trenger ingen forkunnskaper – bare lysten til å møte andre og være en del av et inkluderende fellesskap. Kom som du er\, og bli med på en sosial og meningsfull stund. \n👉 Bli med – vi gleder oss til å se deg!
URL:https://tyholmenfrivilligsentral.no/aktivitet/mat-og-prat-for-menn/2027-03-04/
LOCATION:Tyholmen Frivilligsentral\, Nedre Tyholmsvei 7\, Arendal\, Agder\, 4836
CATEGORIES:2025,2026
ATTACH;FMTTYPE=image/jpeg:https://tyholmenfrivilligsentral.no/wp-content/uploads/2025/03/tegnet-pensjonert-mann.jpg
END:VEVENT
BEGIN:VEVENT
DTSTART;TZID=Europe/Oslo:20270305T120000
DTEND;TZID=Europe/Oslo:20270305T143000
DTSTAMP:20260421T045957
CREATED:20250319T131405Z
LAST-MODIFIED:20250319T131405Z
UID:10000958-1804248000-1804257000@tyholmenfrivilligsentral.no
SUMMARY:ÅPEN Fredagskafé – Koselig samling hver uke! ☕🍞🎂
DESCRIPTION:Bli med på vår «ÅPEN Fredagskafé» kl. 12:00 – 14:30! Vi serverer deilige smørbrød\, rundstykker og forskjellige kaker 🎂\, samt masse kaffe ☕. Kom alene eller ta med en venn – alle er velkomne til hyggelige samtaler og en sosial pause! 🤗👥 \nPerfekt måte å starte helgen på! Velkommen til en smakfull og uformell fredag! 🌟
URL:https://tyholmenfrivilligsentral.no/aktivitet/apen-fredagskafe-koselig-samling-hver-uke-%e2%98%95%f0%9f%8d%9e%f0%9f%8e%82-2/2027-03-05/
LOCATION:Tyholmen Frivilligsentral\, Nedre Tyholmsvei 7\, Arendal\, Agder\, 4836
CATEGORIES:2025
ATTACH;FMTTYPE=image/jpeg:https://tyholmenfrivilligsentral.no/wp-content/uploads/2025/03/IMG_4238-scaled.jpg
END:VEVENT
BEGIN:VEVENT
DTSTART;TZID=Europe/Oslo:20270311T120000
DTEND;TZID=Europe/Oslo:20270311T143000
DTSTAMP:20260421T045957
CREATED:20260105T152151Z
LAST-MODIFIED:20260105T152926Z
UID:10000168-1804766400-1804775400@tyholmenfrivilligsentral.no
SUMMARY:Mannegruppa – Mat\, Prat og Fellesskap 🤝🍲
DESCRIPTION:En sosial møteplass for menn – nå med plass til flere! \nVelkommen til Mannegruppa\, en uformell og trivelig samling for pensjonister i alle aldre\, menn som ønsker godt selskap\, gode samtaler og enkel\, smakfull mat. Her er det lav terskel\, høy trivsel og rom for både latter og alvor. \n🍽️ Mat og prat – Vi lspiser mat sammen i hyggelige omgivelser.💬 Gode samtaler – Del erfaringer\, tanker og historier i et trygt fellesskap.👥 Plass til flere – Nye deltakere ønskes hjertelig velkommen! \nDu trenger ingen forkunnskaper – bare lysten til å møte andre og være en del av et inkluderende fellesskap. Kom som du er\, og bli med på en sosial og meningsfull stund. \n👉 Bli med – vi gleder oss til å se deg!
URL:https://tyholmenfrivilligsentral.no/aktivitet/mat-og-prat-for-menn/2027-03-11/
LOCATION:Tyholmen Frivilligsentral\, Nedre Tyholmsvei 7\, Arendal\, Agder\, 4836
CATEGORIES:2025,2026
ATTACH;FMTTYPE=image/jpeg:https://tyholmenfrivilligsentral.no/wp-content/uploads/2025/03/tegnet-pensjonert-mann.jpg
END:VEVENT
BEGIN:VEVENT
DTSTART;TZID=Europe/Oslo:20270312T120000
DTEND;TZID=Europe/Oslo:20270312T143000
DTSTAMP:20260421T045957
CREATED:20250319T131405Z
LAST-MODIFIED:20250319T131405Z
UID:10000959-1804852800-1804861800@tyholmenfrivilligsentral.no
SUMMARY:ÅPEN Fredagskafé – Koselig samling hver uke! ☕🍞🎂
DESCRIPTION:Bli med på vår «ÅPEN Fredagskafé» kl. 12:00 – 14:30! Vi serverer deilige smørbrød\, rundstykker og forskjellige kaker 🎂\, samt masse kaffe ☕. Kom alene eller ta med en venn – alle er velkomne til hyggelige samtaler og en sosial pause! 🤗👥 \nPerfekt måte å starte helgen på! Velkommen til en smakfull og uformell fredag! 🌟
URL:https://tyholmenfrivilligsentral.no/aktivitet/apen-fredagskafe-koselig-samling-hver-uke-%e2%98%95%f0%9f%8d%9e%f0%9f%8e%82-2/2027-03-12/
LOCATION:Tyholmen Frivilligsentral\, Nedre Tyholmsvei 7\, Arendal\, Agder\, 4836
CATEGORIES:2025
ATTACH;FMTTYPE=image/jpeg:https://tyholmenfrivilligsentral.no/wp-content/uploads/2025/03/IMG_4238-scaled.jpg
END:VEVENT
BEGIN:VEVENT
DTSTART;TZID=Europe/Oslo:20270318T120000
DTEND;TZID=Europe/Oslo:20270318T143000
DTSTAMP:20260421T045957
CREATED:20260105T152151Z
LAST-MODIFIED:20260105T152926Z
UID:10000169-1805371200-1805380200@tyholmenfrivilligsentral.no
SUMMARY:Mannegruppa – Mat\, Prat og Fellesskap 🤝🍲
DESCRIPTION:En sosial møteplass for menn – nå med plass til flere! \nVelkommen til Mannegruppa\, en uformell og trivelig samling for pensjonister i alle aldre\, menn som ønsker godt selskap\, gode samtaler og enkel\, smakfull mat. Her er det lav terskel\, høy trivsel og rom for både latter og alvor. \n🍽️ Mat og prat – Vi lspiser mat sammen i hyggelige omgivelser.💬 Gode samtaler – Del erfaringer\, tanker og historier i et trygt fellesskap.👥 Plass til flere – Nye deltakere ønskes hjertelig velkommen! \nDu trenger ingen forkunnskaper – bare lysten til å møte andre og være en del av et inkluderende fellesskap. Kom som du er\, og bli med på en sosial og meningsfull stund. \n👉 Bli med – vi gleder oss til å se deg!
URL:https://tyholmenfrivilligsentral.no/aktivitet/mat-og-prat-for-menn/2027-03-18/
LOCATION:Tyholmen Frivilligsentral\, Nedre Tyholmsvei 7\, Arendal\, Agder\, 4836
CATEGORIES:2025,2026
ATTACH;FMTTYPE=image/jpeg:https://tyholmenfrivilligsentral.no/wp-content/uploads/2025/03/tegnet-pensjonert-mann.jpg
END:VEVENT
BEGIN:VEVENT
DTSTART;TZID=Europe/Oslo:20270319T120000
DTEND;TZID=Europe/Oslo:20270319T143000
DTSTAMP:20260421T045957
CREATED:20250319T131405Z
LAST-MODIFIED:20250319T131405Z
UID:10000960-1805457600-1805466600@tyholmenfrivilligsentral.no
SUMMARY:ÅPEN Fredagskafé – Koselig samling hver uke! ☕🍞🎂
DESCRIPTION:Bli med på vår «ÅPEN Fredagskafé» kl. 12:00 – 14:30! Vi serverer deilige smørbrød\, rundstykker og forskjellige kaker 🎂\, samt masse kaffe ☕. Kom alene eller ta med en venn – alle er velkomne til hyggelige samtaler og en sosial pause! 🤗👥 \nPerfekt måte å starte helgen på! Velkommen til en smakfull og uformell fredag! 🌟
URL:https://tyholmenfrivilligsentral.no/aktivitet/apen-fredagskafe-koselig-samling-hver-uke-%e2%98%95%f0%9f%8d%9e%f0%9f%8e%82-2/2027-03-19/
LOCATION:Tyholmen Frivilligsentral\, Nedre Tyholmsvei 7\, Arendal\, Agder\, 4836
CATEGORIES:2025
ATTACH;FMTTYPE=image/jpeg:https://tyholmenfrivilligsentral.no/wp-content/uploads/2025/03/IMG_4238-scaled.jpg
END:VEVENT
BEGIN:VEVENT
DTSTART;TZID=Europe/Oslo:20270325T120000
DTEND;TZID=Europe/Oslo:20270325T143000
DTSTAMP:20260421T045957
CREATED:20260105T152151Z
LAST-MODIFIED:20260105T152926Z
UID:10000170-1805976000-1805985000@tyholmenfrivilligsentral.no
SUMMARY:Mannegruppa – Mat\, Prat og Fellesskap 🤝🍲
DESCRIPTION:En sosial møteplass for menn – nå med plass til flere! \nVelkommen til Mannegruppa\, en uformell og trivelig samling for pensjonister i alle aldre\, menn som ønsker godt selskap\, gode samtaler og enkel\, smakfull mat. Her er det lav terskel\, høy trivsel og rom for både latter og alvor. \n🍽️ Mat og prat – Vi lspiser mat sammen i hyggelige omgivelser.💬 Gode samtaler – Del erfaringer\, tanker og historier i et trygt fellesskap.👥 Plass til flere – Nye deltakere ønskes hjertelig velkommen! \nDu trenger ingen forkunnskaper – bare lysten til å møte andre og være en del av et inkluderende fellesskap. Kom som du er\, og bli med på en sosial og meningsfull stund. \n👉 Bli med – vi gleder oss til å se deg!
URL:https://tyholmenfrivilligsentral.no/aktivitet/mat-og-prat-for-menn/2027-03-25/
LOCATION:Tyholmen Frivilligsentral\, Nedre Tyholmsvei 7\, Arendal\, Agder\, 4836
CATEGORIES:2025,2026
ATTACH;FMTTYPE=image/jpeg:https://tyholmenfrivilligsentral.no/wp-content/uploads/2025/03/tegnet-pensjonert-mann.jpg
END:VEVENT
BEGIN:VEVENT
DTSTART;TZID=Europe/Oslo:20270326T120000
DTEND;TZID=Europe/Oslo:20270326T143000
DTSTAMP:20260421T045957
CREATED:20250319T131405Z
LAST-MODIFIED:20250319T131405Z
UID:10000961-1806062400-1806071400@tyholmenfrivilligsentral.no
SUMMARY:ÅPEN Fredagskafé – Koselig samling hver uke! ☕🍞🎂
DESCRIPTION:Bli med på vår «ÅPEN Fredagskafé» kl. 12:00 – 14:30! Vi serverer deilige smørbrød\, rundstykker og forskjellige kaker 🎂\, samt masse kaffe ☕. Kom alene eller ta med en venn – alle er velkomne til hyggelige samtaler og en sosial pause! 🤗👥 \nPerfekt måte å starte helgen på! Velkommen til en smakfull og uformell fredag! 🌟
URL:https://tyholmenfrivilligsentral.no/aktivitet/apen-fredagskafe-koselig-samling-hver-uke-%e2%98%95%f0%9f%8d%9e%f0%9f%8e%82-2/2027-03-26/
LOCATION:Tyholmen Frivilligsentral\, Nedre Tyholmsvei 7\, Arendal\, Agder\, 4836
CATEGORIES:2025
ATTACH;FMTTYPE=image/jpeg:https://tyholmenfrivilligsentral.no/wp-content/uploads/2025/03/IMG_4238-scaled.jpg
END:VEVENT
END:VCALENDAR