BEGIN:VCALENDAR
VERSION:2.0
PRODID:-//Tyholmen Frivilligsentral - ECPv6.15.18//NONSGML v1.0//EN
CALSCALE:GREGORIAN
METHOD:PUBLISH
X-ORIGINAL-URL:https://tyholmenfrivilligsentral.no
X-WR-CALDESC:Arrangement for Tyholmen Frivilligsentral
REFRESH-INTERVAL;VALUE=DURATION:PT1H
X-Robots-Tag:noindex
X-PUBLISHED-TTL:PT1H
BEGIN:VTIMEZONE
TZID:Europe/Oslo
BEGIN:DAYLIGHT
TZOFFSETFROM:+0100
TZOFFSETTO:+0200
TZNAME:CEST
DTSTART:20240331T010000
END:DAYLIGHT
BEGIN:STANDARD
TZOFFSETFROM:+0200
TZOFFSETTO:+0100
TZNAME:CET
DTSTART:20241027T010000
END:STANDARD
BEGIN:DAYLIGHT
TZOFFSETFROM:+0100
TZOFFSETTO:+0200
TZNAME:CEST
DTSTART:20250330T010000
END:DAYLIGHT
BEGIN:STANDARD
TZOFFSETFROM:+0200
TZOFFSETTO:+0100
TZNAME:CET
DTSTART:20251026T010000
END:STANDARD
BEGIN:DAYLIGHT
TZOFFSETFROM:+0100
TZOFFSETTO:+0200
TZNAME:CEST
DTSTART:20260329T010000
END:DAYLIGHT
BEGIN:STANDARD
TZOFFSETFROM:+0200
TZOFFSETTO:+0100
TZNAME:CET
DTSTART:20261025T010000
END:STANDARD
END:VTIMEZONE
BEGIN:VEVENT
DTSTART;TZID=Europe/Oslo:20251002T120000
DTEND;TZID=Europe/Oslo:20251002T143000
DTSTAMP:20260421T150337
CREATED:20250317T140452Z
LAST-MODIFIED:20250317T140452Z
UID:10000095-1759406400-1759415400@tyholmenfrivilligsentral.no
SUMMARY:Mat og Prat for Menn – Bli med på en hyggelig samling! 🍽️🗣️
DESCRIPTION:Mat og Prat for Menn – Hver torsdag! 🍽️🗣️ \nVi møtes i 1. etg. i peisestuen hver torsdag kl. 12:00 – 14:30! En uhøytidelig og hyggelig samling for pensjonerte menn i alle aldre. Kom som du er – ingen påmelding\, bare møt opp! 🤗👴🏼👨🏼‍🦳 \nGod mat\, spennende samtaler og nytt fellesskap! Velkommen til en uforpliktende og sosial stund sammen. 🌟
URL:https://tyholmenfrivilligsentral.no/aktivitet/mat-og-prat-for-menn-bli-med-pa-en-hyggelig-samling-%f0%9f%8d%bd%ef%b8%8f%f0%9f%97%a3%ef%b8%8f/2025-10-02/
LOCATION:Tyholmen Frivilligsentral\, Nedre Tyholmsvei 7\, Arendal\, Agder\, 4836
CATEGORIES:2025
ATTACH;FMTTYPE=image/jpeg:https://tyholmenfrivilligsentral.no/wp-content/uploads/2025/03/tegnet-pensjonert-mann.jpg
END:VEVENT
BEGIN:VEVENT
DTSTART;TZID=Europe/Oslo:20251003T120000
DTEND;TZID=Europe/Oslo:20251003T143000
DTSTAMP:20260421T150337
CREATED:20250319T131405Z
LAST-MODIFIED:20250319T131405Z
UID:10000885-1759492800-1759501800@tyholmenfrivilligsentral.no
SUMMARY:ÅPEN Fredagskafé – Koselig samling hver uke! ☕🍞🎂
DESCRIPTION:Bli med på vår «ÅPEN Fredagskafé» kl. 12:00 – 14:30! Vi serverer deilige smørbrød\, rundstykker og forskjellige kaker 🎂\, samt masse kaffe ☕. Kom alene eller ta med en venn – alle er velkomne til hyggelige samtaler og en sosial pause! 🤗👥 \nPerfekt måte å starte helgen på! Velkommen til en smakfull og uformell fredag! 🌟
URL:https://tyholmenfrivilligsentral.no/aktivitet/apen-fredagskafe-koselig-samling-hver-uke-%e2%98%95%f0%9f%8d%9e%f0%9f%8e%82-2/2025-10-03/
LOCATION:Tyholmen Frivilligsentral\, Nedre Tyholmsvei 7\, Arendal\, Agder\, 4836
CATEGORIES:2025
ATTACH;FMTTYPE=image/jpeg:https://tyholmenfrivilligsentral.no/wp-content/uploads/2025/03/IMG_4238-scaled.jpg
END:VEVENT
BEGIN:VEVENT
DTSTART;TZID=Europe/Oslo:20251009T120000
DTEND;TZID=Europe/Oslo:20251009T143000
DTSTAMP:20260421T150337
CREATED:20250317T140452Z
LAST-MODIFIED:20250317T140452Z
UID:10000096-1760011200-1760020200@tyholmenfrivilligsentral.no
SUMMARY:Mat og Prat for Menn – Bli med på en hyggelig samling! 🍽️🗣️
DESCRIPTION:Mat og Prat for Menn – Hver torsdag! 🍽️🗣️ \nVi møtes i 1. etg. i peisestuen hver torsdag kl. 12:00 – 14:30! En uhøytidelig og hyggelig samling for pensjonerte menn i alle aldre. Kom som du er – ingen påmelding\, bare møt opp! 🤗👴🏼👨🏼‍🦳 \nGod mat\, spennende samtaler og nytt fellesskap! Velkommen til en uforpliktende og sosial stund sammen. 🌟
URL:https://tyholmenfrivilligsentral.no/aktivitet/mat-og-prat-for-menn-bli-med-pa-en-hyggelig-samling-%f0%9f%8d%bd%ef%b8%8f%f0%9f%97%a3%ef%b8%8f/2025-10-09/
LOCATION:Tyholmen Frivilligsentral\, Nedre Tyholmsvei 7\, Arendal\, Agder\, 4836
CATEGORIES:2025
ATTACH;FMTTYPE=image/jpeg:https://tyholmenfrivilligsentral.no/wp-content/uploads/2025/03/tegnet-pensjonert-mann.jpg
END:VEVENT
BEGIN:VEVENT
DTSTART;TZID=Europe/Oslo:20251010T120000
DTEND;TZID=Europe/Oslo:20251010T143000
DTSTAMP:20260421T150337
CREATED:20250319T131405Z
LAST-MODIFIED:20250319T131405Z
UID:10000886-1760097600-1760106600@tyholmenfrivilligsentral.no
SUMMARY:ÅPEN Fredagskafé – Koselig samling hver uke! ☕🍞🎂
DESCRIPTION:Bli med på vår «ÅPEN Fredagskafé» kl. 12:00 – 14:30! Vi serverer deilige smørbrød\, rundstykker og forskjellige kaker 🎂\, samt masse kaffe ☕. Kom alene eller ta med en venn – alle er velkomne til hyggelige samtaler og en sosial pause! 🤗👥 \nPerfekt måte å starte helgen på! Velkommen til en smakfull og uformell fredag! 🌟
URL:https://tyholmenfrivilligsentral.no/aktivitet/apen-fredagskafe-koselig-samling-hver-uke-%e2%98%95%f0%9f%8d%9e%f0%9f%8e%82-2/2025-10-10/
LOCATION:Tyholmen Frivilligsentral\, Nedre Tyholmsvei 7\, Arendal\, Agder\, 4836
CATEGORIES:2025
ATTACH;FMTTYPE=image/jpeg:https://tyholmenfrivilligsentral.no/wp-content/uploads/2025/03/IMG_4238-scaled.jpg
END:VEVENT
BEGIN:VEVENT
DTSTART;TZID=Europe/Oslo:20251016T120000
DTEND;TZID=Europe/Oslo:20251016T143000
DTSTAMP:20260421T150337
CREATED:20250317T140452Z
LAST-MODIFIED:20250317T140452Z
UID:10000097-1760616000-1760625000@tyholmenfrivilligsentral.no
SUMMARY:Mat og Prat for Menn – Bli med på en hyggelig samling! 🍽️🗣️
DESCRIPTION:Mat og Prat for Menn – Hver torsdag! 🍽️🗣️ \nVi møtes i 1. etg. i peisestuen hver torsdag kl. 12:00 – 14:30! En uhøytidelig og hyggelig samling for pensjonerte menn i alle aldre. Kom som du er – ingen påmelding\, bare møt opp! 🤗👴🏼👨🏼‍🦳 \nGod mat\, spennende samtaler og nytt fellesskap! Velkommen til en uforpliktende og sosial stund sammen. 🌟
URL:https://tyholmenfrivilligsentral.no/aktivitet/mat-og-prat-for-menn-bli-med-pa-en-hyggelig-samling-%f0%9f%8d%bd%ef%b8%8f%f0%9f%97%a3%ef%b8%8f/2025-10-16/
LOCATION:Tyholmen Frivilligsentral\, Nedre Tyholmsvei 7\, Arendal\, Agder\, 4836
CATEGORIES:2025
ATTACH;FMTTYPE=image/jpeg:https://tyholmenfrivilligsentral.no/wp-content/uploads/2025/03/tegnet-pensjonert-mann.jpg
END:VEVENT
BEGIN:VEVENT
DTSTART;TZID=Europe/Oslo:20251017T120000
DTEND;TZID=Europe/Oslo:20251017T143000
DTSTAMP:20260421T150337
CREATED:20250319T131405Z
LAST-MODIFIED:20250319T131405Z
UID:10000887-1760702400-1760711400@tyholmenfrivilligsentral.no
SUMMARY:ÅPEN Fredagskafé – Koselig samling hver uke! ☕🍞🎂
DESCRIPTION:Bli med på vår «ÅPEN Fredagskafé» kl. 12:00 – 14:30! Vi serverer deilige smørbrød\, rundstykker og forskjellige kaker 🎂\, samt masse kaffe ☕. Kom alene eller ta med en venn – alle er velkomne til hyggelige samtaler og en sosial pause! 🤗👥 \nPerfekt måte å starte helgen på! Velkommen til en smakfull og uformell fredag! 🌟
URL:https://tyholmenfrivilligsentral.no/aktivitet/apen-fredagskafe-koselig-samling-hver-uke-%e2%98%95%f0%9f%8d%9e%f0%9f%8e%82-2/2025-10-17/
LOCATION:Tyholmen Frivilligsentral\, Nedre Tyholmsvei 7\, Arendal\, Agder\, 4836
CATEGORIES:2025
ATTACH;FMTTYPE=image/jpeg:https://tyholmenfrivilligsentral.no/wp-content/uploads/2025/03/IMG_4238-scaled.jpg
END:VEVENT
BEGIN:VEVENT
DTSTART;TZID=Europe/Oslo:20251023T120000
DTEND;TZID=Europe/Oslo:20251023T143000
DTSTAMP:20260421T150337
CREATED:20250317T140452Z
LAST-MODIFIED:20250317T140452Z
UID:10000098-1761220800-1761229800@tyholmenfrivilligsentral.no
SUMMARY:Mat og Prat for Menn – Bli med på en hyggelig samling! 🍽️🗣️
DESCRIPTION:Mat og Prat for Menn – Hver torsdag! 🍽️🗣️ \nVi møtes i 1. etg. i peisestuen hver torsdag kl. 12:00 – 14:30! En uhøytidelig og hyggelig samling for pensjonerte menn i alle aldre. Kom som du er – ingen påmelding\, bare møt opp! 🤗👴🏼👨🏼‍🦳 \nGod mat\, spennende samtaler og nytt fellesskap! Velkommen til en uforpliktende og sosial stund sammen. 🌟
URL:https://tyholmenfrivilligsentral.no/aktivitet/mat-og-prat-for-menn-bli-med-pa-en-hyggelig-samling-%f0%9f%8d%bd%ef%b8%8f%f0%9f%97%a3%ef%b8%8f/2025-10-23/
LOCATION:Tyholmen Frivilligsentral\, Nedre Tyholmsvei 7\, Arendal\, Agder\, 4836
CATEGORIES:2025
ATTACH;FMTTYPE=image/jpeg:https://tyholmenfrivilligsentral.no/wp-content/uploads/2025/03/tegnet-pensjonert-mann.jpg
END:VEVENT
BEGIN:VEVENT
DTSTART;TZID=Europe/Oslo:20251024T120000
DTEND;TZID=Europe/Oslo:20251024T143000
DTSTAMP:20260421T150337
CREATED:20250319T131405Z
LAST-MODIFIED:20250319T131405Z
UID:10000888-1761307200-1761316200@tyholmenfrivilligsentral.no
SUMMARY:ÅPEN Fredagskafé – Koselig samling hver uke! ☕🍞🎂
DESCRIPTION:Bli med på vår «ÅPEN Fredagskafé» kl. 12:00 – 14:30! Vi serverer deilige smørbrød\, rundstykker og forskjellige kaker 🎂\, samt masse kaffe ☕. Kom alene eller ta med en venn – alle er velkomne til hyggelige samtaler og en sosial pause! 🤗👥 \nPerfekt måte å starte helgen på! Velkommen til en smakfull og uformell fredag! 🌟
URL:https://tyholmenfrivilligsentral.no/aktivitet/apen-fredagskafe-koselig-samling-hver-uke-%e2%98%95%f0%9f%8d%9e%f0%9f%8e%82-2/2025-10-24/
LOCATION:Tyholmen Frivilligsentral\, Nedre Tyholmsvei 7\, Arendal\, Agder\, 4836
CATEGORIES:2025
ATTACH;FMTTYPE=image/jpeg:https://tyholmenfrivilligsentral.no/wp-content/uploads/2025/03/IMG_4238-scaled.jpg
END:VEVENT
BEGIN:VEVENT
DTSTART;TZID=Europe/Oslo:20251030T120000
DTEND;TZID=Europe/Oslo:20251030T143000
DTSTAMP:20260421T150337
CREATED:20250317T140452Z
LAST-MODIFIED:20250317T140452Z
UID:10000099-1761825600-1761834600@tyholmenfrivilligsentral.no
SUMMARY:Mat og Prat for Menn – Bli med på en hyggelig samling! 🍽️🗣️
DESCRIPTION:Mat og Prat for Menn – Hver torsdag! 🍽️🗣️ \nVi møtes i 1. etg. i peisestuen hver torsdag kl. 12:00 – 14:30! En uhøytidelig og hyggelig samling for pensjonerte menn i alle aldre. Kom som du er – ingen påmelding\, bare møt opp! 🤗👴🏼👨🏼‍🦳 \nGod mat\, spennende samtaler og nytt fellesskap! Velkommen til en uforpliktende og sosial stund sammen. 🌟
URL:https://tyholmenfrivilligsentral.no/aktivitet/mat-og-prat-for-menn-bli-med-pa-en-hyggelig-samling-%f0%9f%8d%bd%ef%b8%8f%f0%9f%97%a3%ef%b8%8f/2025-10-30/
LOCATION:Tyholmen Frivilligsentral\, Nedre Tyholmsvei 7\, Arendal\, Agder\, 4836
CATEGORIES:2025
ATTACH;FMTTYPE=image/jpeg:https://tyholmenfrivilligsentral.no/wp-content/uploads/2025/03/tegnet-pensjonert-mann.jpg
END:VEVENT
BEGIN:VEVENT
DTSTART;TZID=Europe/Oslo:20251031T120000
DTEND;TZID=Europe/Oslo:20251031T143000
DTSTAMP:20260421T150337
CREATED:20250319T131405Z
LAST-MODIFIED:20250319T131405Z
UID:10000889-1761912000-1761921000@tyholmenfrivilligsentral.no
SUMMARY:ÅPEN Fredagskafé – Koselig samling hver uke! ☕🍞🎂
DESCRIPTION:Bli med på vår «ÅPEN Fredagskafé» kl. 12:00 – 14:30! Vi serverer deilige smørbrød\, rundstykker og forskjellige kaker 🎂\, samt masse kaffe ☕. Kom alene eller ta med en venn – alle er velkomne til hyggelige samtaler og en sosial pause! 🤗👥 \nPerfekt måte å starte helgen på! Velkommen til en smakfull og uformell fredag! 🌟
URL:https://tyholmenfrivilligsentral.no/aktivitet/apen-fredagskafe-koselig-samling-hver-uke-%e2%98%95%f0%9f%8d%9e%f0%9f%8e%82-2/2025-10-31/
LOCATION:Tyholmen Frivilligsentral\, Nedre Tyholmsvei 7\, Arendal\, Agder\, 4836
CATEGORIES:2025
ATTACH;FMTTYPE=image/jpeg:https://tyholmenfrivilligsentral.no/wp-content/uploads/2025/03/IMG_4238-scaled.jpg
END:VEVENT
END:VCALENDAR