BEGIN:VCALENDAR
VERSION:2.0
PRODID:-//Tyholmen Frivilligsentral - ECPv6.15.18//NONSGML v1.0//EN
CALSCALE:GREGORIAN
METHOD:PUBLISH
X-WR-CALNAME:Tyholmen Frivilligsentral
X-ORIGINAL-URL:https://tyholmenfrivilligsentral.no
X-WR-CALDESC:Arrangement for Tyholmen Frivilligsentral
REFRESH-INTERVAL;VALUE=DURATION:PT1H
X-Robots-Tag:noindex
X-PUBLISHED-TTL:PT1H
BEGIN:VTIMEZONE
TZID:Europe/Oslo
BEGIN:DAYLIGHT
TZOFFSETFROM:+0100
TZOFFSETTO:+0200
TZNAME:CEST
DTSTART:20260329T010000
END:DAYLIGHT
BEGIN:STANDARD
TZOFFSETFROM:+0200
TZOFFSETTO:+0100
TZNAME:CET
DTSTART:20261025T010000
END:STANDARD
BEGIN:DAYLIGHT
TZOFFSETFROM:+0100
TZOFFSETTO:+0200
TZNAME:CEST
DTSTART:20270328T010000
END:DAYLIGHT
BEGIN:STANDARD
TZOFFSETFROM:+0200
TZOFFSETTO:+0100
TZNAME:CET
DTSTART:20271031T010000
END:STANDARD
BEGIN:DAYLIGHT
TZOFFSETFROM:+0100
TZOFFSETTO:+0200
TZNAME:CEST
DTSTART:20280326T010000
END:DAYLIGHT
BEGIN:STANDARD
TZOFFSETFROM:+0200
TZOFFSETTO:+0100
TZNAME:CET
DTSTART:20281029T010000
END:STANDARD
END:VTIMEZONE
BEGIN:VEVENT
DTSTART;TZID=Europe/Oslo:20270902T120000
DTEND;TZID=Europe/Oslo:20270902T143000
DTSTAMP:20260425T193410
CREATED:20250317T142537Z
LAST-MODIFIED:20250317T142618Z
UID:10000455-1819886400-1819895400@tyholmenfrivilligsentral.no
SUMMARY:Torsdagskafé – God mat og sosialt fellesskap! 🍞☕
DESCRIPTION:Bli med på en koselig samling hver torsdag kl. 12:00 – 14:30! Vi serverer deilige smørbrød\, varm gryte 🍲\, kake 🎂 og kaffe ☕. Perfekt for en sosial pause og hyggelige samtaler. Kom alene eller ta med en venn – alle er velkomne! 🤗👥 \nVelkommen til en smakfull og uformell torsdag! 🌟
URL:https://tyholmenfrivilligsentral.no/aktivitet/torsdagskafe-god-mat-og-sosialt-fellesskap-%f0%9f%8d%9e%e2%98%95/2027-09-02/
LOCATION:Tyholmen Frivilligsentral\, Nedre Tyholmsvei 7\, Arendal\, Agder\, 4836
ATTACH;FMTTYPE=image/jpeg:https://tyholmenfrivilligsentral.no/wp-content/uploads/2025/03/Torsdagskafe.jpg
END:VEVENT
BEGIN:VEVENT
DTSTART;TZID=Europe/Oslo:20270902T120000
DTEND;TZID=Europe/Oslo:20270902T150000
DTSTAMP:20260425T193410
CREATED:20250402T074118Z
LAST-MODIFIED:20250402T074119Z
UID:10002843-1819886400-1819897200@tyholmenfrivilligsentral.no
SUMMARY:✨ Strikke Kafé – Hver Torsdag kl. 12:00 - 15:00 ✨
DESCRIPTION:Velkommen til vårt inkluderende og uhøytidelige fellesskap! \n📅 Hver torsdag kl. 12:00 – 15:00📍 Åpen kafé med enkel servering:🍲 Varm gryterett\, smørbrød\, kaffe og kake \nStrikker du ikke? Ingen problem! Du er hjertelig velkommen uansett – med eller uten håndarbeid. Her handler det om koselig samvær og god prat. \nTa med deg strikketøyet – eller bare deg selv – og nyt noen hyggelige timer sammen med oss. Vi gleder oss til å se deg! 😊
URL:https://tyholmenfrivilligsentral.no/aktivitet/%e2%9c%a8-strikke-kafe-hver-torsdag-kl-1200-1500-%e2%9c%a8/2027-09-02/
LOCATION:Tyholmen Frivilligsentral\, Nedre Tyholmsvei 7\, Arendal\, Agder\, 4836
CATEGORIES:2025
ATTACH;FMTTYPE=image/jpeg:https://tyholmenfrivilligsentral.no/wp-content/uploads/2025/04/kurv-med-mange-garn-i.jpg
END:VEVENT
BEGIN:VEVENT
DTSTART;TZID=Europe/Oslo:20270903T120000
DTEND;TZID=Europe/Oslo:20270903T143000
DTSTAMP:20260425T193410
CREATED:20250319T131405Z
LAST-MODIFIED:20250319T131405Z
UID:10000984-1819972800-1819981800@tyholmenfrivilligsentral.no
SUMMARY:ÅPEN Fredagskafé – Koselig samling hver uke! ☕🍞🎂
DESCRIPTION:Bli med på vår «ÅPEN Fredagskafé» kl. 12:00 – 14:30! Vi serverer deilige smørbrød\, rundstykker og forskjellige kaker 🎂\, samt masse kaffe ☕. Kom alene eller ta med en venn – alle er velkomne til hyggelige samtaler og en sosial pause! 🤗👥 \nPerfekt måte å starte helgen på! Velkommen til en smakfull og uformell fredag! 🌟
URL:https://tyholmenfrivilligsentral.no/aktivitet/apen-fredagskafe-koselig-samling-hver-uke-%e2%98%95%f0%9f%8d%9e%f0%9f%8e%82-2/2027-09-03/
LOCATION:Tyholmen Frivilligsentral\, Nedre Tyholmsvei 7\, Arendal\, Agder\, 4836
CATEGORIES:2025
ATTACH;FMTTYPE=image/jpeg:https://tyholmenfrivilligsentral.no/wp-content/uploads/2025/03/IMG_4238-scaled.jpg
END:VEVENT
BEGIN:VEVENT
DTSTART;TZID=Europe/Oslo:20270909T120000
DTEND;TZID=Europe/Oslo:20270909T143000
DTSTAMP:20260425T193410
CREATED:20250317T142537Z
LAST-MODIFIED:20250317T142618Z
UID:10000456-1820491200-1820500200@tyholmenfrivilligsentral.no
SUMMARY:Torsdagskafé – God mat og sosialt fellesskap! 🍞☕
DESCRIPTION:Bli med på en koselig samling hver torsdag kl. 12:00 – 14:30! Vi serverer deilige smørbrød\, varm gryte 🍲\, kake 🎂 og kaffe ☕. Perfekt for en sosial pause og hyggelige samtaler. Kom alene eller ta med en venn – alle er velkomne! 🤗👥 \nVelkommen til en smakfull og uformell torsdag! 🌟
URL:https://tyholmenfrivilligsentral.no/aktivitet/torsdagskafe-god-mat-og-sosialt-fellesskap-%f0%9f%8d%9e%e2%98%95/2027-09-09/
LOCATION:Tyholmen Frivilligsentral\, Nedre Tyholmsvei 7\, Arendal\, Agder\, 4836
ATTACH;FMTTYPE=image/jpeg:https://tyholmenfrivilligsentral.no/wp-content/uploads/2025/03/Torsdagskafe.jpg
END:VEVENT
BEGIN:VEVENT
DTSTART;TZID=Europe/Oslo:20270909T120000
DTEND;TZID=Europe/Oslo:20270909T150000
DTSTAMP:20260425T193410
CREATED:20250402T074118Z
LAST-MODIFIED:20250402T074119Z
UID:10002844-1820491200-1820502000@tyholmenfrivilligsentral.no
SUMMARY:✨ Strikke Kafé – Hver Torsdag kl. 12:00 - 15:00 ✨
DESCRIPTION:Velkommen til vårt inkluderende og uhøytidelige fellesskap! \n📅 Hver torsdag kl. 12:00 – 15:00📍 Åpen kafé med enkel servering:🍲 Varm gryterett\, smørbrød\, kaffe og kake \nStrikker du ikke? Ingen problem! Du er hjertelig velkommen uansett – med eller uten håndarbeid. Her handler det om koselig samvær og god prat. \nTa med deg strikketøyet – eller bare deg selv – og nyt noen hyggelige timer sammen med oss. Vi gleder oss til å se deg! 😊
URL:https://tyholmenfrivilligsentral.no/aktivitet/%e2%9c%a8-strikke-kafe-hver-torsdag-kl-1200-1500-%e2%9c%a8/2027-09-09/
LOCATION:Tyholmen Frivilligsentral\, Nedre Tyholmsvei 7\, Arendal\, Agder\, 4836
CATEGORIES:2025
ATTACH;FMTTYPE=image/jpeg:https://tyholmenfrivilligsentral.no/wp-content/uploads/2025/04/kurv-med-mange-garn-i.jpg
END:VEVENT
BEGIN:VEVENT
DTSTART;TZID=Europe/Oslo:20270910T120000
DTEND;TZID=Europe/Oslo:20270910T143000
DTSTAMP:20260425T193410
CREATED:20250319T131405Z
LAST-MODIFIED:20250319T131405Z
UID:10000985-1820577600-1820586600@tyholmenfrivilligsentral.no
SUMMARY:ÅPEN Fredagskafé – Koselig samling hver uke! ☕🍞🎂
DESCRIPTION:Bli med på vår «ÅPEN Fredagskafé» kl. 12:00 – 14:30! Vi serverer deilige smørbrød\, rundstykker og forskjellige kaker 🎂\, samt masse kaffe ☕. Kom alene eller ta med en venn – alle er velkomne til hyggelige samtaler og en sosial pause! 🤗👥 \nPerfekt måte å starte helgen på! Velkommen til en smakfull og uformell fredag! 🌟
URL:https://tyholmenfrivilligsentral.no/aktivitet/apen-fredagskafe-koselig-samling-hver-uke-%e2%98%95%f0%9f%8d%9e%f0%9f%8e%82-2/2027-09-10/
LOCATION:Tyholmen Frivilligsentral\, Nedre Tyholmsvei 7\, Arendal\, Agder\, 4836
CATEGORIES:2025
ATTACH;FMTTYPE=image/jpeg:https://tyholmenfrivilligsentral.no/wp-content/uploads/2025/03/IMG_4238-scaled.jpg
END:VEVENT
BEGIN:VEVENT
DTSTART;TZID=Europe/Oslo:20270916T120000
DTEND;TZID=Europe/Oslo:20270916T143000
DTSTAMP:20260425T193410
CREATED:20250317T142537Z
LAST-MODIFIED:20250317T142618Z
UID:10000457-1821096000-1821105000@tyholmenfrivilligsentral.no
SUMMARY:Torsdagskafé – God mat og sosialt fellesskap! 🍞☕
DESCRIPTION:Bli med på en koselig samling hver torsdag kl. 12:00 – 14:30! Vi serverer deilige smørbrød\, varm gryte 🍲\, kake 🎂 og kaffe ☕. Perfekt for en sosial pause og hyggelige samtaler. Kom alene eller ta med en venn – alle er velkomne! 🤗👥 \nVelkommen til en smakfull og uformell torsdag! 🌟
URL:https://tyholmenfrivilligsentral.no/aktivitet/torsdagskafe-god-mat-og-sosialt-fellesskap-%f0%9f%8d%9e%e2%98%95/2027-09-16/
LOCATION:Tyholmen Frivilligsentral\, Nedre Tyholmsvei 7\, Arendal\, Agder\, 4836
ATTACH;FMTTYPE=image/jpeg:https://tyholmenfrivilligsentral.no/wp-content/uploads/2025/03/Torsdagskafe.jpg
END:VEVENT
BEGIN:VEVENT
DTSTART;TZID=Europe/Oslo:20270916T120000
DTEND;TZID=Europe/Oslo:20270916T150000
DTSTAMP:20260425T193410
CREATED:20250402T074118Z
LAST-MODIFIED:20250402T074119Z
UID:10002845-1821096000-1821106800@tyholmenfrivilligsentral.no
SUMMARY:✨ Strikke Kafé – Hver Torsdag kl. 12:00 - 15:00 ✨
DESCRIPTION:Velkommen til vårt inkluderende og uhøytidelige fellesskap! \n📅 Hver torsdag kl. 12:00 – 15:00📍 Åpen kafé med enkel servering:🍲 Varm gryterett\, smørbrød\, kaffe og kake \nStrikker du ikke? Ingen problem! Du er hjertelig velkommen uansett – med eller uten håndarbeid. Her handler det om koselig samvær og god prat. \nTa med deg strikketøyet – eller bare deg selv – og nyt noen hyggelige timer sammen med oss. Vi gleder oss til å se deg! 😊
URL:https://tyholmenfrivilligsentral.no/aktivitet/%e2%9c%a8-strikke-kafe-hver-torsdag-kl-1200-1500-%e2%9c%a8/2027-09-16/
LOCATION:Tyholmen Frivilligsentral\, Nedre Tyholmsvei 7\, Arendal\, Agder\, 4836
CATEGORIES:2025
ATTACH;FMTTYPE=image/jpeg:https://tyholmenfrivilligsentral.no/wp-content/uploads/2025/04/kurv-med-mange-garn-i.jpg
END:VEVENT
BEGIN:VEVENT
DTSTART;TZID=Europe/Oslo:20270917T120000
DTEND;TZID=Europe/Oslo:20270917T143000
DTSTAMP:20260425T193410
CREATED:20250319T131405Z
LAST-MODIFIED:20250319T131405Z
UID:10000986-1821182400-1821191400@tyholmenfrivilligsentral.no
SUMMARY:ÅPEN Fredagskafé – Koselig samling hver uke! ☕🍞🎂
DESCRIPTION:Bli med på vår «ÅPEN Fredagskafé» kl. 12:00 – 14:30! Vi serverer deilige smørbrød\, rundstykker og forskjellige kaker 🎂\, samt masse kaffe ☕. Kom alene eller ta med en venn – alle er velkomne til hyggelige samtaler og en sosial pause! 🤗👥 \nPerfekt måte å starte helgen på! Velkommen til en smakfull og uformell fredag! 🌟
URL:https://tyholmenfrivilligsentral.no/aktivitet/apen-fredagskafe-koselig-samling-hver-uke-%e2%98%95%f0%9f%8d%9e%f0%9f%8e%82-2/2027-09-17/
LOCATION:Tyholmen Frivilligsentral\, Nedre Tyholmsvei 7\, Arendal\, Agder\, 4836
CATEGORIES:2025
ATTACH;FMTTYPE=image/jpeg:https://tyholmenfrivilligsentral.no/wp-content/uploads/2025/03/IMG_4238-scaled.jpg
END:VEVENT
BEGIN:VEVENT
DTSTART;TZID=Europe/Oslo:20270923T120000
DTEND;TZID=Europe/Oslo:20270923T143000
DTSTAMP:20260425T193410
CREATED:20250317T142537Z
LAST-MODIFIED:20250317T142618Z
UID:10000458-1821700800-1821709800@tyholmenfrivilligsentral.no
SUMMARY:Torsdagskafé – God mat og sosialt fellesskap! 🍞☕
DESCRIPTION:Bli med på en koselig samling hver torsdag kl. 12:00 – 14:30! Vi serverer deilige smørbrød\, varm gryte 🍲\, kake 🎂 og kaffe ☕. Perfekt for en sosial pause og hyggelige samtaler. Kom alene eller ta med en venn – alle er velkomne! 🤗👥 \nVelkommen til en smakfull og uformell torsdag! 🌟
URL:https://tyholmenfrivilligsentral.no/aktivitet/torsdagskafe-god-mat-og-sosialt-fellesskap-%f0%9f%8d%9e%e2%98%95/2027-09-23/
LOCATION:Tyholmen Frivilligsentral\, Nedre Tyholmsvei 7\, Arendal\, Agder\, 4836
ATTACH;FMTTYPE=image/jpeg:https://tyholmenfrivilligsentral.no/wp-content/uploads/2025/03/Torsdagskafe.jpg
END:VEVENT
BEGIN:VEVENT
DTSTART;TZID=Europe/Oslo:20270923T120000
DTEND;TZID=Europe/Oslo:20270923T150000
DTSTAMP:20260425T193410
CREATED:20250402T074118Z
LAST-MODIFIED:20250402T074119Z
UID:10002846-1821700800-1821711600@tyholmenfrivilligsentral.no
SUMMARY:✨ Strikke Kafé – Hver Torsdag kl. 12:00 - 15:00 ✨
DESCRIPTION:Velkommen til vårt inkluderende og uhøytidelige fellesskap! \n📅 Hver torsdag kl. 12:00 – 15:00📍 Åpen kafé med enkel servering:🍲 Varm gryterett\, smørbrød\, kaffe og kake \nStrikker du ikke? Ingen problem! Du er hjertelig velkommen uansett – med eller uten håndarbeid. Her handler det om koselig samvær og god prat. \nTa med deg strikketøyet – eller bare deg selv – og nyt noen hyggelige timer sammen med oss. Vi gleder oss til å se deg! 😊
URL:https://tyholmenfrivilligsentral.no/aktivitet/%e2%9c%a8-strikke-kafe-hver-torsdag-kl-1200-1500-%e2%9c%a8/2027-09-23/
LOCATION:Tyholmen Frivilligsentral\, Nedre Tyholmsvei 7\, Arendal\, Agder\, 4836
CATEGORIES:2025
ATTACH;FMTTYPE=image/jpeg:https://tyholmenfrivilligsentral.no/wp-content/uploads/2025/04/kurv-med-mange-garn-i.jpg
END:VEVENT
BEGIN:VEVENT
DTSTART;TZID=Europe/Oslo:20270924T120000
DTEND;TZID=Europe/Oslo:20270924T143000
DTSTAMP:20260425T193410
CREATED:20250319T131405Z
LAST-MODIFIED:20250319T131405Z
UID:10000987-1821787200-1821796200@tyholmenfrivilligsentral.no
SUMMARY:ÅPEN Fredagskafé – Koselig samling hver uke! ☕🍞🎂
DESCRIPTION:Bli med på vår «ÅPEN Fredagskafé» kl. 12:00 – 14:30! Vi serverer deilige smørbrød\, rundstykker og forskjellige kaker 🎂\, samt masse kaffe ☕. Kom alene eller ta med en venn – alle er velkomne til hyggelige samtaler og en sosial pause! 🤗👥 \nPerfekt måte å starte helgen på! Velkommen til en smakfull og uformell fredag! 🌟
URL:https://tyholmenfrivilligsentral.no/aktivitet/apen-fredagskafe-koselig-samling-hver-uke-%e2%98%95%f0%9f%8d%9e%f0%9f%8e%82-2/2027-09-24/
LOCATION:Tyholmen Frivilligsentral\, Nedre Tyholmsvei 7\, Arendal\, Agder\, 4836
CATEGORIES:2025
ATTACH;FMTTYPE=image/jpeg:https://tyholmenfrivilligsentral.no/wp-content/uploads/2025/03/IMG_4238-scaled.jpg
END:VEVENT
BEGIN:VEVENT
DTSTART;TZID=Europe/Oslo:20270930T120000
DTEND;TZID=Europe/Oslo:20270930T143000
DTSTAMP:20260425T193410
CREATED:20250317T142537Z
LAST-MODIFIED:20250317T142618Z
UID:10000459-1822305600-1822314600@tyholmenfrivilligsentral.no
SUMMARY:Torsdagskafé – God mat og sosialt fellesskap! 🍞☕
DESCRIPTION:Bli med på en koselig samling hver torsdag kl. 12:00 – 14:30! Vi serverer deilige smørbrød\, varm gryte 🍲\, kake 🎂 og kaffe ☕. Perfekt for en sosial pause og hyggelige samtaler. Kom alene eller ta med en venn – alle er velkomne! 🤗👥 \nVelkommen til en smakfull og uformell torsdag! 🌟
URL:https://tyholmenfrivilligsentral.no/aktivitet/torsdagskafe-god-mat-og-sosialt-fellesskap-%f0%9f%8d%9e%e2%98%95/2027-09-30/
LOCATION:Tyholmen Frivilligsentral\, Nedre Tyholmsvei 7\, Arendal\, Agder\, 4836
ATTACH;FMTTYPE=image/jpeg:https://tyholmenfrivilligsentral.no/wp-content/uploads/2025/03/Torsdagskafe.jpg
END:VEVENT
BEGIN:VEVENT
DTSTART;TZID=Europe/Oslo:20270930T120000
DTEND;TZID=Europe/Oslo:20270930T150000
DTSTAMP:20260425T193410
CREATED:20250402T074118Z
LAST-MODIFIED:20250402T074119Z
UID:10002847-1822305600-1822316400@tyholmenfrivilligsentral.no
SUMMARY:✨ Strikke Kafé – Hver Torsdag kl. 12:00 - 15:00 ✨
DESCRIPTION:Velkommen til vårt inkluderende og uhøytidelige fellesskap! \n📅 Hver torsdag kl. 12:00 – 15:00📍 Åpen kafé med enkel servering:🍲 Varm gryterett\, smørbrød\, kaffe og kake \nStrikker du ikke? Ingen problem! Du er hjertelig velkommen uansett – med eller uten håndarbeid. Her handler det om koselig samvær og god prat. \nTa med deg strikketøyet – eller bare deg selv – og nyt noen hyggelige timer sammen med oss. Vi gleder oss til å se deg! 😊
URL:https://tyholmenfrivilligsentral.no/aktivitet/%e2%9c%a8-strikke-kafe-hver-torsdag-kl-1200-1500-%e2%9c%a8/2027-09-30/
LOCATION:Tyholmen Frivilligsentral\, Nedre Tyholmsvei 7\, Arendal\, Agder\, 4836
CATEGORIES:2025
ATTACH;FMTTYPE=image/jpeg:https://tyholmenfrivilligsentral.no/wp-content/uploads/2025/04/kurv-med-mange-garn-i.jpg
END:VEVENT
END:VCALENDAR