BEGIN:VCALENDAR
VERSION:2.0
PRODID:-//Tyholmen Frivilligsentral - ECPv6.15.18//NONSGML v1.0//EN
CALSCALE:GREGORIAN
METHOD:PUBLISH
X-WR-CALNAME:Tyholmen Frivilligsentral
X-ORIGINAL-URL:https://tyholmenfrivilligsentral.no
X-WR-CALDESC:Arrangement for Tyholmen Frivilligsentral
REFRESH-INTERVAL;VALUE=DURATION:PT1H
X-Robots-Tag:noindex
X-PUBLISHED-TTL:PT1H
BEGIN:VTIMEZONE
TZID:Europe/Oslo
BEGIN:DAYLIGHT
TZOFFSETFROM:+0100
TZOFFSETTO:+0200
TZNAME:CEST
DTSTART:20280326T010000
END:DAYLIGHT
BEGIN:STANDARD
TZOFFSETFROM:+0200
TZOFFSETTO:+0100
TZNAME:CET
DTSTART:20281029T010000
END:STANDARD
BEGIN:DAYLIGHT
TZOFFSETFROM:+0100
TZOFFSETTO:+0200
TZNAME:CEST
DTSTART:20290325T010000
END:DAYLIGHT
BEGIN:STANDARD
TZOFFSETFROM:+0200
TZOFFSETTO:+0100
TZNAME:CET
DTSTART:20291028T010000
END:STANDARD
BEGIN:DAYLIGHT
TZOFFSETFROM:+0100
TZOFFSETTO:+0200
TZNAME:CEST
DTSTART:20300331T010000
END:DAYLIGHT
BEGIN:STANDARD
TZOFFSETFROM:+0200
TZOFFSETTO:+0100
TZNAME:CET
DTSTART:20301027T010000
END:STANDARD
BEGIN:DAYLIGHT
TZOFFSETFROM:+0100
TZOFFSETTO:+0200
TZNAME:CEST
DTSTART:20310330T010000
END:DAYLIGHT
BEGIN:STANDARD
TZOFFSETFROM:+0200
TZOFFSETTO:+0100
TZNAME:CET
DTSTART:20311026T010000
END:STANDARD
END:VTIMEZONE
BEGIN:VEVENT
DTSTART;TZID=Europe/Oslo:20291005T120000
DTEND;TZID=Europe/Oslo:20291005T143000
DTSTAMP:20260422T161720
CREATED:20250319T131405Z
LAST-MODIFIED:20250319T131405Z
UID:10001093-1885896000-1885905000@tyholmenfrivilligsentral.no
SUMMARY:ÅPEN Fredagskafé – Koselig samling hver uke! ☕🍞🎂
DESCRIPTION:Bli med på vår «ÅPEN Fredagskafé» kl. 12:00 – 14:30! Vi serverer deilige smørbrød\, rundstykker og forskjellige kaker 🎂\, samt masse kaffe ☕. Kom alene eller ta med en venn – alle er velkomne til hyggelige samtaler og en sosial pause! 🤗👥 \nPerfekt måte å starte helgen på! Velkommen til en smakfull og uformell fredag! 🌟
URL:https://tyholmenfrivilligsentral.no/aktivitet/apen-fredagskafe-koselig-samling-hver-uke-%e2%98%95%f0%9f%8d%9e%f0%9f%8e%82-2/2029-10-05/
LOCATION:Tyholmen Frivilligsentral\, Nedre Tyholmsvei 7\, Arendal\, Agder\, 4836
CATEGORIES:2025
ATTACH;FMTTYPE=image/jpeg:https://tyholmenfrivilligsentral.no/wp-content/uploads/2025/03/IMG_4238-scaled.jpg
END:VEVENT
BEGIN:VEVENT
DTSTART;TZID=Europe/Oslo:20291012T120000
DTEND;TZID=Europe/Oslo:20291012T143000
DTSTAMP:20260422T161720
CREATED:20250319T131405Z
LAST-MODIFIED:20250319T131405Z
UID:10001094-1886500800-1886509800@tyholmenfrivilligsentral.no
SUMMARY:ÅPEN Fredagskafé – Koselig samling hver uke! ☕🍞🎂
DESCRIPTION:Bli med på vår «ÅPEN Fredagskafé» kl. 12:00 – 14:30! Vi serverer deilige smørbrød\, rundstykker og forskjellige kaker 🎂\, samt masse kaffe ☕. Kom alene eller ta med en venn – alle er velkomne til hyggelige samtaler og en sosial pause! 🤗👥 \nPerfekt måte å starte helgen på! Velkommen til en smakfull og uformell fredag! 🌟
URL:https://tyholmenfrivilligsentral.no/aktivitet/apen-fredagskafe-koselig-samling-hver-uke-%e2%98%95%f0%9f%8d%9e%f0%9f%8e%82-2/2029-10-12/
LOCATION:Tyholmen Frivilligsentral\, Nedre Tyholmsvei 7\, Arendal\, Agder\, 4836
CATEGORIES:2025
ATTACH;FMTTYPE=image/jpeg:https://tyholmenfrivilligsentral.no/wp-content/uploads/2025/03/IMG_4238-scaled.jpg
END:VEVENT
BEGIN:VEVENT
DTSTART;TZID=Europe/Oslo:20291019T120000
DTEND;TZID=Europe/Oslo:20291019T143000
DTSTAMP:20260422T161720
CREATED:20250319T131405Z
LAST-MODIFIED:20250319T131405Z
UID:10001095-1887105600-1887114600@tyholmenfrivilligsentral.no
SUMMARY:ÅPEN Fredagskafé – Koselig samling hver uke! ☕🍞🎂
DESCRIPTION:Bli med på vår «ÅPEN Fredagskafé» kl. 12:00 – 14:30! Vi serverer deilige smørbrød\, rundstykker og forskjellige kaker 🎂\, samt masse kaffe ☕. Kom alene eller ta med en venn – alle er velkomne til hyggelige samtaler og en sosial pause! 🤗👥 \nPerfekt måte å starte helgen på! Velkommen til en smakfull og uformell fredag! 🌟
URL:https://tyholmenfrivilligsentral.no/aktivitet/apen-fredagskafe-koselig-samling-hver-uke-%e2%98%95%f0%9f%8d%9e%f0%9f%8e%82-2/2029-10-19/
LOCATION:Tyholmen Frivilligsentral\, Nedre Tyholmsvei 7\, Arendal\, Agder\, 4836
CATEGORIES:2025
ATTACH;FMTTYPE=image/jpeg:https://tyholmenfrivilligsentral.no/wp-content/uploads/2025/03/IMG_4238-scaled.jpg
END:VEVENT
BEGIN:VEVENT
DTSTART;TZID=Europe/Oslo:20291026T120000
DTEND;TZID=Europe/Oslo:20291026T143000
DTSTAMP:20260422T161720
CREATED:20250319T131405Z
LAST-MODIFIED:20250319T131405Z
UID:10001096-1887710400-1887719400@tyholmenfrivilligsentral.no
SUMMARY:ÅPEN Fredagskafé – Koselig samling hver uke! ☕🍞🎂
DESCRIPTION:Bli med på vår «ÅPEN Fredagskafé» kl. 12:00 – 14:30! Vi serverer deilige smørbrød\, rundstykker og forskjellige kaker 🎂\, samt masse kaffe ☕. Kom alene eller ta med en venn – alle er velkomne til hyggelige samtaler og en sosial pause! 🤗👥 \nPerfekt måte å starte helgen på! Velkommen til en smakfull og uformell fredag! 🌟
URL:https://tyholmenfrivilligsentral.no/aktivitet/apen-fredagskafe-koselig-samling-hver-uke-%e2%98%95%f0%9f%8d%9e%f0%9f%8e%82-2/2029-10-26/
LOCATION:Tyholmen Frivilligsentral\, Nedre Tyholmsvei 7\, Arendal\, Agder\, 4836
CATEGORIES:2025
ATTACH;FMTTYPE=image/jpeg:https://tyholmenfrivilligsentral.no/wp-content/uploads/2025/03/IMG_4238-scaled.jpg
END:VEVENT
BEGIN:VEVENT
DTSTART;TZID=Europe/Oslo:20291102T120000
DTEND;TZID=Europe/Oslo:20291102T143000
DTSTAMP:20260422T161720
CREATED:20250319T131405Z
LAST-MODIFIED:20250319T131405Z
UID:10001097-1888315200-1888324200@tyholmenfrivilligsentral.no
SUMMARY:ÅPEN Fredagskafé – Koselig samling hver uke! ☕🍞🎂
DESCRIPTION:Bli med på vår «ÅPEN Fredagskafé» kl. 12:00 – 14:30! Vi serverer deilige smørbrød\, rundstykker og forskjellige kaker 🎂\, samt masse kaffe ☕. Kom alene eller ta med en venn – alle er velkomne til hyggelige samtaler og en sosial pause! 🤗👥 \nPerfekt måte å starte helgen på! Velkommen til en smakfull og uformell fredag! 🌟
URL:https://tyholmenfrivilligsentral.no/aktivitet/apen-fredagskafe-koselig-samling-hver-uke-%e2%98%95%f0%9f%8d%9e%f0%9f%8e%82-2/2029-11-02/
LOCATION:Tyholmen Frivilligsentral\, Nedre Tyholmsvei 7\, Arendal\, Agder\, 4836
CATEGORIES:2025
ATTACH;FMTTYPE=image/jpeg:https://tyholmenfrivilligsentral.no/wp-content/uploads/2025/03/IMG_4238-scaled.jpg
END:VEVENT
BEGIN:VEVENT
DTSTART;TZID=Europe/Oslo:20291109T120000
DTEND;TZID=Europe/Oslo:20291109T143000
DTSTAMP:20260422T161720
CREATED:20250319T131405Z
LAST-MODIFIED:20250319T131405Z
UID:10001098-1888920000-1888929000@tyholmenfrivilligsentral.no
SUMMARY:ÅPEN Fredagskafé – Koselig samling hver uke! ☕🍞🎂
DESCRIPTION:Bli med på vår «ÅPEN Fredagskafé» kl. 12:00 – 14:30! Vi serverer deilige smørbrød\, rundstykker og forskjellige kaker 🎂\, samt masse kaffe ☕. Kom alene eller ta med en venn – alle er velkomne til hyggelige samtaler og en sosial pause! 🤗👥 \nPerfekt måte å starte helgen på! Velkommen til en smakfull og uformell fredag! 🌟
URL:https://tyholmenfrivilligsentral.no/aktivitet/apen-fredagskafe-koselig-samling-hver-uke-%e2%98%95%f0%9f%8d%9e%f0%9f%8e%82-2/2029-11-09/
LOCATION:Tyholmen Frivilligsentral\, Nedre Tyholmsvei 7\, Arendal\, Agder\, 4836
CATEGORIES:2025
ATTACH;FMTTYPE=image/jpeg:https://tyholmenfrivilligsentral.no/wp-content/uploads/2025/03/IMG_4238-scaled.jpg
END:VEVENT
BEGIN:VEVENT
DTSTART;TZID=Europe/Oslo:20291116T120000
DTEND;TZID=Europe/Oslo:20291116T143000
DTSTAMP:20260422T161720
CREATED:20250319T131405Z
LAST-MODIFIED:20250319T131405Z
UID:10001099-1889524800-1889533800@tyholmenfrivilligsentral.no
SUMMARY:ÅPEN Fredagskafé – Koselig samling hver uke! ☕🍞🎂
DESCRIPTION:Bli med på vår «ÅPEN Fredagskafé» kl. 12:00 – 14:30! Vi serverer deilige smørbrød\, rundstykker og forskjellige kaker 🎂\, samt masse kaffe ☕. Kom alene eller ta med en venn – alle er velkomne til hyggelige samtaler og en sosial pause! 🤗👥 \nPerfekt måte å starte helgen på! Velkommen til en smakfull og uformell fredag! 🌟
URL:https://tyholmenfrivilligsentral.no/aktivitet/apen-fredagskafe-koselig-samling-hver-uke-%e2%98%95%f0%9f%8d%9e%f0%9f%8e%82-2/2029-11-16/
LOCATION:Tyholmen Frivilligsentral\, Nedre Tyholmsvei 7\, Arendal\, Agder\, 4836
CATEGORIES:2025
ATTACH;FMTTYPE=image/jpeg:https://tyholmenfrivilligsentral.no/wp-content/uploads/2025/03/IMG_4238-scaled.jpg
END:VEVENT
BEGIN:VEVENT
DTSTART;TZID=Europe/Oslo:20291123T120000
DTEND;TZID=Europe/Oslo:20291123T143000
DTSTAMP:20260422T161720
CREATED:20250319T131405Z
LAST-MODIFIED:20250319T131405Z
UID:10001100-1890129600-1890138600@tyholmenfrivilligsentral.no
SUMMARY:ÅPEN Fredagskafé – Koselig samling hver uke! ☕🍞🎂
DESCRIPTION:Bli med på vår «ÅPEN Fredagskafé» kl. 12:00 – 14:30! Vi serverer deilige smørbrød\, rundstykker og forskjellige kaker 🎂\, samt masse kaffe ☕. Kom alene eller ta med en venn – alle er velkomne til hyggelige samtaler og en sosial pause! 🤗👥 \nPerfekt måte å starte helgen på! Velkommen til en smakfull og uformell fredag! 🌟
URL:https://tyholmenfrivilligsentral.no/aktivitet/apen-fredagskafe-koselig-samling-hver-uke-%e2%98%95%f0%9f%8d%9e%f0%9f%8e%82-2/2029-11-23/
LOCATION:Tyholmen Frivilligsentral\, Nedre Tyholmsvei 7\, Arendal\, Agder\, 4836
CATEGORIES:2025
ATTACH;FMTTYPE=image/jpeg:https://tyholmenfrivilligsentral.no/wp-content/uploads/2025/03/IMG_4238-scaled.jpg
END:VEVENT
BEGIN:VEVENT
DTSTART;TZID=Europe/Oslo:20291130T120000
DTEND;TZID=Europe/Oslo:20291130T143000
DTSTAMP:20260422T161720
CREATED:20250319T131405Z
LAST-MODIFIED:20250319T131405Z
UID:10001101-1890734400-1890743400@tyholmenfrivilligsentral.no
SUMMARY:ÅPEN Fredagskafé – Koselig samling hver uke! ☕🍞🎂
DESCRIPTION:Bli med på vår «ÅPEN Fredagskafé» kl. 12:00 – 14:30! Vi serverer deilige smørbrød\, rundstykker og forskjellige kaker 🎂\, samt masse kaffe ☕. Kom alene eller ta med en venn – alle er velkomne til hyggelige samtaler og en sosial pause! 🤗👥 \nPerfekt måte å starte helgen på! Velkommen til en smakfull og uformell fredag! 🌟
URL:https://tyholmenfrivilligsentral.no/aktivitet/apen-fredagskafe-koselig-samling-hver-uke-%e2%98%95%f0%9f%8d%9e%f0%9f%8e%82-2/2029-11-30/
LOCATION:Tyholmen Frivilligsentral\, Nedre Tyholmsvei 7\, Arendal\, Agder\, 4836
CATEGORIES:2025
ATTACH;FMTTYPE=image/jpeg:https://tyholmenfrivilligsentral.no/wp-content/uploads/2025/03/IMG_4238-scaled.jpg
END:VEVENT
BEGIN:VEVENT
DTSTART;TZID=Europe/Oslo:20291207T120000
DTEND;TZID=Europe/Oslo:20291207T143000
DTSTAMP:20260422T161720
CREATED:20250319T131405Z
LAST-MODIFIED:20250319T131405Z
UID:10001102-1891339200-1891348200@tyholmenfrivilligsentral.no
SUMMARY:ÅPEN Fredagskafé – Koselig samling hver uke! ☕🍞🎂
DESCRIPTION:Bli med på vår «ÅPEN Fredagskafé» kl. 12:00 – 14:30! Vi serverer deilige smørbrød\, rundstykker og forskjellige kaker 🎂\, samt masse kaffe ☕. Kom alene eller ta med en venn – alle er velkomne til hyggelige samtaler og en sosial pause! 🤗👥 \nPerfekt måte å starte helgen på! Velkommen til en smakfull og uformell fredag! 🌟
URL:https://tyholmenfrivilligsentral.no/aktivitet/apen-fredagskafe-koselig-samling-hver-uke-%e2%98%95%f0%9f%8d%9e%f0%9f%8e%82-2/2029-12-07/
LOCATION:Tyholmen Frivilligsentral\, Nedre Tyholmsvei 7\, Arendal\, Agder\, 4836
CATEGORIES:2025
ATTACH;FMTTYPE=image/jpeg:https://tyholmenfrivilligsentral.no/wp-content/uploads/2025/03/IMG_4238-scaled.jpg
END:VEVENT
BEGIN:VEVENT
DTSTART;TZID=Europe/Oslo:20291214T120000
DTEND;TZID=Europe/Oslo:20291214T143000
DTSTAMP:20260422T161720
CREATED:20250319T131405Z
LAST-MODIFIED:20250319T131405Z
UID:10001103-1891944000-1891953000@tyholmenfrivilligsentral.no
SUMMARY:ÅPEN Fredagskafé – Koselig samling hver uke! ☕🍞🎂
DESCRIPTION:Bli med på vår «ÅPEN Fredagskafé» kl. 12:00 – 14:30! Vi serverer deilige smørbrød\, rundstykker og forskjellige kaker 🎂\, samt masse kaffe ☕. Kom alene eller ta med en venn – alle er velkomne til hyggelige samtaler og en sosial pause! 🤗👥 \nPerfekt måte å starte helgen på! Velkommen til en smakfull og uformell fredag! 🌟
URL:https://tyholmenfrivilligsentral.no/aktivitet/apen-fredagskafe-koselig-samling-hver-uke-%e2%98%95%f0%9f%8d%9e%f0%9f%8e%82-2/2029-12-14/
LOCATION:Tyholmen Frivilligsentral\, Nedre Tyholmsvei 7\, Arendal\, Agder\, 4836
CATEGORIES:2025
ATTACH;FMTTYPE=image/jpeg:https://tyholmenfrivilligsentral.no/wp-content/uploads/2025/03/IMG_4238-scaled.jpg
END:VEVENT
BEGIN:VEVENT
DTSTART;TZID=Europe/Oslo:20291221T120000
DTEND;TZID=Europe/Oslo:20291221T143000
DTSTAMP:20260422T161720
CREATED:20250319T131405Z
LAST-MODIFIED:20250319T131405Z
UID:10001104-1892548800-1892557800@tyholmenfrivilligsentral.no
SUMMARY:ÅPEN Fredagskafé – Koselig samling hver uke! ☕🍞🎂
DESCRIPTION:Bli med på vår «ÅPEN Fredagskafé» kl. 12:00 – 14:30! Vi serverer deilige smørbrød\, rundstykker og forskjellige kaker 🎂\, samt masse kaffe ☕. Kom alene eller ta med en venn – alle er velkomne til hyggelige samtaler og en sosial pause! 🤗👥 \nPerfekt måte å starte helgen på! Velkommen til en smakfull og uformell fredag! 🌟
URL:https://tyholmenfrivilligsentral.no/aktivitet/apen-fredagskafe-koselig-samling-hver-uke-%e2%98%95%f0%9f%8d%9e%f0%9f%8e%82-2/2029-12-21/
LOCATION:Tyholmen Frivilligsentral\, Nedre Tyholmsvei 7\, Arendal\, Agder\, 4836
CATEGORIES:2025
ATTACH;FMTTYPE=image/jpeg:https://tyholmenfrivilligsentral.no/wp-content/uploads/2025/03/IMG_4238-scaled.jpg
END:VEVENT
BEGIN:VEVENT
DTSTART;TZID=Europe/Oslo:20291228T120000
DTEND;TZID=Europe/Oslo:20291228T143000
DTSTAMP:20260422T161720
CREATED:20250319T131405Z
LAST-MODIFIED:20250319T131405Z
UID:10001105-1893153600-1893162600@tyholmenfrivilligsentral.no
SUMMARY:ÅPEN Fredagskafé – Koselig samling hver uke! ☕🍞🎂
DESCRIPTION:Bli med på vår «ÅPEN Fredagskafé» kl. 12:00 – 14:30! Vi serverer deilige smørbrød\, rundstykker og forskjellige kaker 🎂\, samt masse kaffe ☕. Kom alene eller ta med en venn – alle er velkomne til hyggelige samtaler og en sosial pause! 🤗👥 \nPerfekt måte å starte helgen på! Velkommen til en smakfull og uformell fredag! 🌟
URL:https://tyholmenfrivilligsentral.no/aktivitet/apen-fredagskafe-koselig-samling-hver-uke-%e2%98%95%f0%9f%8d%9e%f0%9f%8e%82-2/2029-12-28/
LOCATION:Tyholmen Frivilligsentral\, Nedre Tyholmsvei 7\, Arendal\, Agder\, 4836
CATEGORIES:2025
ATTACH;FMTTYPE=image/jpeg:https://tyholmenfrivilligsentral.no/wp-content/uploads/2025/03/IMG_4238-scaled.jpg
END:VEVENT
BEGIN:VEVENT
DTSTART;TZID=Europe/Oslo:20300104T120000
DTEND;TZID=Europe/Oslo:20300104T143000
DTSTAMP:20260422T161720
CREATED:20250319T131405Z
LAST-MODIFIED:20250319T131405Z
UID:10001106-1893758400-1893767400@tyholmenfrivilligsentral.no
SUMMARY:ÅPEN Fredagskafé – Koselig samling hver uke! ☕🍞🎂
DESCRIPTION:Bli med på vår «ÅPEN Fredagskafé» kl. 12:00 – 14:30! Vi serverer deilige smørbrød\, rundstykker og forskjellige kaker 🎂\, samt masse kaffe ☕. Kom alene eller ta med en venn – alle er velkomne til hyggelige samtaler og en sosial pause! 🤗👥 \nPerfekt måte å starte helgen på! Velkommen til en smakfull og uformell fredag! 🌟
URL:https://tyholmenfrivilligsentral.no/aktivitet/apen-fredagskafe-koselig-samling-hver-uke-%e2%98%95%f0%9f%8d%9e%f0%9f%8e%82-2/2030-01-04/
LOCATION:Tyholmen Frivilligsentral\, Nedre Tyholmsvei 7\, Arendal\, Agder\, 4836
CATEGORIES:2025
ATTACH;FMTTYPE=image/jpeg:https://tyholmenfrivilligsentral.no/wp-content/uploads/2025/03/IMG_4238-scaled.jpg
END:VEVENT
BEGIN:VEVENT
DTSTART;TZID=Europe/Oslo:20300111T120000
DTEND;TZID=Europe/Oslo:20300111T143000
DTSTAMP:20260422T161720
CREATED:20250319T131405Z
LAST-MODIFIED:20250319T131405Z
UID:10001107-1894363200-1894372200@tyholmenfrivilligsentral.no
SUMMARY:ÅPEN Fredagskafé – Koselig samling hver uke! ☕🍞🎂
DESCRIPTION:Bli med på vår «ÅPEN Fredagskafé» kl. 12:00 – 14:30! Vi serverer deilige smørbrød\, rundstykker og forskjellige kaker 🎂\, samt masse kaffe ☕. Kom alene eller ta med en venn – alle er velkomne til hyggelige samtaler og en sosial pause! 🤗👥 \nPerfekt måte å starte helgen på! Velkommen til en smakfull og uformell fredag! 🌟
URL:https://tyholmenfrivilligsentral.no/aktivitet/apen-fredagskafe-koselig-samling-hver-uke-%e2%98%95%f0%9f%8d%9e%f0%9f%8e%82-2/2030-01-11/
LOCATION:Tyholmen Frivilligsentral\, Nedre Tyholmsvei 7\, Arendal\, Agder\, 4836
CATEGORIES:2025
ATTACH;FMTTYPE=image/jpeg:https://tyholmenfrivilligsentral.no/wp-content/uploads/2025/03/IMG_4238-scaled.jpg
END:VEVENT
BEGIN:VEVENT
DTSTART;TZID=Europe/Oslo:20300118T120000
DTEND;TZID=Europe/Oslo:20300118T143000
DTSTAMP:20260422T161720
CREATED:20250319T131405Z
LAST-MODIFIED:20250319T131405Z
UID:10001108-1894968000-1894977000@tyholmenfrivilligsentral.no
SUMMARY:ÅPEN Fredagskafé – Koselig samling hver uke! ☕🍞🎂
DESCRIPTION:Bli med på vår «ÅPEN Fredagskafé» kl. 12:00 – 14:30! Vi serverer deilige smørbrød\, rundstykker og forskjellige kaker 🎂\, samt masse kaffe ☕. Kom alene eller ta med en venn – alle er velkomne til hyggelige samtaler og en sosial pause! 🤗👥 \nPerfekt måte å starte helgen på! Velkommen til en smakfull og uformell fredag! 🌟
URL:https://tyholmenfrivilligsentral.no/aktivitet/apen-fredagskafe-koselig-samling-hver-uke-%e2%98%95%f0%9f%8d%9e%f0%9f%8e%82-2/2030-01-18/
LOCATION:Tyholmen Frivilligsentral\, Nedre Tyholmsvei 7\, Arendal\, Agder\, 4836
CATEGORIES:2025
ATTACH;FMTTYPE=image/jpeg:https://tyholmenfrivilligsentral.no/wp-content/uploads/2025/03/IMG_4238-scaled.jpg
END:VEVENT
BEGIN:VEVENT
DTSTART;TZID=Europe/Oslo:20300125T120000
DTEND;TZID=Europe/Oslo:20300125T143000
DTSTAMP:20260422T161720
CREATED:20250319T131405Z
LAST-MODIFIED:20250319T131405Z
UID:10001109-1895572800-1895581800@tyholmenfrivilligsentral.no
SUMMARY:ÅPEN Fredagskafé – Koselig samling hver uke! ☕🍞🎂
DESCRIPTION:Bli med på vår «ÅPEN Fredagskafé» kl. 12:00 – 14:30! Vi serverer deilige smørbrød\, rundstykker og forskjellige kaker 🎂\, samt masse kaffe ☕. Kom alene eller ta med en venn – alle er velkomne til hyggelige samtaler og en sosial pause! 🤗👥 \nPerfekt måte å starte helgen på! Velkommen til en smakfull og uformell fredag! 🌟
URL:https://tyholmenfrivilligsentral.no/aktivitet/apen-fredagskafe-koselig-samling-hver-uke-%e2%98%95%f0%9f%8d%9e%f0%9f%8e%82-2/2030-01-25/
LOCATION:Tyholmen Frivilligsentral\, Nedre Tyholmsvei 7\, Arendal\, Agder\, 4836
CATEGORIES:2025
ATTACH;FMTTYPE=image/jpeg:https://tyholmenfrivilligsentral.no/wp-content/uploads/2025/03/IMG_4238-scaled.jpg
END:VEVENT
BEGIN:VEVENT
DTSTART;TZID=Europe/Oslo:20300201T120000
DTEND;TZID=Europe/Oslo:20300201T143000
DTSTAMP:20260422T161720
CREATED:20250319T131405Z
LAST-MODIFIED:20250319T131405Z
UID:10001110-1896177600-1896186600@tyholmenfrivilligsentral.no
SUMMARY:ÅPEN Fredagskafé – Koselig samling hver uke! ☕🍞🎂
DESCRIPTION:Bli med på vår «ÅPEN Fredagskafé» kl. 12:00 – 14:30! Vi serverer deilige smørbrød\, rundstykker og forskjellige kaker 🎂\, samt masse kaffe ☕. Kom alene eller ta med en venn – alle er velkomne til hyggelige samtaler og en sosial pause! 🤗👥 \nPerfekt måte å starte helgen på! Velkommen til en smakfull og uformell fredag! 🌟
URL:https://tyholmenfrivilligsentral.no/aktivitet/apen-fredagskafe-koselig-samling-hver-uke-%e2%98%95%f0%9f%8d%9e%f0%9f%8e%82-2/2030-02-01/
LOCATION:Tyholmen Frivilligsentral\, Nedre Tyholmsvei 7\, Arendal\, Agder\, 4836
CATEGORIES:2025
ATTACH;FMTTYPE=image/jpeg:https://tyholmenfrivilligsentral.no/wp-content/uploads/2025/03/IMG_4238-scaled.jpg
END:VEVENT
BEGIN:VEVENT
DTSTART;TZID=Europe/Oslo:20300208T120000
DTEND;TZID=Europe/Oslo:20300208T143000
DTSTAMP:20260422T161720
CREATED:20250319T131405Z
LAST-MODIFIED:20250319T131405Z
UID:10001111-1896782400-1896791400@tyholmenfrivilligsentral.no
SUMMARY:ÅPEN Fredagskafé – Koselig samling hver uke! ☕🍞🎂
DESCRIPTION:Bli med på vår «ÅPEN Fredagskafé» kl. 12:00 – 14:30! Vi serverer deilige smørbrød\, rundstykker og forskjellige kaker 🎂\, samt masse kaffe ☕. Kom alene eller ta med en venn – alle er velkomne til hyggelige samtaler og en sosial pause! 🤗👥 \nPerfekt måte å starte helgen på! Velkommen til en smakfull og uformell fredag! 🌟
URL:https://tyholmenfrivilligsentral.no/aktivitet/apen-fredagskafe-koselig-samling-hver-uke-%e2%98%95%f0%9f%8d%9e%f0%9f%8e%82-2/2030-02-08/
LOCATION:Tyholmen Frivilligsentral\, Nedre Tyholmsvei 7\, Arendal\, Agder\, 4836
CATEGORIES:2025
ATTACH;FMTTYPE=image/jpeg:https://tyholmenfrivilligsentral.no/wp-content/uploads/2025/03/IMG_4238-scaled.jpg
END:VEVENT
BEGIN:VEVENT
DTSTART;TZID=Europe/Oslo:20300215T120000
DTEND;TZID=Europe/Oslo:20300215T143000
DTSTAMP:20260422T161720
CREATED:20250319T131405Z
LAST-MODIFIED:20250319T131405Z
UID:10001112-1897387200-1897396200@tyholmenfrivilligsentral.no
SUMMARY:ÅPEN Fredagskafé – Koselig samling hver uke! ☕🍞🎂
DESCRIPTION:Bli med på vår «ÅPEN Fredagskafé» kl. 12:00 – 14:30! Vi serverer deilige smørbrød\, rundstykker og forskjellige kaker 🎂\, samt masse kaffe ☕. Kom alene eller ta med en venn – alle er velkomne til hyggelige samtaler og en sosial pause! 🤗👥 \nPerfekt måte å starte helgen på! Velkommen til en smakfull og uformell fredag! 🌟
URL:https://tyholmenfrivilligsentral.no/aktivitet/apen-fredagskafe-koselig-samling-hver-uke-%e2%98%95%f0%9f%8d%9e%f0%9f%8e%82-2/2030-02-15/
LOCATION:Tyholmen Frivilligsentral\, Nedre Tyholmsvei 7\, Arendal\, Agder\, 4836
CATEGORIES:2025
ATTACH;FMTTYPE=image/jpeg:https://tyholmenfrivilligsentral.no/wp-content/uploads/2025/03/IMG_4238-scaled.jpg
END:VEVENT
BEGIN:VEVENT
DTSTART;TZID=Europe/Oslo:20300222T120000
DTEND;TZID=Europe/Oslo:20300222T143000
DTSTAMP:20260422T161720
CREATED:20250319T131405Z
LAST-MODIFIED:20250319T131405Z
UID:10001113-1897992000-1898001000@tyholmenfrivilligsentral.no
SUMMARY:ÅPEN Fredagskafé – Koselig samling hver uke! ☕🍞🎂
DESCRIPTION:Bli med på vår «ÅPEN Fredagskafé» kl. 12:00 – 14:30! Vi serverer deilige smørbrød\, rundstykker og forskjellige kaker 🎂\, samt masse kaffe ☕. Kom alene eller ta med en venn – alle er velkomne til hyggelige samtaler og en sosial pause! 🤗👥 \nPerfekt måte å starte helgen på! Velkommen til en smakfull og uformell fredag! 🌟
URL:https://tyholmenfrivilligsentral.no/aktivitet/apen-fredagskafe-koselig-samling-hver-uke-%e2%98%95%f0%9f%8d%9e%f0%9f%8e%82-2/2030-02-22/
LOCATION:Tyholmen Frivilligsentral\, Nedre Tyholmsvei 7\, Arendal\, Agder\, 4836
CATEGORIES:2025
ATTACH;FMTTYPE=image/jpeg:https://tyholmenfrivilligsentral.no/wp-content/uploads/2025/03/IMG_4238-scaled.jpg
END:VEVENT
BEGIN:VEVENT
DTSTART;TZID=Europe/Oslo:20300301T120000
DTEND;TZID=Europe/Oslo:20300301T143000
DTSTAMP:20260422T161720
CREATED:20250319T131405Z
LAST-MODIFIED:20250319T131405Z
UID:10001114-1898596800-1898605800@tyholmenfrivilligsentral.no
SUMMARY:ÅPEN Fredagskafé – Koselig samling hver uke! ☕🍞🎂
DESCRIPTION:Bli med på vår «ÅPEN Fredagskafé» kl. 12:00 – 14:30! Vi serverer deilige smørbrød\, rundstykker og forskjellige kaker 🎂\, samt masse kaffe ☕. Kom alene eller ta med en venn – alle er velkomne til hyggelige samtaler og en sosial pause! 🤗👥 \nPerfekt måte å starte helgen på! Velkommen til en smakfull og uformell fredag! 🌟
URL:https://tyholmenfrivilligsentral.no/aktivitet/apen-fredagskafe-koselig-samling-hver-uke-%e2%98%95%f0%9f%8d%9e%f0%9f%8e%82-2/2030-03-01/
LOCATION:Tyholmen Frivilligsentral\, Nedre Tyholmsvei 7\, Arendal\, Agder\, 4836
CATEGORIES:2025
ATTACH;FMTTYPE=image/jpeg:https://tyholmenfrivilligsentral.no/wp-content/uploads/2025/03/IMG_4238-scaled.jpg
END:VEVENT
BEGIN:VEVENT
DTSTART;TZID=Europe/Oslo:20300308T120000
DTEND;TZID=Europe/Oslo:20300308T143000
DTSTAMP:20260422T161720
CREATED:20250319T131405Z
LAST-MODIFIED:20250319T131405Z
UID:10001115-1899201600-1899210600@tyholmenfrivilligsentral.no
SUMMARY:ÅPEN Fredagskafé – Koselig samling hver uke! ☕🍞🎂
DESCRIPTION:Bli med på vår «ÅPEN Fredagskafé» kl. 12:00 – 14:30! Vi serverer deilige smørbrød\, rundstykker og forskjellige kaker 🎂\, samt masse kaffe ☕. Kom alene eller ta med en venn – alle er velkomne til hyggelige samtaler og en sosial pause! 🤗👥 \nPerfekt måte å starte helgen på! Velkommen til en smakfull og uformell fredag! 🌟
URL:https://tyholmenfrivilligsentral.no/aktivitet/apen-fredagskafe-koselig-samling-hver-uke-%e2%98%95%f0%9f%8d%9e%f0%9f%8e%82-2/2030-03-08/
LOCATION:Tyholmen Frivilligsentral\, Nedre Tyholmsvei 7\, Arendal\, Agder\, 4836
CATEGORIES:2025
ATTACH;FMTTYPE=image/jpeg:https://tyholmenfrivilligsentral.no/wp-content/uploads/2025/03/IMG_4238-scaled.jpg
END:VEVENT
BEGIN:VEVENT
DTSTART;TZID=Europe/Oslo:20300315T120000
DTEND;TZID=Europe/Oslo:20300315T143000
DTSTAMP:20260422T161720
CREATED:20250319T131405Z
LAST-MODIFIED:20250319T131405Z
UID:10001116-1899806400-1899815400@tyholmenfrivilligsentral.no
SUMMARY:ÅPEN Fredagskafé – Koselig samling hver uke! ☕🍞🎂
DESCRIPTION:Bli med på vår «ÅPEN Fredagskafé» kl. 12:00 – 14:30! Vi serverer deilige smørbrød\, rundstykker og forskjellige kaker 🎂\, samt masse kaffe ☕. Kom alene eller ta med en venn – alle er velkomne til hyggelige samtaler og en sosial pause! 🤗👥 \nPerfekt måte å starte helgen på! Velkommen til en smakfull og uformell fredag! 🌟
URL:https://tyholmenfrivilligsentral.no/aktivitet/apen-fredagskafe-koselig-samling-hver-uke-%e2%98%95%f0%9f%8d%9e%f0%9f%8e%82-2/2030-03-15/
LOCATION:Tyholmen Frivilligsentral\, Nedre Tyholmsvei 7\, Arendal\, Agder\, 4836
CATEGORIES:2025
ATTACH;FMTTYPE=image/jpeg:https://tyholmenfrivilligsentral.no/wp-content/uploads/2025/03/IMG_4238-scaled.jpg
END:VEVENT
END:VCALENDAR