BEGIN:VCALENDAR
VERSION:2.0
PRODID:-//Tyholmen Frivilligsentral - ECPv6.15.18//NONSGML v1.0//EN
CALSCALE:GREGORIAN
METHOD:PUBLISH
X-ORIGINAL-URL:https://tyholmenfrivilligsentral.no
X-WR-CALDESC:Arrangement for Tyholmen Frivilligsentral
REFRESH-INTERVAL;VALUE=DURATION:PT1H
X-Robots-Tag:noindex
X-PUBLISHED-TTL:PT1H
BEGIN:VTIMEZONE
TZID:Europe/Oslo
BEGIN:DAYLIGHT
TZOFFSETFROM:+0100
TZOFFSETTO:+0200
TZNAME:CEST
DTSTART:20240331T010000
END:DAYLIGHT
BEGIN:STANDARD
TZOFFSETFROM:+0200
TZOFFSETTO:+0100
TZNAME:CET
DTSTART:20241027T010000
END:STANDARD
BEGIN:DAYLIGHT
TZOFFSETFROM:+0100
TZOFFSETTO:+0200
TZNAME:CEST
DTSTART:20250330T010000
END:DAYLIGHT
BEGIN:STANDARD
TZOFFSETFROM:+0200
TZOFFSETTO:+0100
TZNAME:CET
DTSTART:20251026T010000
END:STANDARD
BEGIN:DAYLIGHT
TZOFFSETFROM:+0100
TZOFFSETTO:+0200
TZNAME:CEST
DTSTART:20260329T010000
END:DAYLIGHT
BEGIN:STANDARD
TZOFFSETFROM:+0200
TZOFFSETTO:+0100
TZNAME:CET
DTSTART:20261025T010000
END:STANDARD
END:VTIMEZONE
BEGIN:VEVENT
DTSTART;TZID=Europe/Oslo:20251203T173000
DTEND;TZID=Europe/Oslo:20251203T183000
DTSTAMP:20260421T084700
CREATED:20251007T223540Z
LAST-MODIFIED:20260105T123910Z
UID:10005825-1764783000-1764786600@tyholmenfrivilligsentral.no
SUMMARY:🤠🎶 Linedance for eldre og pensjonister – Bli med på danseglede GRATIS! 💃🕺
DESCRIPTION:Har du lyst til å bevege deg til fengende musikk\, lære morsomme trinn og ha det gøy sammen med andre? Da er Linedance perfekt for deg! 💛 \n📅 Når: Hver mandag og tirsdag kl. 12:45. Hver onsdag kl 16:30 \n📍 Hvor: Kulturkammeret🎟️ Åpent for alle eldre og pensjonister! \nLinedance er en sosial og morsom danseform der vi danser i rekker til musikk – ingen partner trengs! 🎵💃 Det er lett å lære\, god trening for både kropp og hjerne\, og gir masse energi og glede! \nKom alene eller ta med en venn – her blir du tatt godt imot! 🤗 Velkommen til en danseøkt fylt med rytme\, bevegelse og godt humør! 🎶✨
URL:https://tyholmenfrivilligsentral.no/aktivitet/%f0%9f%95%ba-linedans-hver-onsdag-kl-1630/2025-12-03/
LOCATION:Kulturkammeret\, Kirkegaten 2B\, Arendal\, Agder\, 4836
CATEGORIES:2025,2026
ATTACH;FMTTYPE=image/jpeg:https://tyholmenfrivilligsentral.no/wp-content/uploads/2025/03/lag-tegning-om-linedance-med-4-pensjonister.jpg
END:VEVENT
BEGIN:VEVENT
DTSTART;TZID=Europe/Oslo:20251210T173000
DTEND;TZID=Europe/Oslo:20251210T183000
DTSTAMP:20260421T084700
CREATED:20251007T223540Z
LAST-MODIFIED:20260105T123910Z
UID:10005826-1765387800-1765391400@tyholmenfrivilligsentral.no
SUMMARY:🤠🎶 Linedance for eldre og pensjonister – Bli med på danseglede GRATIS! 💃🕺
DESCRIPTION:Har du lyst til å bevege deg til fengende musikk\, lære morsomme trinn og ha det gøy sammen med andre? Da er Linedance perfekt for deg! 💛 \n📅 Når: Hver mandag og tirsdag kl. 12:45. Hver onsdag kl 16:30 \n📍 Hvor: Kulturkammeret🎟️ Åpent for alle eldre og pensjonister! \nLinedance er en sosial og morsom danseform der vi danser i rekker til musikk – ingen partner trengs! 🎵💃 Det er lett å lære\, god trening for både kropp og hjerne\, og gir masse energi og glede! \nKom alene eller ta med en venn – her blir du tatt godt imot! 🤗 Velkommen til en danseøkt fylt med rytme\, bevegelse og godt humør! 🎶✨
URL:https://tyholmenfrivilligsentral.no/aktivitet/%f0%9f%95%ba-linedans-hver-onsdag-kl-1630/2025-12-10/
LOCATION:Kulturkammeret\, Kirkegaten 2B\, Arendal\, Agder\, 4836
CATEGORIES:2025,2026
ATTACH;FMTTYPE=image/jpeg:https://tyholmenfrivilligsentral.no/wp-content/uploads/2025/03/lag-tegning-om-linedance-med-4-pensjonister.jpg
END:VEVENT
BEGIN:VEVENT
DTSTART;TZID=Europe/Oslo:20251217T173000
DTEND;TZID=Europe/Oslo:20251217T183000
DTSTAMP:20260421T084700
CREATED:20251007T223540Z
LAST-MODIFIED:20260105T123910Z
UID:10005827-1765992600-1765996200@tyholmenfrivilligsentral.no
SUMMARY:🤠🎶 Linedance for eldre og pensjonister – Bli med på danseglede GRATIS! 💃🕺
DESCRIPTION:Har du lyst til å bevege deg til fengende musikk\, lære morsomme trinn og ha det gøy sammen med andre? Da er Linedance perfekt for deg! 💛 \n📅 Når: Hver mandag og tirsdag kl. 12:45. Hver onsdag kl 16:30 \n📍 Hvor: Kulturkammeret🎟️ Åpent for alle eldre og pensjonister! \nLinedance er en sosial og morsom danseform der vi danser i rekker til musikk – ingen partner trengs! 🎵💃 Det er lett å lære\, god trening for både kropp og hjerne\, og gir masse energi og glede! \nKom alene eller ta med en venn – her blir du tatt godt imot! 🤗 Velkommen til en danseøkt fylt med rytme\, bevegelse og godt humør! 🎶✨
URL:https://tyholmenfrivilligsentral.no/aktivitet/%f0%9f%95%ba-linedans-hver-onsdag-kl-1630/2025-12-17/
LOCATION:Kulturkammeret\, Kirkegaten 2B\, Arendal\, Agder\, 4836
CATEGORIES:2025,2026
ATTACH;FMTTYPE=image/jpeg:https://tyholmenfrivilligsentral.no/wp-content/uploads/2025/03/lag-tegning-om-linedance-med-4-pensjonister.jpg
END:VEVENT
BEGIN:VEVENT
DTSTART;TZID=Europe/Oslo:20251224T173000
DTEND;TZID=Europe/Oslo:20251224T183000
DTSTAMP:20260421T084700
CREATED:20251007T223540Z
LAST-MODIFIED:20260105T123910Z
UID:10005828-1766597400-1766601000@tyholmenfrivilligsentral.no
SUMMARY:🤠🎶 Linedance for eldre og pensjonister – Bli med på danseglede GRATIS! 💃🕺
DESCRIPTION:Har du lyst til å bevege deg til fengende musikk\, lære morsomme trinn og ha det gøy sammen med andre? Da er Linedance perfekt for deg! 💛 \n📅 Når: Hver mandag og tirsdag kl. 12:45. Hver onsdag kl 16:30 \n📍 Hvor: Kulturkammeret🎟️ Åpent for alle eldre og pensjonister! \nLinedance er en sosial og morsom danseform der vi danser i rekker til musikk – ingen partner trengs! 🎵💃 Det er lett å lære\, god trening for både kropp og hjerne\, og gir masse energi og glede! \nKom alene eller ta med en venn – her blir du tatt godt imot! 🤗 Velkommen til en danseøkt fylt med rytme\, bevegelse og godt humør! 🎶✨
URL:https://tyholmenfrivilligsentral.no/aktivitet/%f0%9f%95%ba-linedans-hver-onsdag-kl-1630/2025-12-24/
LOCATION:Kulturkammeret\, Kirkegaten 2B\, Arendal\, Agder\, 4836
CATEGORIES:2025,2026
ATTACH;FMTTYPE=image/jpeg:https://tyholmenfrivilligsentral.no/wp-content/uploads/2025/03/lag-tegning-om-linedance-med-4-pensjonister.jpg
END:VEVENT
BEGIN:VEVENT
DTSTART;TZID=Europe/Oslo:20251231T173000
DTEND;TZID=Europe/Oslo:20251231T183000
DTSTAMP:20260421T084700
CREATED:20251007T223540Z
LAST-MODIFIED:20260105T123910Z
UID:10005829-1767202200-1767205800@tyholmenfrivilligsentral.no
SUMMARY:🤠🎶 Linedance for eldre og pensjonister – Bli med på danseglede GRATIS! 💃🕺
DESCRIPTION:Har du lyst til å bevege deg til fengende musikk\, lære morsomme trinn og ha det gøy sammen med andre? Da er Linedance perfekt for deg! 💛 \n📅 Når: Hver mandag og tirsdag kl. 12:45. Hver onsdag kl 16:30 \n📍 Hvor: Kulturkammeret🎟️ Åpent for alle eldre og pensjonister! \nLinedance er en sosial og morsom danseform der vi danser i rekker til musikk – ingen partner trengs! 🎵💃 Det er lett å lære\, god trening for både kropp og hjerne\, og gir masse energi og glede! \nKom alene eller ta med en venn – her blir du tatt godt imot! 🤗 Velkommen til en danseøkt fylt med rytme\, bevegelse og godt humør! 🎶✨
URL:https://tyholmenfrivilligsentral.no/aktivitet/%f0%9f%95%ba-linedans-hver-onsdag-kl-1630/2025-12-31/
LOCATION:Kulturkammeret\, Kirkegaten 2B\, Arendal\, Agder\, 4836
CATEGORIES:2025,2026
ATTACH;FMTTYPE=image/jpeg:https://tyholmenfrivilligsentral.no/wp-content/uploads/2025/03/lag-tegning-om-linedance-med-4-pensjonister.jpg
END:VEVENT
END:VCALENDAR