BEGIN:VCALENDAR
VERSION:2.0
PRODID:-//Tyholmen Frivilligsentral - ECPv6.15.18//NONSGML v1.0//EN
CALSCALE:GREGORIAN
METHOD:PUBLISH
X-WR-CALNAME:Tyholmen Frivilligsentral
X-ORIGINAL-URL:https://tyholmenfrivilligsentral.no
X-WR-CALDESC:Arrangement for Tyholmen Frivilligsentral
REFRESH-INTERVAL;VALUE=DURATION:PT1H
X-Robots-Tag:noindex
X-PUBLISHED-TTL:PT1H
BEGIN:VTIMEZONE
TZID:Europe/Oslo
BEGIN:DAYLIGHT
TZOFFSETFROM:+0100
TZOFFSETTO:+0200
TZNAME:CEST
DTSTART:20240331T010000
END:DAYLIGHT
BEGIN:STANDARD
TZOFFSETFROM:+0200
TZOFFSETTO:+0100
TZNAME:CET
DTSTART:20241027T010000
END:STANDARD
BEGIN:DAYLIGHT
TZOFFSETFROM:+0100
TZOFFSETTO:+0200
TZNAME:CEST
DTSTART:20250330T010000
END:DAYLIGHT
BEGIN:STANDARD
TZOFFSETFROM:+0200
TZOFFSETTO:+0100
TZNAME:CET
DTSTART:20251026T010000
END:STANDARD
BEGIN:DAYLIGHT
TZOFFSETFROM:+0100
TZOFFSETTO:+0200
TZNAME:CEST
DTSTART:20260329T010000
END:DAYLIGHT
BEGIN:STANDARD
TZOFFSETFROM:+0200
TZOFFSETTO:+0100
TZNAME:CET
DTSTART:20261025T010000
END:STANDARD
END:VTIMEZONE
BEGIN:VEVENT
DTSTART;TZID=Europe/Oslo:20251014T130000
DTEND;TZID=Europe/Oslo:20251014T150000
DTSTAMP:20260422T064804
CREATED:20250829T075343Z
LAST-MODIFIED:20250829T080041Z
UID:10004048-1760446800-1760454000@tyholmenfrivilligsentral.no
SUMMARY:Får i kål
DESCRIPTION:Velkommen til god hjemmelaget middag\, sosialt fellesskap i hyggelige omgivelser. \nKl. 13:30-kl. 15:00 \nMiddag kr. 100.- \nDessert kr. 25.- \nKaffe m/påfyll kr. 25.-
URL:https://tyholmenfrivilligsentral.no/aktivitet/kyllingfrikase/
END:VEVENT
BEGIN:VEVENT
DTSTART;TZID=Europe/Oslo:20251014T133000
DTEND;TZID=Europe/Oslo:20251014T150000
DTSTAMP:20260422T064804
CREATED:20250829T080629Z
LAST-MODIFIED:20250829T080629Z
UID:10004051-1760448600-1760454000@tyholmenfrivilligsentral.no
SUMMARY:Får i kål
DESCRIPTION:Velkommen til god hjemmelaget middag\, sosialt fellesskap i hyggelige omgivelser. \nKl. 13:30-kl. 15:00 \nMiddag kr. 100.- \nDessert kr. 25.- \nKaffe m/påfyll kr. 25.-
URL:https://tyholmenfrivilligsentral.no/aktivitet/far-i-kal/
ATTACH;FMTTYPE=image/png:https://tyholmenfrivilligsentral.no/wp-content/uploads/2022/10/bankekjott.png
END:VEVENT
END:VCALENDAR