BEGIN:VCALENDAR
VERSION:2.0
PRODID:-//Tyholmen Frivilligsentral - ECPv6.15.18//NONSGML v1.0//EN
CALSCALE:GREGORIAN
METHOD:PUBLISH
X-ORIGINAL-URL:https://tyholmenfrivilligsentral.no
X-WR-CALDESC:Arrangement for Tyholmen Frivilligsentral
REFRESH-INTERVAL;VALUE=DURATION:PT1H
X-Robots-Tag:noindex
X-PUBLISHED-TTL:PT1H
BEGIN:VTIMEZONE
TZID:Europe/Oslo
BEGIN:DAYLIGHT
TZOFFSETFROM:+0100
TZOFFSETTO:+0200
TZNAME:CEST
DTSTART:20240331T010000
END:DAYLIGHT
BEGIN:STANDARD
TZOFFSETFROM:+0200
TZOFFSETTO:+0100
TZNAME:CET
DTSTART:20241027T010000
END:STANDARD
BEGIN:DAYLIGHT
TZOFFSETFROM:+0100
TZOFFSETTO:+0200
TZNAME:CEST
DTSTART:20250330T010000
END:DAYLIGHT
BEGIN:STANDARD
TZOFFSETFROM:+0200
TZOFFSETTO:+0100
TZNAME:CET
DTSTART:20251026T010000
END:STANDARD
BEGIN:DAYLIGHT
TZOFFSETFROM:+0100
TZOFFSETTO:+0200
TZNAME:CEST
DTSTART:20260329T010000
END:DAYLIGHT
BEGIN:STANDARD
TZOFFSETFROM:+0200
TZOFFSETTO:+0100
TZNAME:CET
DTSTART:20261025T010000
END:STANDARD
END:VTIMEZONE
BEGIN:VEVENT
DTSTART;VALUE=DATE:20250520
DTEND;VALUE=DATE:20250524
DTSTAMP:20260422T235916
CREATED:20250311T230636Z
LAST-MODIFIED:20250311T230636Z
UID:10000032-1747706400-1747965599@tyholmenfrivilligsentral.no
SUMMARY:Bli med på Kieltur 20.–22. mai 2025!
DESCRIPTION:Endelig er det klart for en ny tur til Kiel\, og her er informasjon om hva som er inkludert: \n🚍 Reise: Vi tar expressbussen fra Harebakken kl. 07:55\, som kjører helt frem til terminalen i Oslo. \n🛳 På båten er inkludert:\n✔️ To-retters middag begge kvelder (inkl. et glass vin e.l.)\n✔️ Første kveld: Reservert bord i Show Lounge + én drink\n✔️ Frokost er valgfritt \n💰 Pris per person:\n– Alt inkludert (delt innvendig lugar + frokost) – kr. **3 825\,-**\n– Uten frokost (delt innvendig lugar) – kr. **3 380\,-**\n– Tillegg for lugar mot promenaden: + kr. **300\,-** per person \n📌 Påmelding & betaling:\n– Bindende påmelding innen 3. april\n– Betal til kontonummer 2895.43.01429\n– Merk betalingen med «TUR» \n🎉 Vi håper du/dere vil være med! Dette er en sosial og hyggelig tur\, med mulighet for å gå i land og utforske Kiel. Husk at pass er påkrevd hvis du skal i land. \n📞 Spørsmål?\nKontakt Aud på tlf. 939 16 843\nPåmelding gjøres til kontoret v/Anne \nVel møtt til en flott tur! 🚢✨
URL:https://tyholmenfrivilligsentral.no/aktivitet/bli-med-pa-kieltur-20-22-mai-2025/
CATEGORIES:2025
ATTACH;FMTTYPE=image/webp:https://tyholmenfrivilligsentral.no/wp-content/uploads/2025/03/kielfergen.webp
END:VEVENT
BEGIN:VEVENT
DTSTART;TZID=Europe/Oslo:20250520T133000
DTEND;TZID=Europe/Oslo:20250520T150000
DTSTAMP:20260422T235916
CREATED:20250317T114807Z
LAST-MODIFIED:20250317T120317Z
UID:10000044-1747747800-1747753200@tyholmenfrivilligsentral.no
SUMMARY:Dagens middag: Kylling🍗🍽️  – Velkommen!
DESCRIPTION:🍽️ Velkommen til middag hos Tyholmen Frivilligsentral! 🍽️ \nDagens middag: Kylling🍗🍽️  \n📅 Hver tirsdag kl. 13:30 – 15:00\nAlltid hjemmelaget\, nydelig mat! 🥘 \n💰 Priser:\n✅ Middag: kr. 100\,-\n✅ Dessert: kr. 25\,-\n✅ Kaffe: kr. 25\,- \n☕ Vi serverer også enkel varm mat på torsdagskafeen og fredagskafe kl. 12:00 – ca. 14:00. \nVelkommen til gode måltider og hyggelig fellesskap! 😊 \n  \nIngen mat smaker bedre enn den en et sjøl – Kjell Aukrust
URL:https://tyholmenfrivilligsentral.no/aktivitet/dagens-middag-kylling%f0%9f%8d%97%f0%9f%8d%bd%ef%b8%8f-velkommen/2025-05-20/
LOCATION:Tyholmen Frivilligsentral\, Nedre Tyholmsvei 7\, Arendal\, Agder\, 4836
CATEGORIES:2025
ATTACH;FMTTYPE=image/jpeg:https://tyholmenfrivilligsentral.no/wp-content/uploads/2025/03/Kyllingmiddag-filet.jpg
END:VEVENT
END:VCALENDAR