BEGIN:VCALENDAR
VERSION:2.0
PRODID:-//Tyholmen Frivilligsentral - ECPv6.15.18//NONSGML v1.0//EN
CALSCALE:GREGORIAN
METHOD:PUBLISH
X-ORIGINAL-URL:https://tyholmenfrivilligsentral.no
X-WR-CALDESC:Arrangement for Tyholmen Frivilligsentral
REFRESH-INTERVAL;VALUE=DURATION:PT1H
X-Robots-Tag:noindex
X-PUBLISHED-TTL:PT1H
BEGIN:VTIMEZONE
TZID:Europe/Oslo
BEGIN:DAYLIGHT
TZOFFSETFROM:+0100
TZOFFSETTO:+0200
TZNAME:CEST
DTSTART:20240331T010000
END:DAYLIGHT
BEGIN:STANDARD
TZOFFSETFROM:+0200
TZOFFSETTO:+0100
TZNAME:CET
DTSTART:20241027T010000
END:STANDARD
BEGIN:DAYLIGHT
TZOFFSETFROM:+0100
TZOFFSETTO:+0200
TZNAME:CEST
DTSTART:20250330T010000
END:DAYLIGHT
BEGIN:STANDARD
TZOFFSETFROM:+0200
TZOFFSETTO:+0100
TZNAME:CET
DTSTART:20251026T010000
END:STANDARD
BEGIN:DAYLIGHT
TZOFFSETFROM:+0100
TZOFFSETTO:+0200
TZNAME:CEST
DTSTART:20260329T010000
END:DAYLIGHT
BEGIN:STANDARD
TZOFFSETFROM:+0200
TZOFFSETTO:+0100
TZNAME:CET
DTSTART:20261025T010000
END:STANDARD
END:VTIMEZONE
BEGIN:VEVENT
DTSTART;TZID=Europe/Oslo:20250513T133000
DTEND;TZID=Europe/Oslo:20250513T150000
DTSTAMP:20260422T235909
CREATED:20250317T130959Z
LAST-MODIFIED:20250317T131347Z
UID:10000060-1747143000-1747148400@tyholmenfrivilligsentral.no
SUMMARY:Dagens: Laksemiddag kun 100 kr 🐟🍽️ – Smakfull middag til en god pris! Velkommen!
DESCRIPTION:🍽️ Velkommen til middag hos Tyholmen Frivilligsentral! 🍽️ \nLaksemiddag kun 100 kr 🐟🍽️  \n📅 Hver tirsdag kl. 13:30 – 15:00\nAlltid hjemmelaget\, nydelig mat! 🥘 \n💰 Priser:\n✅ Middag: kr. 100\,-\n✅ Dessert: kr. 25\,-\n✅ Kaffe: kr. 25\,- \n☕ Vi serverer også enkel varm mat på torsdagskafeen og fredagskafe kl. 12:00 – ca. 14:00. \nVelkommen til gode måltider og hyggelig fellesskap! 😊 \n  \nIngen mat smaker bedre enn den en et sjøl – Kjell Aukrust
URL:https://tyholmenfrivilligsentral.no/aktivitet/dagens-laks-kun-100-kr-%f0%9f%90%9f%f0%9f%8d%bd%ef%b8%8f-smakfull-middag-til-en-god-pris-velkommen/
LOCATION:Tyholmen Frivilligsentral\, Nedre Tyholmsvei 7\, Arendal\, Agder\, 4836
CATEGORIES:2025
ATTACH;FMTTYPE=image/jpeg:https://tyholmenfrivilligsentral.no/wp-content/uploads/2025/03/hjemmelaget-laksemiddag-med-poteter-og-tilbehor.jpg
END:VEVENT
END:VCALENDAR