BEGIN:VCALENDAR
VERSION:2.0
PRODID:-//Tyholmen Frivilligsentral - ECPv6.15.18//NONSGML v1.0//EN
CALSCALE:GREGORIAN
METHOD:PUBLISH
X-ORIGINAL-URL:https://tyholmenfrivilligsentral.no
X-WR-CALDESC:Arrangement for Tyholmen Frivilligsentral
REFRESH-INTERVAL;VALUE=DURATION:PT1H
X-Robots-Tag:noindex
X-PUBLISHED-TTL:PT1H
BEGIN:VTIMEZONE
TZID:Europe/Oslo
BEGIN:DAYLIGHT
TZOFFSETFROM:+0100
TZOFFSETTO:+0200
TZNAME:CEST
DTSTART:20240331T010000
END:DAYLIGHT
BEGIN:STANDARD
TZOFFSETFROM:+0200
TZOFFSETTO:+0100
TZNAME:CET
DTSTART:20241027T010000
END:STANDARD
BEGIN:DAYLIGHT
TZOFFSETFROM:+0100
TZOFFSETTO:+0200
TZNAME:CEST
DTSTART:20250330T010000
END:DAYLIGHT
BEGIN:STANDARD
TZOFFSETFROM:+0200
TZOFFSETTO:+0100
TZNAME:CET
DTSTART:20251026T010000
END:STANDARD
BEGIN:DAYLIGHT
TZOFFSETFROM:+0100
TZOFFSETTO:+0200
TZNAME:CEST
DTSTART:20260329T010000
END:DAYLIGHT
BEGIN:STANDARD
TZOFFSETFROM:+0200
TZOFFSETTO:+0100
TZNAME:CET
DTSTART:20261025T010000
END:STANDARD
END:VTIMEZONE
BEGIN:VEVENT
DTSTART;TZID=Europe/Oslo:20250425T110000
DTEND;TZID=Europe/Oslo:20250425T130000
DTSTAMP:20260423T050950
CREATED:20250402T180955Z
LAST-MODIFIED:20250402T191004Z
UID:10004043-1745578800-1745586000@tyholmenfrivilligsentral.no
SUMMARY:📱💻 Drop-in Netthjelp i 2 etg. 💡
DESCRIPTION:Trenger du hjelp med telefon\, nettbrett eller data? Vi tilbyr gratis veiledning og støtte! \n🗓 Tid og sted: \n\nTirsdag 8. april\, kl. 11:00 – 13:00\nFredag 25. april\, kl. 11:00 – 13:00\n\n📍 Sted: Tyholmen Frivilligsentral \nUansett om det gjelder innlogging på offentlige sider\, nettbank\, e-post eller andre digitale utfordringer – vi hjelper deg med det du trenger! \n🤝 Digital oppdatering og støtte kan gjøre en stor forskjell i hverdagen. Å føle seg trygg på bruk av teknologi gir bedre kontakt med både familie og samfunnet\, og sikrer at du får tilgang til viktige tjenester. \nKom innom – vi hjelper deg gjerne! 😊
URL:https://tyholmenfrivilligsentral.no/aktivitet/%f0%9f%93%b1%f0%9f%92%bb-drop-in-netthjelp-fra-arendal-senioruniversitetet-%f0%9f%92%a1/2025-04-25/
LOCATION:Tyholmen Frivilligsentral\, Nedre Tyholmsvei 7\, Arendal\, Agder\, 4836
CATEGORIES:2025
ATTACH;FMTTYPE=image/jpeg:https://tyholmenfrivilligsentral.no/wp-content/uploads/2022/10/Dataopplaering-senior.jpg
END:VEVENT
BEGIN:VEVENT
DTSTART;TZID=Europe/Oslo:20250425T120000
DTEND;TZID=Europe/Oslo:20250425T143000
DTSTAMP:20260423T050950
CREATED:20250319T131405Z
LAST-MODIFIED:20250319T131405Z
UID:10000867-1745582400-1745591400@tyholmenfrivilligsentral.no
SUMMARY:ÅPEN Fredagskafé – Koselig samling hver uke! ☕🍞🎂
DESCRIPTION:Bli med på vår «ÅPEN Fredagskafé» kl. 12:00 – 14:30! Vi serverer deilige smørbrød\, rundstykker og forskjellige kaker 🎂\, samt masse kaffe ☕. Kom alene eller ta med en venn – alle er velkomne til hyggelige samtaler og en sosial pause! 🤗👥 \nPerfekt måte å starte helgen på! Velkommen til en smakfull og uformell fredag! 🌟
URL:https://tyholmenfrivilligsentral.no/aktivitet/apen-fredagskafe-koselig-samling-hver-uke-%e2%98%95%f0%9f%8d%9e%f0%9f%8e%82-2/2025-04-25/
LOCATION:Tyholmen Frivilligsentral\, Nedre Tyholmsvei 7\, Arendal\, Agder\, 4836
CATEGORIES:2025
ATTACH;FMTTYPE=image/jpeg:https://tyholmenfrivilligsentral.no/wp-content/uploads/2025/03/IMG_4238-scaled.jpg
END:VEVENT
END:VCALENDAR